BEGIN:VCALENDAR
VERSION:2.0
PRODID:-//jEvents 2.0 for Joomla//EN
CALSCALE:GREGORIAN
METHOD:PUBLISH
BEGIN:VTIMEZONE
TZID:America/Toronto
BEGIN:STANDARD
DTSTART:20231105T010000
RDATE:20240310T030000
TZOFFSETFROM:-0400
TZOFFSETTO:-0500
TZNAME:America/Toronto EST
END:STANDARD
BEGIN:STANDARD
DTSTART:20241103T010000
RDATE:20250309T030000
TZOFFSETFROM:-0400
TZOFFSETTO:-0500
TZNAME:America/Toronto EST
END:STANDARD
BEGIN:STANDARD
DTSTART:20251102T010000
RDATE:20260308T030000
TZOFFSETFROM:-0400
TZOFFSETTO:-0500
TZNAME:America/Toronto EST
END:STANDARD
BEGIN:STANDARD
DTSTART:20261101T010000
RDATE:20270314T030000
TZOFFSETFROM:-0400
TZOFFSETTO:-0500
TZNAME:America/Toronto EST
END:STANDARD
BEGIN:STANDARD
DTSTART:20271107T010000
RDATE:20280312T030000
TZOFFSETFROM:-0400
TZOFFSETTO:-0500
TZNAME:America/Toronto EST
END:STANDARD
BEGIN:STANDARD
DTSTART:20281105T010000
RDATE:20290311T030000
TZOFFSETFROM:-0400
TZOFFSETTO:-0500
TZNAME:America/Toronto EST
END:STANDARD
BEGIN:STANDARD
DTSTART:20291104T010000
RDATE:20300310T030000
TZOFFSETFROM:-0400
TZOFFSETTO:-0500
TZNAME:America/Toronto EST
END:STANDARD
BEGIN:STANDARD
DTSTART:20301103T010000
RDATE:20310309T030000
TZOFFSETFROM:-0400
TZOFFSETTO:-0500
TZNAME:America/Toronto EST
END:STANDARD
BEGIN:STANDARD
DTSTART:20311102T010000
RDATE:20320314T030000
TZOFFSETFROM:-0400
TZOFFSETTO:-0500
TZNAME:America/Toronto EST
END:STANDARD
BEGIN:DAYLIGHT
DTSTART:20231025T190000
RDATE:20231105T010000
TZOFFSETFROM:-0500
TZOFFSETTO:-0400
TZNAME:America/Toronto EDT
END:DAYLIGHT
BEGIN:DAYLIGHT
DTSTART:20240310T030000
RDATE:20241103T010000
TZOFFSETFROM:-0500
TZOFFSETTO:-0400
TZNAME:America/Toronto EDT
END:DAYLIGHT
BEGIN:DAYLIGHT
DTSTART:20250309T030000
RDATE:20251102T010000
TZOFFSETFROM:-0500
TZOFFSETTO:-0400
TZNAME:America/Toronto EDT
END:DAYLIGHT
BEGIN:DAYLIGHT
DTSTART:20260308T030000
RDATE:20261101T010000
TZOFFSETFROM:-0500
TZOFFSETTO:-0400
TZNAME:America/Toronto EDT
END:DAYLIGHT
BEGIN:DAYLIGHT
DTSTART:20270314T030000
RDATE:20271107T010000
TZOFFSETFROM:-0500
TZOFFSETTO:-0400
TZNAME:America/Toronto EDT
END:DAYLIGHT
BEGIN:DAYLIGHT
DTSTART:20280312T030000
RDATE:20281105T010000
TZOFFSETFROM:-0500
TZOFFSETTO:-0400
TZNAME:America/Toronto EDT
END:DAYLIGHT
BEGIN:DAYLIGHT
DTSTART:20290311T030000
RDATE:20291104T010000
TZOFFSETFROM:-0500
TZOFFSETTO:-0400
TZNAME:America/Toronto EDT
END:DAYLIGHT
BEGIN:DAYLIGHT
DTSTART:20300310T030000
RDATE:20301103T010000
TZOFFSETFROM:-0500
TZOFFSETTO:-0400
TZNAME:America/Toronto EDT
END:DAYLIGHT
BEGIN:DAYLIGHT
DTSTART:20310309T030000
RDATE:20311102T010000
TZOFFSETFROM:-0500
TZOFFSETTO:-0400
TZNAME:America/Toronto EDT
END:DAYLIGHT
END:VTIMEZONE
BEGIN:VEVENT
UID:b0dda8e876c41dec9b2e4e8b7f5954ed
CATEGORIES:Durham Events
CREATED:20241016T123939
SUMMARY:Bright Comet Observing Party
LOCATION:Millennium Square\, south end of Liverpool Road\, Pickering
DESCRIPTION:Join us at Millennium Square, at the south end of Liverpool Road in Pickeri
 ng, to observe one of brightest comets to come our way in decades! Comet C/
 2023 A3 (Tsuchinshan–ATLAS) (https://www.skyatnightmagazine.com/advice/come
 t-c-2023-a3-tsuchinshan-atlas) is gracing our western sky after sunset and 
 it might be bright enough to be seen by eye alone! We will have binoculars 
 and telescopes there to give you exceptional views.\nRegistration is not re
 quired, and there is no charge to attend (donations welcomed). Please check
  our website rascto.ca for a Go/No-Go decision based on the weather before 
 heading down to the Square. In the event of bad weather, we will postpone a
 nd try again on Saturday, Oct. 26.\n \n
X-ALT-DESC;FMTTYPE=text/html:<p>Join us at Millennium Square, at the south end of Liverpool Road in Pick
 ering, to observe one of brightest comets to come our way in decades! <a hr
 ef="https://www.skyatnightmagazine.com/advice/comet-c-2023-a3-tsuchinshan-a
 tlas">Comet C/2023 A3<strong> </strong>(Tsuchinshan–ATLAS)</a> is gracing o
 ur western sky after sunset and it might be bright enough to be seen by eye
  alone! We will have binoculars and telescopes there to give you exceptiona
 l views.</p><p>Registration is not required, and there is no charge to atte
 nd (donations welcomed). Please check our website rascto.ca for a Go/No-Go 
 decision based on the weather before heading down to the Square. In the eve
 nt of bad weather, we will postpone and try again on Saturday, Oct. 26.</p>
 <p> </p>
CONTACT:This email address is being protected from spambots. You need JavaScript enabled to view it.
X-EXTRAINFO:Brought to you by The Royal Astronomical Society of Canada, Toronto Centre
DTSTAMP:20260422T154741
DTSTART;TZID=America/Toronto:20241025T190000
DTEND;TZID=America/Toronto:20241025T223000
SEQUENCE:0
TRANSP:OPAQUE
END:VEVENT
END:VCALENDAR