BEGIN:VCALENDAR
VERSION:2.0
PRODID:-//jEvents 2.0 for Joomla//EN
CALSCALE:GREGORIAN
METHOD:PUBLISH
BEGIN:VTIMEZONE
TZID:America/Toronto
BEGIN:STANDARD
DTSTART:20240222T180000
RDATE:20240310T030000
TZOFFSETFROM:-0400
TZOFFSETTO:-0500
TZNAME:America/Toronto EST
END:STANDARD
BEGIN:STANDARD
DTSTART:20241103T010000
RDATE:20250309T030000
TZOFFSETFROM:-0400
TZOFFSETTO:-0500
TZNAME:America/Toronto EST
END:STANDARD
BEGIN:STANDARD
DTSTART:20251102T010000
RDATE:20260308T030000
TZOFFSETFROM:-0400
TZOFFSETTO:-0500
TZNAME:America/Toronto EST
END:STANDARD
BEGIN:STANDARD
DTSTART:20261101T010000
RDATE:20270314T030000
TZOFFSETFROM:-0400
TZOFFSETTO:-0500
TZNAME:America/Toronto EST
END:STANDARD
BEGIN:STANDARD
DTSTART:20271107T010000
RDATE:20280312T030000
TZOFFSETFROM:-0400
TZOFFSETTO:-0500
TZNAME:America/Toronto EST
END:STANDARD
BEGIN:STANDARD
DTSTART:20281105T010000
RDATE:20290311T030000
TZOFFSETFROM:-0400
TZOFFSETTO:-0500
TZNAME:America/Toronto EST
END:STANDARD
BEGIN:STANDARD
DTSTART:20291104T010000
RDATE:20300310T030000
TZOFFSETFROM:-0400
TZOFFSETTO:-0500
TZNAME:America/Toronto EST
END:STANDARD
BEGIN:STANDARD
DTSTART:20301103T010000
RDATE:20310309T030000
TZOFFSETFROM:-0400
TZOFFSETTO:-0500
TZNAME:America/Toronto EST
END:STANDARD
BEGIN:STANDARD
DTSTART:20311102T010000
RDATE:20320314T030000
TZOFFSETFROM:-0400
TZOFFSETTO:-0500
TZNAME:America/Toronto EST
END:STANDARD
BEGIN:DAYLIGHT
DTSTART:20240310T030000
RDATE:20241103T010000
TZOFFSETFROM:-0500
TZOFFSETTO:-0400
TZNAME:America/Toronto EDT
END:DAYLIGHT
BEGIN:DAYLIGHT
DTSTART:20250309T030000
RDATE:20251102T010000
TZOFFSETFROM:-0500
TZOFFSETTO:-0400
TZNAME:America/Toronto EDT
END:DAYLIGHT
BEGIN:DAYLIGHT
DTSTART:20260308T030000
RDATE:20261101T010000
TZOFFSETFROM:-0500
TZOFFSETTO:-0400
TZNAME:America/Toronto EDT
END:DAYLIGHT
BEGIN:DAYLIGHT
DTSTART:20270314T030000
RDATE:20271107T010000
TZOFFSETFROM:-0500
TZOFFSETTO:-0400
TZNAME:America/Toronto EDT
END:DAYLIGHT
BEGIN:DAYLIGHT
DTSTART:20280312T030000
RDATE:20281105T010000
TZOFFSETFROM:-0500
TZOFFSETTO:-0400
TZNAME:America/Toronto EDT
END:DAYLIGHT
BEGIN:DAYLIGHT
DTSTART:20290311T030000
RDATE:20291104T010000
TZOFFSETFROM:-0500
TZOFFSETTO:-0400
TZNAME:America/Toronto EDT
END:DAYLIGHT
BEGIN:DAYLIGHT
DTSTART:20300310T030000
RDATE:20301103T010000
TZOFFSETFROM:-0500
TZOFFSETTO:-0400
TZNAME:America/Toronto EDT
END:DAYLIGHT
BEGIN:DAYLIGHT
DTSTART:20310309T030000
RDATE:20311102T010000
TZOFFSETFROM:-0500
TZOFFSETTO:-0400
TZNAME:America/Toronto EDT
END:DAYLIGHT
END:VTIMEZONE
BEGIN:VEVENT
UID:33de573bcd93246ea9fa082d6577260e
CATEGORIES:Durham Events
CREATED:20241129T143029
SUMMARY:Heart to Heart Gala - 20 Years of Inspiring Hope
LOCATION:Deer Creek Golf &amp; Banquet Facility\, Ajax
DESCRIPTION:Join us for an elegant evening including 3-course dinner with wine, DJ-Danc
 e, live auction, and the ever-popular balloon prizes and Heads or Tails gam
 e!\nTickets are $120 each. Visit https://trellis.org/hearttoheartgala2025 (
 https://trellis.org/hearttoheartgala2025) to purchase your tickets today!\n
 If you are unable to attend in person, the event website gives you access t
 o our online 50/50 draw, our online silent auction which goes live February
  14th, and new this year, we will have exciting online raffles!\nTo donate 
 items, or if you are unable to purchase your tickets online, please contact
  Tania McClean, 905-725-3513 x 121 or This email address is being protected
  from spambots. You need JavaScript enabled to view it.\n
X-ALT-DESC;FMTTYPE=text/html:<p>Join us for an elegant evening including 3-course dinner with wine, DJ-D
 ance, live auction, and the ever-popular balloon prizes and Heads or Tails 
 game!</p><p>Tickets are $120 each. Visit <a href="https://trellis.org/heart
 toheartgala2025">https://trellis.org/hearttoheartgala2025</a> to purchase y
 our tickets today!</p><p>If you are unable to attend in person, the event w
 ebsite gives you access to our online 50/50 draw, our online silent auction
  which goes live February 14th, and new this year, we will have exciting on
 line raffles!</p><p>To donate items, or if you are unable to purchase your 
 tickets online, please contact Tania McClean, 905-725-3513 x 121 or <joomla
 -hidden-mail  is-link="1" is-email="1" first="dC5tY2NsZWFu" last="Y2ZzZHVya
 GFtLmNvbQ==" text="dC5tY2NsZWFuQGNmc2R1cmhhbS5jb20=" base="" >This email ad
 dress is being protected from spambots. You need JavaScript enabled to view
  it.</joomla-hidden-mail></p>
CONTACT:Tania McClean
DTSTAMP:20260421T134047
DTSTART;TZID=America/Toronto:20250222T180000
DTEND;TZID=America/Toronto:20250222T233000
SEQUENCE:0
TRANSP:OPAQUE
END:VEVENT
END:VCALENDAR