BEGIN:VCALENDAR
VERSION:2.0
PRODID:-//jEvents 2.0 for Joomla//EN
CALSCALE:GREGORIAN
METHOD:PUBLISH
BEGIN:VTIMEZONE
TZID:America/Toronto
BEGIN:STANDARD
DTSTART:20240228T193000
RDATE:20240310T030000
TZOFFSETFROM:-0400
TZOFFSETTO:-0500
TZNAME:America/Toronto EST
END:STANDARD
BEGIN:STANDARD
DTSTART:20241103T010000
RDATE:20250309T030000
TZOFFSETFROM:-0400
TZOFFSETTO:-0500
TZNAME:America/Toronto EST
END:STANDARD
BEGIN:STANDARD
DTSTART:20251102T010000
RDATE:20260308T030000
TZOFFSETFROM:-0400
TZOFFSETTO:-0500
TZNAME:America/Toronto EST
END:STANDARD
BEGIN:STANDARD
DTSTART:20261101T010000
RDATE:20270314T030000
TZOFFSETFROM:-0400
TZOFFSETTO:-0500
TZNAME:America/Toronto EST
END:STANDARD
BEGIN:STANDARD
DTSTART:20271107T010000
RDATE:20280312T030000
TZOFFSETFROM:-0400
TZOFFSETTO:-0500
TZNAME:America/Toronto EST
END:STANDARD
BEGIN:STANDARD
DTSTART:20281105T010000
RDATE:20290311T030000
TZOFFSETFROM:-0400
TZOFFSETTO:-0500
TZNAME:America/Toronto EST
END:STANDARD
BEGIN:STANDARD
DTSTART:20291104T010000
RDATE:20300310T030000
TZOFFSETFROM:-0400
TZOFFSETTO:-0500
TZNAME:America/Toronto EST
END:STANDARD
BEGIN:STANDARD
DTSTART:20301103T010000
RDATE:20310309T030000
TZOFFSETFROM:-0400
TZOFFSETTO:-0500
TZNAME:America/Toronto EST
END:STANDARD
BEGIN:STANDARD
DTSTART:20311102T010000
RDATE:20320314T030000
TZOFFSETFROM:-0400
TZOFFSETTO:-0500
TZNAME:America/Toronto EST
END:STANDARD
BEGIN:DAYLIGHT
DTSTART:20240310T030000
RDATE:20241103T010000
TZOFFSETFROM:-0500
TZOFFSETTO:-0400
TZNAME:America/Toronto EDT
END:DAYLIGHT
BEGIN:DAYLIGHT
DTSTART:20250309T030000
RDATE:20251102T010000
TZOFFSETFROM:-0500
TZOFFSETTO:-0400
TZNAME:America/Toronto EDT
END:DAYLIGHT
BEGIN:DAYLIGHT
DTSTART:20260308T030000
RDATE:20261101T010000
TZOFFSETFROM:-0500
TZOFFSETTO:-0400
TZNAME:America/Toronto EDT
END:DAYLIGHT
BEGIN:DAYLIGHT
DTSTART:20270314T030000
RDATE:20271107T010000
TZOFFSETFROM:-0500
TZOFFSETTO:-0400
TZNAME:America/Toronto EDT
END:DAYLIGHT
BEGIN:DAYLIGHT
DTSTART:20280312T030000
RDATE:20281105T010000
TZOFFSETFROM:-0500
TZOFFSETTO:-0400
TZNAME:America/Toronto EDT
END:DAYLIGHT
BEGIN:DAYLIGHT
DTSTART:20290311T030000
RDATE:20291104T010000
TZOFFSETFROM:-0500
TZOFFSETTO:-0400
TZNAME:America/Toronto EDT
END:DAYLIGHT
BEGIN:DAYLIGHT
DTSTART:20300310T030000
RDATE:20301103T010000
TZOFFSETFROM:-0500
TZOFFSETTO:-0400
TZNAME:America/Toronto EDT
END:DAYLIGHT
BEGIN:DAYLIGHT
DTSTART:20310309T030000
RDATE:20311102T010000
TZOFFSETFROM:-0500
TZOFFSETTO:-0400
TZNAME:America/Toronto EDT
END:DAYLIGHT
END:VTIMEZONE
BEGIN:VEVENT
UID:394897b3a77876bcf967d51dbd96eeff
CATEGORIES:Durham Events
CREATED:20241210T114045
SUMMARY:Eli Young Band 
LOCATION:44 Bond St E\, Oshawa\, ON L1G 1B1
DESCRIPTION:The multi-platinum country band Eli Young Band is set to bring their signat
 ure Texas-rock edge fused with modern country to Ontario in 2025. With over
  two decades of chart-topping success, Mike Eli, James Young, Jon Jones, an
 d Chris Thompson continue to captivate audiences across the globe. The band
  will perform in Oshawa on February 28 at the BOND|ST Event Centre and in K
 itchener on March 1 at Elements Night Club. Country music fans can expect a
 n unforgettable night of hits including “Drunk Last Night,” “Even If It Bre
 aks Your Heart,” “Crazy Girl,” “Love Ain’t,” and many more!\nJoining them a
 s special guests for the Ontario dates are Hailey Benedict, the guitar-wiel
 ding, Sirius XM and CCMA Award-winning artist, and Alexa Goldie, the CMAO-n
 ominated rising star. Both artists are making their mark in country music, 
 ready to showcase their unique and distinctive sounds — making these tour s
 tops a must-see!\n
X-ALT-DESC;FMTTYPE=text/html:<p>The multi-platinum country band Eli Young Band is set to bring their sig
 nature Texas-rock edge fused with modern country to Ontario in 2025. With o
 ver two decades of chart-topping success, Mike Eli, James Young, Jon Jones,
  and Chris Thompson continue to captivate audiences across the globe. The b
 and will perform in Oshawa on February 28 at the BOND|ST Event Centre and i
 n Kitchener on March 1 at Elements Night Club. Country music fans can expec
 t an unforgettable night of hits including “Drunk Last Night,” “Even If It 
 Breaks Your Heart,” “Crazy Girl,” “Love Ain’t,” and many more!</p><p>Joinin
 g them as special guests for the Ontario dates are Hailey Benedict, the gui
 tar-wielding, Sirius XM and CCMA Award-winning artist, and Alexa Goldie, th
 e CMAO-nominated rising star. Both artists are making their mark in country
  music, ready to showcase their unique and distinctive sounds — making thes
 e tour stops a must-see!</p>
CONTACT:The Concert Factory Inc.
DTSTAMP:20260421T135857
DTSTART;TZID=America/Toronto:20250228T193000
SEQUENCE:0
TRANSP:OPAQUE
END:VEVENT
END:VCALENDAR