BEGIN:VCALENDAR
VERSION:2.0
PRODID:-//jEvents 2.0 for Joomla//EN
CALSCALE:GREGORIAN
METHOD:PUBLISH
BEGIN:VTIMEZONE
TZID:America/Toronto
BEGIN:STANDARD
DTSTART:20241103T010000
RDATE:20250309T030000
TZOFFSETFROM:-0400
TZOFFSETTO:-0500
TZNAME:America/Toronto EST
END:STANDARD
BEGIN:STANDARD
DTSTART:20251102T010000
RDATE:20260308T030000
TZOFFSETFROM:-0400
TZOFFSETTO:-0500
TZNAME:America/Toronto EST
END:STANDARD
BEGIN:STANDARD
DTSTART:20261101T010000
RDATE:20270314T030000
TZOFFSETFROM:-0400
TZOFFSETTO:-0500
TZNAME:America/Toronto EST
END:STANDARD
BEGIN:STANDARD
DTSTART:20271107T010000
RDATE:20280312T030000
TZOFFSETFROM:-0400
TZOFFSETTO:-0500
TZNAME:America/Toronto EST
END:STANDARD
BEGIN:STANDARD
DTSTART:20281105T010000
RDATE:20290311T030000
TZOFFSETFROM:-0400
TZOFFSETTO:-0500
TZNAME:America/Toronto EST
END:STANDARD
BEGIN:STANDARD
DTSTART:20291104T010000
RDATE:20300310T030000
TZOFFSETFROM:-0400
TZOFFSETTO:-0500
TZNAME:America/Toronto EST
END:STANDARD
BEGIN:STANDARD
DTSTART:20301103T010000
RDATE:20310309T030000
TZOFFSETFROM:-0400
TZOFFSETTO:-0500
TZNAME:America/Toronto EST
END:STANDARD
BEGIN:STANDARD
DTSTART:20311102T010000
RDATE:20320314T030000
TZOFFSETFROM:-0400
TZOFFSETTO:-0500
TZNAME:America/Toronto EST
END:STANDARD
BEGIN:DAYLIGHT
DTSTART:20240412T100000
RDATE:20241103T010000
TZOFFSETFROM:-0500
TZOFFSETTO:-0400
TZNAME:America/Toronto EDT
END:DAYLIGHT
BEGIN:DAYLIGHT
DTSTART:20250309T030000
RDATE:20251102T010000
TZOFFSETFROM:-0500
TZOFFSETTO:-0400
TZNAME:America/Toronto EDT
END:DAYLIGHT
BEGIN:DAYLIGHT
DTSTART:20260308T030000
RDATE:20261101T010000
TZOFFSETFROM:-0500
TZOFFSETTO:-0400
TZNAME:America/Toronto EDT
END:DAYLIGHT
BEGIN:DAYLIGHT
DTSTART:20270314T030000
RDATE:20271107T010000
TZOFFSETFROM:-0500
TZOFFSETTO:-0400
TZNAME:America/Toronto EDT
END:DAYLIGHT
BEGIN:DAYLIGHT
DTSTART:20280312T030000
RDATE:20281105T010000
TZOFFSETFROM:-0500
TZOFFSETTO:-0400
TZNAME:America/Toronto EDT
END:DAYLIGHT
BEGIN:DAYLIGHT
DTSTART:20290311T030000
RDATE:20291104T010000
TZOFFSETFROM:-0500
TZOFFSETTO:-0400
TZNAME:America/Toronto EDT
END:DAYLIGHT
BEGIN:DAYLIGHT
DTSTART:20300310T030000
RDATE:20301103T010000
TZOFFSETFROM:-0500
TZOFFSETTO:-0400
TZNAME:America/Toronto EDT
END:DAYLIGHT
BEGIN:DAYLIGHT
DTSTART:20310309T030000
RDATE:20311102T010000
TZOFFSETFROM:-0500
TZOFFSETTO:-0400
TZNAME:America/Toronto EDT
END:DAYLIGHT
END:VTIMEZONE
BEGIN:VEVENT
UID:2a1c0f5cea27a84799dce1f02df824b2
CATEGORIES:Durham Events
CREATED:20250113T101518
SUMMARY:Toronto Bottle $ Antique Show and Sale
LOCATION:1867 Valley Farm Road
DESCRIPTION:The Four Seasons Bottle Collector Club is hosting the 29th annual Toronto B
 ottle &amp; Antique Show and Sale at the Chestnut Hill Recreational Complex
 , Pickering, April 13th .\nJoin us to find treasures, meet other Bottle and
  Pottery enthusiasts and take advantage of the club table for identificatio
 n. \nAntique and vintage bottles, syphons, milks, medicines, sealer jars, p
 op and gingers, stoneware crocks and jugs, even art glass and insulators!  
 \nLocation: 1867 Valley Farm Rd.\nAdmission: $5.00\nThe show runs April 13t
 h 10 am to 2:30 pm\nWe have tried to differentiate from a collector show in
  that we have a section devoted to:\n\n - Historic Displays, Early Canadian
  Fruit Jars, Sodas, Milk Bottles, Medicines, pottery, and their stories, th
 ese are usually based on personal collections\n - Authors section, with the
 ir Canadian reference books, we encourage authors in this field to offer th
 eir books at the show.We hope you can join us!\n
X-ALT-DESC;FMTTYPE=text/html:<p style="font-weight: 400;">The Four Seasons Bottle Collector Club is host
 ing the 29th annual Toronto Bottle &amp; Antique Show and Sale at the Chest
 nut Hill Recreational Complex, Pickering, April 13<sup>th</sup> .</p><p sty
 le="font-weight: 400;">Join us to find treasures, meet other Bottle and Pot
 tery enthusiasts and take advantage of the club table for identification. <
 /p><p style="font-weight: 400;">Antique and vintage bottles, syphons, milks
 , medicines, sealer jars, pop and gingers, stoneware crocks and jugs, even 
 art glass and insulators!  </p><p style="font-weight: 400;">Location: 1867 
 Valley Farm Rd.<br />Admission: $5.00</p><p style="font-weight: 400;">The s
 how runs April 13<sup>th</sup> 10 am to 2:30 pm</p><p style="font-weight: 4
 00;">We have tried to differentiate from a collector show in that we have a
  section devoted to:</p><ul><li>Historic Displays, Early Canadian Fruit Jar
 s, Sodas, Milk Bottles, Medicines, pottery, and their stories, these are us
 ually based on personal collections</li><li>Authors section, with their Can
 adian reference books, we encourage authors in this field to offer their bo
 oks at the show.</li></ul><p style="font-weight: 400;">We hope you can join
  us!</p>
CONTACT:Jon Matheson
X-EXTRAINFO:This event is a collector show with sections for authors in the field and d
 isplays. One of the Historic Displays this year is about the Dairy Industry
  and its part in Canadas war efforts 
DTSTAMP:20260421T155322
DTSTART;TZID=America/Toronto:20250413T100000
DTEND;TZID=America/Toronto:20250413T143000
SEQUENCE:0
TRANSP:OPAQUE
END:VEVENT
END:VCALENDAR