BEGIN:VCALENDAR
VERSION:2.0
PRODID:-//jEvents 2.0 for Joomla//EN
CALSCALE:GREGORIAN
METHOD:PUBLISH
BEGIN:VTIMEZONE
TZID:America/Toronto
BEGIN:STANDARD
DTSTART:20240208T100000
RDATE:20240310T030000
TZOFFSETFROM:-0400
TZOFFSETTO:-0500
TZNAME:America/Toronto EST
END:STANDARD
BEGIN:STANDARD
DTSTART:20241103T010000
RDATE:20250309T030000
TZOFFSETFROM:-0400
TZOFFSETTO:-0500
TZNAME:America/Toronto EST
END:STANDARD
BEGIN:STANDARD
DTSTART:20251102T010000
RDATE:20260308T030000
TZOFFSETFROM:-0400
TZOFFSETTO:-0500
TZNAME:America/Toronto EST
END:STANDARD
BEGIN:STANDARD
DTSTART:20261101T010000
RDATE:20270314T030000
TZOFFSETFROM:-0400
TZOFFSETTO:-0500
TZNAME:America/Toronto EST
END:STANDARD
BEGIN:STANDARD
DTSTART:20271107T010000
RDATE:20280312T030000
TZOFFSETFROM:-0400
TZOFFSETTO:-0500
TZNAME:America/Toronto EST
END:STANDARD
BEGIN:STANDARD
DTSTART:20281105T010000
RDATE:20290311T030000
TZOFFSETFROM:-0400
TZOFFSETTO:-0500
TZNAME:America/Toronto EST
END:STANDARD
BEGIN:STANDARD
DTSTART:20291104T010000
RDATE:20300310T030000
TZOFFSETFROM:-0400
TZOFFSETTO:-0500
TZNAME:America/Toronto EST
END:STANDARD
BEGIN:STANDARD
DTSTART:20301103T010000
RDATE:20310309T030000
TZOFFSETFROM:-0400
TZOFFSETTO:-0500
TZNAME:America/Toronto EST
END:STANDARD
BEGIN:STANDARD
DTSTART:20311102T010000
RDATE:20320314T030000
TZOFFSETFROM:-0400
TZOFFSETTO:-0500
TZNAME:America/Toronto EST
END:STANDARD
BEGIN:DAYLIGHT
DTSTART:20240310T030000
RDATE:20241103T010000
TZOFFSETFROM:-0500
TZOFFSETTO:-0400
TZNAME:America/Toronto EDT
END:DAYLIGHT
BEGIN:DAYLIGHT
DTSTART:20250309T030000
RDATE:20251102T010000
TZOFFSETFROM:-0500
TZOFFSETTO:-0400
TZNAME:America/Toronto EDT
END:DAYLIGHT
BEGIN:DAYLIGHT
DTSTART:20260308T030000
RDATE:20261101T010000
TZOFFSETFROM:-0500
TZOFFSETTO:-0400
TZNAME:America/Toronto EDT
END:DAYLIGHT
BEGIN:DAYLIGHT
DTSTART:20270314T030000
RDATE:20271107T010000
TZOFFSETFROM:-0500
TZOFFSETTO:-0400
TZNAME:America/Toronto EDT
END:DAYLIGHT
BEGIN:DAYLIGHT
DTSTART:20280312T030000
RDATE:20281105T010000
TZOFFSETFROM:-0500
TZOFFSETTO:-0400
TZNAME:America/Toronto EDT
END:DAYLIGHT
BEGIN:DAYLIGHT
DTSTART:20290311T030000
RDATE:20291104T010000
TZOFFSETFROM:-0500
TZOFFSETTO:-0400
TZNAME:America/Toronto EDT
END:DAYLIGHT
BEGIN:DAYLIGHT
DTSTART:20300310T030000
RDATE:20301103T010000
TZOFFSETFROM:-0500
TZOFFSETTO:-0400
TZNAME:America/Toronto EDT
END:DAYLIGHT
BEGIN:DAYLIGHT
DTSTART:20310309T030000
RDATE:20311102T010000
TZOFFSETFROM:-0500
TZOFFSETTO:-0400
TZNAME:America/Toronto EDT
END:DAYLIGHT
END:VTIMEZONE
BEGIN:VEVENT
UID:9edc7e74a403f227d305287c7aaf57ec
CATEGORIES:Durham Events
CREATED:20250121T202448
SUMMARY:Let's Have A Happy Valentine's Day Market
LOCATION:12welve Bistro Events Hall at Brock St. Brewery
DESCRIPTION:Welcome to the Let's Have A Happy Valentine's Day Market! Join us at 12welv
 e Bistro &amp; Tapwerks Brock St. Brewery Saturday, February 8th from 10 am
  to 3 pm for a fun-filled day of shopping, eating, and celebrating love. Ou
 r market will feature a variety of local vendors offering unique gifts perf
 ect for your special someone. From handmade crafts to delicious treats, you
 'll find everything you need to make this Valentine's Day unforgettable. Th
 e first 20 customers get a free loot bag, and there's a raffle for a Valent
 ine's wine gift!\nThe address is 244 Brock St S, Whitby ON (https://www.bin
 g.com/ck/a?!&amp;&amp;p=834933c6349968d723d5a362b952f12c2b34e74da5f6715a0e9
 4d48b6a3f762dJmltdHM9MTczNzQxNzYwMA&amp;ptn=3&amp;ver=2&amp;hsh=4&amp;fclid
 =06113b3a-f516-6d68-29df-2e5bf4856c1c&amp;u=a1L21hcHM_Jm1lcGk9MTAxfn5Vbmtub
 3dufkFkZHJlc3NfTGluayZ0eT0xOCZxPTEyd2VsdmUlMjBCaXN0cm8lMjAlN0MlMjBUYXB3ZXJr
 cyZzcz15cGlkLllOMTIyNngxNjg5MjE4OTg4MDI2NTYxMzI0JnBwb2lzPTQzLjg3NzgzNDMyMDA
 2ODM2Xy03OC45NDE2ODA5MDgyMDMxMl8xMndlbHZlJTIwQmlzdHJvJTIwJTdDJTIwVGFwd2Vya3
 NfWU4xMjI2eDE2ODkyMTg5ODgwMjY1NjEzMjR-JmNwPTQzLjg3NzgzNH4tNzguOTQxNjgxJnY9M
 iZzVj0xJkZPUk09TVBTUlBM&amp;ntb=1), 2nd floor Events Hall. An elevator is o
 n site.\n\nFor any more questions, contact This email address is being prot
 ected from spambots. You need JavaScript enabled to view it. or see Dragonf
 ly Vendor Events by Sarah on Instagram and Facebook.\n
X-ALT-DESC;FMTTYPE=text/html:<p>Welcome to the <strong>Let's Have A Happy Valentine's Day Market</strong
 >! Join us at <strong>12welve Bistro &amp; Tapwerks Brock St. Brewery</stro
 ng> Saturday, February 8th from 10 am to 3 pm for a fun-filled day of shopp
 ing, eating, and celebrating love. Our market will feature a variety of loc
 al vendors offering unique gifts perfect for your special someone. From han
 dmade crafts to delicious treats, you'll find everything you need to make t
 his Valentine's Day unforgettable. The first 20 customers get a free loot b
 ag, and there's a raffle for a Valentine's wine gift!</p><p><span style="fo
 nt-size: 1rem;">The address is <a href="https://www.bing.com/ck/a?!&amp;&am
 p;p=834933c6349968d723d5a362b952f12c2b34e74da5f6715a0e94d48b6a3f762dJmltdHM
 9MTczNzQxNzYwMA&amp;ptn=3&amp;ver=2&amp;hsh=4&amp;fclid=06113b3a-f516-6d68-
 29df-2e5bf4856c1c&amp;u=a1L21hcHM_Jm1lcGk9MTAxfn5Vbmtub3dufkFkZHJlc3NfTGlua
 yZ0eT0xOCZxPTEyd2VsdmUlMjBCaXN0cm8lMjAlN0MlMjBUYXB3ZXJrcyZzcz15cGlkLllOMTIy
 NngxNjg5MjE4OTg4MDI2NTYxMzI0JnBwb2lzPTQzLjg3NzgzNDMyMDA2ODM2Xy03OC45NDE2ODA
 5MDgyMDMxMl8xMndlbHZlJTIwQmlzdHJvJTIwJTdDJTIwVGFwd2Vya3NfWU4xMjI2eDE2ODkyMT
 g5ODgwMjY1NjEzMjR-JmNwPTQzLjg3NzgzNH4tNzguOTQxNjgxJnY9MiZzVj0xJkZPUk09TVBTU
 lBM&amp;ntb=1" target="_blank" rel="noopener" data-h="ID=SERP,5730.1">244 B
 rock St S, Whitby ON</a>, 2nd floor Events Hall. An elevator is on site.<br
  /><br />For any more questions, contact <joomla-hidden-mail  is-link="1" i
 s-email="1" first="RHJhZ29uZmx5ZXZlbnRzYnlzYXJhaA==" last="Z21haWwuY29t" te
 xt="RHJhZ29uZmx5ZXZlbnRzYnlzYXJhaEBnbWFpbC5jb20=" base="" >This email addre
 ss is being protected from spambots. You need JavaScript enabled to view it
 .</joomla-hidden-mail> or see Dragonfly Vendor Events by Sarah on Instagram
  and Facebook.</span></p>
CONTACT:Sarah
X-EXTRAINFO:2nd Floor Events Hall\nOpen stairway and big elevator available. Fantastic 
 restaurant downstairs. Free event.
DTSTAMP:20260421T091057
DTSTART;TZID=America/Toronto:20250208T100000
DTEND;TZID=America/Toronto:20250208T150000
SEQUENCE:0
TRANSP:OPAQUE
END:VEVENT
END:VCALENDAR