BEGIN:VCALENDAR
VERSION:2.0
PRODID:-//jEvents 2.0 for Joomla//EN
CALSCALE:GREGORIAN
METHOD:PUBLISH
BEGIN:VTIMEZONE
TZID:America/Toronto
BEGIN:STANDARD
DTSTART:20241103T010000
RDATE:20250309T030000
TZOFFSETFROM:-0400
TZOFFSETTO:-0500
TZNAME:America/Toronto EST
END:STANDARD
BEGIN:STANDARD
DTSTART:20251102T010000
RDATE:20260308T030000
TZOFFSETFROM:-0400
TZOFFSETTO:-0500
TZNAME:America/Toronto EST
END:STANDARD
BEGIN:STANDARD
DTSTART:20261101T010000
RDATE:20270314T030000
TZOFFSETFROM:-0400
TZOFFSETTO:-0500
TZNAME:America/Toronto EST
END:STANDARD
BEGIN:STANDARD
DTSTART:20271107T010000
RDATE:20280312T030000
TZOFFSETFROM:-0400
TZOFFSETTO:-0500
TZNAME:America/Toronto EST
END:STANDARD
BEGIN:STANDARD
DTSTART:20281105T010000
RDATE:20290311T030000
TZOFFSETFROM:-0400
TZOFFSETTO:-0500
TZNAME:America/Toronto EST
END:STANDARD
BEGIN:STANDARD
DTSTART:20291104T010000
RDATE:20300310T030000
TZOFFSETFROM:-0400
TZOFFSETTO:-0500
TZNAME:America/Toronto EST
END:STANDARD
BEGIN:STANDARD
DTSTART:20301103T010000
RDATE:20310309T030000
TZOFFSETFROM:-0400
TZOFFSETTO:-0500
TZNAME:America/Toronto EST
END:STANDARD
BEGIN:STANDARD
DTSTART:20311102T010000
RDATE:20320314T030000
TZOFFSETFROM:-0400
TZOFFSETTO:-0500
TZNAME:America/Toronto EST
END:STANDARD
BEGIN:DAYLIGHT
DTSTART:20240530T170000
RDATE:20241103T010000
TZOFFSETFROM:-0500
TZOFFSETTO:-0400
TZNAME:America/Toronto EDT
END:DAYLIGHT
BEGIN:DAYLIGHT
DTSTART:20250309T030000
RDATE:20251102T010000
TZOFFSETFROM:-0500
TZOFFSETTO:-0400
TZNAME:America/Toronto EDT
END:DAYLIGHT
BEGIN:DAYLIGHT
DTSTART:20260308T030000
RDATE:20261101T010000
TZOFFSETFROM:-0500
TZOFFSETTO:-0400
TZNAME:America/Toronto EDT
END:DAYLIGHT
BEGIN:DAYLIGHT
DTSTART:20270314T030000
RDATE:20271107T010000
TZOFFSETFROM:-0500
TZOFFSETTO:-0400
TZNAME:America/Toronto EDT
END:DAYLIGHT
BEGIN:DAYLIGHT
DTSTART:20280312T030000
RDATE:20281105T010000
TZOFFSETFROM:-0500
TZOFFSETTO:-0400
TZNAME:America/Toronto EDT
END:DAYLIGHT
BEGIN:DAYLIGHT
DTSTART:20290311T030000
RDATE:20291104T010000
TZOFFSETFROM:-0500
TZOFFSETTO:-0400
TZNAME:America/Toronto EDT
END:DAYLIGHT
BEGIN:DAYLIGHT
DTSTART:20300310T030000
RDATE:20301103T010000
TZOFFSETFROM:-0500
TZOFFSETTO:-0400
TZNAME:America/Toronto EDT
END:DAYLIGHT
BEGIN:DAYLIGHT
DTSTART:20310309T030000
RDATE:20311102T010000
TZOFFSETFROM:-0500
TZOFFSETTO:-0400
TZNAME:America/Toronto EDT
END:DAYLIGHT
END:VTIMEZONE
BEGIN:VEVENT
UID:073221ccd1a5dfe60fd1e47dd0358a94
CATEGORIES:Durham Events
CREATED:20250126T181444
SUMMARY:RURAL ROOTS REVIVAL CONCERT
LOCATION:Orono arena
DESCRIPTION:1st annual RURAL ROOTS REVIVAL CONCERT , ORONO featuring ccma hall of famer
  GEORGE FOX and ccma vocalist of the year GIL GRAND from Nashville Tn\nopen
 ing acts will be local artists Aiden McGill and Mike pollard as your host a
 nd he too will be entertaining with a few of his favourite songs..This even
 t takes place at the orono arena..2 princess street orono\nTickets are $40 
 before may 1 and then price goes up to $50. \nCanteen and dancing\nBring yo
 ur lawn chair.. this event is inside the arena.\nHelping communities and sm
 all buisness and non profitable service clubs with fundraising initiatives 
 and bring canadian Music to the community affordable and accessible\nTicket
 s available\nOrono Country Café\nCarolyns Liquidations oshawa\nSparex farm 
 supply\nRed maple.country market\nRona newcastle \nEmail This email address
  is being protected from spambots. You need JavaScript enabled to view it. 
 \n \n
X-ALT-DESC;FMTTYPE=text/html:<p>1st annual RURAL ROOTS REVIVAL CONCERT , ORONO featuring ccma hall of fa
 mer GEORGE FOX and ccma vocalist of the year GIL GRAND from Nashville Tn</p
 ><p>opening acts will be local artists Aiden McGill and Mike pollard as you
 r host and he too will be entertaining with a few of his favourite songs..T
 his event takes place at the orono arena..2 princess street orono</p><p>Tic
 kets are $40 before may 1 and then price goes up to $50.&nbsp;</p><p>Cantee
 n and dancing</p><p>Bring your lawn chair.. this event is inside the arena.
 </p><p>Helping communities and small buisness and non profitable service cl
 ubs with fundraising initiatives and bring canadian Music to the community 
 affordable and accessible</p><p>Tickets available</p><p>Orono Country Café<
 /p><p>Carolyns Liquidations oshawa</p><p>Sparex farm supply</p><p>Red maple
 .country market</p><p>Rona newcastle&nbsp;</p><p>Email <joomla-hidden-mail 
  is-link="1" is-email="1" first="Li5jbnRyeWdpcmw3NA==" last="aG90bWFpbC5jb2
 0=" text="Li5jbnRyeWdpcmw3NEBob3RtYWlsLmNvbQ==" base="" >This email address
  is being protected from spambots. You need JavaScript enabled to view it.<
 /joomla-hidden-mail>&nbsp;</p><p>&nbsp;</p>
CONTACT:This email address is being protected from spambots. You need JavaScript enabled to view it.
DTSTAMP:20260421T173735
DTSTART;TZID=America/Toronto:20250531T170000
DTEND;TZID=America/Toronto:20250531T230000
SEQUENCE:0
TRANSP:OPAQUE
END:VEVENT
END:VCALENDAR