BEGIN:VCALENDAR
VERSION:2.0
PRODID:-//jEvents 2.0 for Joomla//EN
CALSCALE:GREGORIAN
METHOD:PUBLISH
BEGIN:VTIMEZONE
TZID:America/Toronto
BEGIN:STANDARD
DTSTART:20241103T010000
RDATE:20250309T030000
TZOFFSETFROM:-0400
TZOFFSETTO:-0500
TZNAME:America/Toronto EST
END:STANDARD
BEGIN:STANDARD
DTSTART:20251102T010000
RDATE:20260308T030000
TZOFFSETFROM:-0400
TZOFFSETTO:-0500
TZNAME:America/Toronto EST
END:STANDARD
BEGIN:STANDARD
DTSTART:20261101T010000
RDATE:20270314T030000
TZOFFSETFROM:-0400
TZOFFSETTO:-0500
TZNAME:America/Toronto EST
END:STANDARD
BEGIN:STANDARD
DTSTART:20271107T010000
RDATE:20280312T030000
TZOFFSETFROM:-0400
TZOFFSETTO:-0500
TZNAME:America/Toronto EST
END:STANDARD
BEGIN:STANDARD
DTSTART:20281105T010000
RDATE:20290311T030000
TZOFFSETFROM:-0400
TZOFFSETTO:-0500
TZNAME:America/Toronto EST
END:STANDARD
BEGIN:STANDARD
DTSTART:20291104T010000
RDATE:20300310T030000
TZOFFSETFROM:-0400
TZOFFSETTO:-0500
TZNAME:America/Toronto EST
END:STANDARD
BEGIN:STANDARD
DTSTART:20301103T010000
RDATE:20310309T030000
TZOFFSETFROM:-0400
TZOFFSETTO:-0500
TZNAME:America/Toronto EST
END:STANDARD
BEGIN:STANDARD
DTSTART:20311102T010000
RDATE:20320314T030000
TZOFFSETFROM:-0400
TZOFFSETTO:-0500
TZNAME:America/Toronto EST
END:STANDARD
BEGIN:DAYLIGHT
DTSTART:20240424T180000
RDATE:20241103T010000
TZOFFSETFROM:-0500
TZOFFSETTO:-0400
TZNAME:America/Toronto EDT
END:DAYLIGHT
BEGIN:DAYLIGHT
DTSTART:20250309T030000
RDATE:20251102T010000
TZOFFSETFROM:-0500
TZOFFSETTO:-0400
TZNAME:America/Toronto EDT
END:DAYLIGHT
BEGIN:DAYLIGHT
DTSTART:20260308T030000
RDATE:20261101T010000
TZOFFSETFROM:-0500
TZOFFSETTO:-0400
TZNAME:America/Toronto EDT
END:DAYLIGHT
BEGIN:DAYLIGHT
DTSTART:20270314T030000
RDATE:20271107T010000
TZOFFSETFROM:-0500
TZOFFSETTO:-0400
TZNAME:America/Toronto EDT
END:DAYLIGHT
BEGIN:DAYLIGHT
DTSTART:20280312T030000
RDATE:20281105T010000
TZOFFSETFROM:-0500
TZOFFSETTO:-0400
TZNAME:America/Toronto EDT
END:DAYLIGHT
BEGIN:DAYLIGHT
DTSTART:20290311T030000
RDATE:20291104T010000
TZOFFSETFROM:-0500
TZOFFSETTO:-0400
TZNAME:America/Toronto EDT
END:DAYLIGHT
BEGIN:DAYLIGHT
DTSTART:20300310T030000
RDATE:20301103T010000
TZOFFSETFROM:-0500
TZOFFSETTO:-0400
TZNAME:America/Toronto EDT
END:DAYLIGHT
BEGIN:DAYLIGHT
DTSTART:20310309T030000
RDATE:20311102T010000
TZOFFSETFROM:-0500
TZOFFSETTO:-0400
TZNAME:America/Toronto EDT
END:DAYLIGHT
END:VTIMEZONE
BEGIN:VEVENT
UID:ba4a849cdb7bb04e91236668fb494919
CATEGORIES:Durham Events
CREATED:20250205T102212
SUMMARY:Bethesda House's 20th Annual Dinner & Auction
LOCATION:Newcastle Community Hall
DESCRIPTION:Join Bethesda House for the 20th Annual Dinner &amp; Auction on Friday, Apr
 il 25th at 6 PM at the Newcastle Community Hall (20 King Avenue West, Newca
 stle). This extraordinary event will be filled with joy, laughter, and the 
 powerful spirit of giving back, all in support of Bethesda House.\nEvery bi
 d you place, every dollar you contribute, and every moment you share with u
 s will directly help those affected by gender-based violence. This is your 
 chance to make a lasting difference in the lives of survivors while enjoyin
 g an evening of camaraderie with friends and colleagues.\nWhat's Included:\
 n\n - A selection of delectable hors d'oeuvres\n - A buffet-style dinner fe
 aturing a variety of mouthwatering options\n - A fresh salad bar to complem
 ent your meal\n - A tempting dessert table for the sweet tooth in all of us
 \n - Live musical entertainment to set the mood\n - A captivating guest spe
 aker who will inspire you with their powerful storyAdditionally, there will
  be a cash bar and a chance to bid on amazing items and unique experiences 
 in our silent auction. The online bidding opens on April 4th, giving you an
  exclusive opportunity to start your bidding early!\nWhy Your Support Matte
 rs:\nBy attending this event or participating in the online auction, you’re
  playing a key role in supporting survivors of gender-based violence. Your 
 contributions will allow us to:\n\n - Prevent future violence by funding ed
 ucational programs that raise awareness and promote community outreach.\n -
  Provide critical support through shelter, counseling, and essential servic
 es that help survivors rebuild their lives and regain their independence.Bu
 y a ticket, purchase a table, and bid on the wonderful items and experience
 s: 20th Annual Dinner &amp; Auction (https://trellis.org/20th-annual-dinner
 -auction)\n
X-ALT-DESC;FMTTYPE=text/html:<p>Join Bethesda House for the <strong>20th Annual Dinner &amp; Auction</st
 rong> on <strong>Friday, April 25th at 6 PM</strong> at the <strong>Newcast
 le Community Hall</strong> (20 King Avenue West, Newcastle). This extraordi
 nary event will be filled with joy, laughter, and the powerful spirit of gi
 ving back, all in support of <strong>Bethesda House</strong>.</p><p>Every b
 id you place, every dollar you contribute, and every moment you share with 
 us will directly help those affected by gender-based violence. This is your
  chance to make a lasting difference in the lives of survivors while enjoyi
 ng an evening of camaraderie with friends and colleagues.</p><p><strong>Wha
 t's Included:</strong></p><ul><li>A selection of <strong>delectable hors d'
 oeuvres</strong></li><li>A <strong>buffet-style dinner</strong> featuring a
  variety of mouthwatering options</li><li>A <strong>fresh salad bar</strong
 > to complement your meal</li><li>A <strong>tempting dessert table</strong>
  for the sweet tooth in all of us</li><li><strong>Live musical entertainmen
 t</strong> to set the mood</li><li>A captivating <strong>guest speaker</str
 ong> who will inspire you with their powerful story</li></ul><p>Additionall
 y, there will be a <strong>cash bar</strong> and a chance to bid on <strong
 >amazing items and unique experiences</strong> in our silent auction. The <
 strong>online bidding opens on April 4th</strong>, giving you an exclusive 
 opportunity to start your bidding early!</p><p><strong>Why Your Support Mat
 ters:</strong></p><p>By attending this event or participating in the online
  auction, you’re playing a key role in supporting survivors of gender-based
  violence. Your contributions will allow us to:</p><ul><li><strong>Prevent 
 future violence</strong> by funding educational programs that raise awarene
 ss and promote community outreach.</li><li><strong>Provide critical support
 </strong> through shelter, counseling, and essential services that help sur
 vivors rebuild their lives and regain their independence.</li></ul><p>Buy a
  ticket, purchase a table, and bid on the wonderful items and experiences: 
 <a href="https://trellis.org/20th-annual-dinner-auction">20th Annual Dinner
  &amp; Auction</a></p>
CONTACT:This email address is being protected from spambots. You need JavaScript enabled to view it.
DTSTAMP:20260421T141206
DTSTART;TZID=America/Toronto:20250425T180000
DTEND;TZID=America/Toronto:20250425T210000
SEQUENCE:0
TRANSP:OPAQUE
END:VEVENT
END:VCALENDAR