BEGIN:VCALENDAR
VERSION:2.0
PRODID:-//jEvents 2.0 for Joomla//EN
CALSCALE:GREGORIAN
METHOD:PUBLISH
BEGIN:VTIMEZONE
TZID:America/Toronto
BEGIN:STANDARD
DTSTART:20241103T010000
RDATE:20250309T030000
TZOFFSETFROM:-0400
TZOFFSETTO:-0500
TZNAME:America/Toronto EST
END:STANDARD
BEGIN:STANDARD
DTSTART:20251102T010000
RDATE:20260308T030000
TZOFFSETFROM:-0400
TZOFFSETTO:-0500
TZNAME:America/Toronto EST
END:STANDARD
BEGIN:STANDARD
DTSTART:20261101T010000
RDATE:20270314T030000
TZOFFSETFROM:-0400
TZOFFSETTO:-0500
TZNAME:America/Toronto EST
END:STANDARD
BEGIN:STANDARD
DTSTART:20271107T010000
RDATE:20280312T030000
TZOFFSETFROM:-0400
TZOFFSETTO:-0500
TZNAME:America/Toronto EST
END:STANDARD
BEGIN:STANDARD
DTSTART:20281105T010000
RDATE:20290311T030000
TZOFFSETFROM:-0400
TZOFFSETTO:-0500
TZNAME:America/Toronto EST
END:STANDARD
BEGIN:STANDARD
DTSTART:20291104T010000
RDATE:20300310T030000
TZOFFSETFROM:-0400
TZOFFSETTO:-0500
TZNAME:America/Toronto EST
END:STANDARD
BEGIN:STANDARD
DTSTART:20301103T010000
RDATE:20310309T030000
TZOFFSETFROM:-0400
TZOFFSETTO:-0500
TZNAME:America/Toronto EST
END:STANDARD
BEGIN:STANDARD
DTSTART:20311102T010000
RDATE:20320314T030000
TZOFFSETFROM:-0400
TZOFFSETTO:-0500
TZNAME:America/Toronto EST
END:STANDARD
BEGIN:DAYLIGHT
DTSTART:20240313T193000
RDATE:20241103T010000
TZOFFSETFROM:-0500
TZOFFSETTO:-0400
TZNAME:America/Toronto EDT
END:DAYLIGHT
BEGIN:DAYLIGHT
DTSTART:20250309T030000
RDATE:20251102T010000
TZOFFSETFROM:-0500
TZOFFSETTO:-0400
TZNAME:America/Toronto EDT
END:DAYLIGHT
BEGIN:DAYLIGHT
DTSTART:20260308T030000
RDATE:20261101T010000
TZOFFSETFROM:-0500
TZOFFSETTO:-0400
TZNAME:America/Toronto EDT
END:DAYLIGHT
BEGIN:DAYLIGHT
DTSTART:20270314T030000
RDATE:20271107T010000
TZOFFSETFROM:-0500
TZOFFSETTO:-0400
TZNAME:America/Toronto EDT
END:DAYLIGHT
BEGIN:DAYLIGHT
DTSTART:20280312T030000
RDATE:20281105T010000
TZOFFSETFROM:-0500
TZOFFSETTO:-0400
TZNAME:America/Toronto EDT
END:DAYLIGHT
BEGIN:DAYLIGHT
DTSTART:20290311T030000
RDATE:20291104T010000
TZOFFSETFROM:-0500
TZOFFSETTO:-0400
TZNAME:America/Toronto EDT
END:DAYLIGHT
BEGIN:DAYLIGHT
DTSTART:20300310T030000
RDATE:20301103T010000
TZOFFSETFROM:-0500
TZOFFSETTO:-0400
TZNAME:America/Toronto EDT
END:DAYLIGHT
BEGIN:DAYLIGHT
DTSTART:20310309T030000
RDATE:20311102T010000
TZOFFSETFROM:-0500
TZOFFSETTO:-0400
TZNAME:America/Toronto EDT
END:DAYLIGHT
END:VTIMEZONE
BEGIN:VEVENT
UID:c36c4d4700212ac30264c15a186f49c5
CATEGORIES:Durham Events
CREATED:20250209T114045
SUMMARY:Amanda Keeles 'Can't Stop Me Now' Tour
LOCATION:El Mocambo - 464 Spadina Ave. Toronto\, ON M5T 2G8
DESCRIPTION:Fifth Note Entertainment presents Amanda Keeles "Can't Stop Me Now' Tour in
  Toronto for one night at the iconic El Mocambo. Known for her powerful voc
 als and high energy shows, Amanda Keeles blends rawkin' country with a clas
 sic rock edge into an unforgettable performance. Her band consists of some 
 of the best musicians in the industry, with Scott Szeryk (lead guitar), Bri
 an McHugh (drums), James Vermue (Bass) &amp; Shem Jacob (rhythm/acoustic gu
 itar) each having toured individually throughout Canada, US and Europe. \nD
 escribed as unstoppable and fiercely creative, London, Ontario 's Amanda Ke
 eles has twice taken the top spot in The Canadian Open Songwriting Contest,
  featured on SiriusXM Canada's Top of the Country, IHeart Radio, SiriusXm C
 anada Talks, Billboard Canada #5 Top CANCON Download &amp; #5 Most Active I
 ndie for “Can’t Stop Me Now”, and has been added to commercial Country radi
 o across Canada, US, Australia and UK. Named as CMA Ontario’s Artist of the
  Month in 2024, she has appeared on Canada Coast to Coast as well as intern
 ational entertainment and music news podcasts and showcased at the 2024 CCM
 A Awards Music Week in Edmonton, Alberta. Her debut album "Can't Stop Me No
 w' was released in early 2024 topping over 500,000 streams.  Keeles has cha
 rted in the top 5 numerous times on the Canadian Indie Top 100 Countdown, a
 s well as awarded “Best Music Video” with videographer Jake Sauve from Road
 house Productions at the 2024 FCLMA awards &amp; 2024 Toronto Independent F
 ilm Festival for her release “Saving Grace”. The video was also a finalist 
 at the Los Angeles Film Awards, The International New York Film Awards &amp
 ; and an Official Selection for screening at Montreal Independent Film Fest
 ival.\nhttps://photos.app.goo.gl/sS1z5KLtt9jyHUN86\n
X-ALT-DESC;FMTTYPE=text/html:<p>Fifth Note Entertainment presents Amanda Keeles "Can't Stop Me Now' Tour
  in Toronto for one night at the iconic El Mocambo. Known for her powerful 
 vocals and high energy shows, Amanda Keeles blends rawkin' country with a c
 lassic rock edge into an unforgettable performance. Her band consists of so
 me of the best musicians in the industry, with Scott Szeryk (lead guitar), 
 Brian McHugh (drums), James Vermue (Bass) &amp; Shem Jacob (rhythm/acoustic
  guitar) each having toured individually throughout Canada, US and Europe. 
 </p><p class="p1">Described as unstoppable and fiercely creative, London, O
 ntario 's Amanda Keeles has twice taken the top spot in The Canadian Open S
 ongwriting Contest, featured on SiriusXM Canada's Top of the Country, IHear
 t Radio, SiriusXm Canada Talks, Billboard Canada #5 Top CANCON Download &am
 p; #5 Most Active Indie for “Can’t Stop Me Now”, and has been added to comm
 ercial Country radio across Canada, US, Australia and UK. Named as CMA Onta
 rio’s Artist of the Month in 2024, she has appeared on Canada Coast to Coas
 t as well as international entertainment and music news podcasts and showca
 sed at the 2024 CCMA Awards Music Week in Edmonton, Alberta. Her debut albu
 m "Can't Stop Me Now' was released in early 2024 topping over 500,000 strea
 ms.<span class="Apple-converted-space">  </span>Keeles has charted in the t
 op 5 numerous times on the Canadian Indie Top 100 Countdown, as well as awa
 rded “Best Music Video” with videographer Jake Sauve from Roadhouse Product
 ions at the 2024 FCLMA awards &amp; 2024 Toronto Independent Film Festival 
 for her release “Saving Grace”. The video was also a finalist at the Los An
 geles Film Awards, The International New York Film Awards &amp; and an Offi
 cial Selection for screening at Montreal Independent Film Festival.</p><p c
 lass="p1"><a title="Amanda Keeles at El Mocambo" href="https://photos.app.g
 oo.gl/sS1z5KLtt9jyHUN86">https://photos.app.goo.gl/sS1z5KLtt9jyHUN86</a></p
 >
CONTACT:Fifth Note Entertainment - This email address is being protected from spambots. You need JavaScript enabled to view it.
X-EXTRAINFO:Photo for show: ttps://photos.app.goo.gl/sS1z5KLtt9jyHUN86\ntickets:\nhttps
 ://www.ticketweb.ca/event/amanda-keeles-cant-stop-me-the-starlight-room-at-
 the-tickets/14081803?pl=elmocambo
DTSTAMP:20260422T030122
DTSTART;TZID=America/Toronto:20250314T193000
SEQUENCE:0
TRANSP:OPAQUE
END:VEVENT
END:VCALENDAR