BEGIN:VCALENDAR
VERSION:2.0
PRODID:-//jEvents 2.0 for Joomla//EN
CALSCALE:GREGORIAN
METHOD:PUBLISH
BEGIN:VTIMEZONE
TZID:America/Toronto
BEGIN:STANDARD
DTSTART:20240304T103000
RDATE:20240310T030000
TZOFFSETFROM:-0400
TZOFFSETTO:-0500
TZNAME:America/Toronto EST
END:STANDARD
BEGIN:STANDARD
DTSTART:20241103T010000
RDATE:20250309T030000
TZOFFSETFROM:-0400
TZOFFSETTO:-0500
TZNAME:America/Toronto EST
END:STANDARD
BEGIN:STANDARD
DTSTART:20251102T010000
RDATE:20260308T030000
TZOFFSETFROM:-0400
TZOFFSETTO:-0500
TZNAME:America/Toronto EST
END:STANDARD
BEGIN:STANDARD
DTSTART:20261101T010000
RDATE:20270314T030000
TZOFFSETFROM:-0400
TZOFFSETTO:-0500
TZNAME:America/Toronto EST
END:STANDARD
BEGIN:STANDARD
DTSTART:20271107T010000
RDATE:20280312T030000
TZOFFSETFROM:-0400
TZOFFSETTO:-0500
TZNAME:America/Toronto EST
END:STANDARD
BEGIN:STANDARD
DTSTART:20281105T010000
RDATE:20290311T030000
TZOFFSETFROM:-0400
TZOFFSETTO:-0500
TZNAME:America/Toronto EST
END:STANDARD
BEGIN:STANDARD
DTSTART:20291104T010000
RDATE:20300310T030000
TZOFFSETFROM:-0400
TZOFFSETTO:-0500
TZNAME:America/Toronto EST
END:STANDARD
BEGIN:STANDARD
DTSTART:20301103T010000
RDATE:20310309T030000
TZOFFSETFROM:-0400
TZOFFSETTO:-0500
TZNAME:America/Toronto EST
END:STANDARD
BEGIN:STANDARD
DTSTART:20311102T010000
RDATE:20320314T030000
TZOFFSETFROM:-0400
TZOFFSETTO:-0500
TZNAME:America/Toronto EST
END:STANDARD
BEGIN:DAYLIGHT
DTSTART:20240310T030000
RDATE:20241103T010000
TZOFFSETFROM:-0500
TZOFFSETTO:-0400
TZNAME:America/Toronto EDT
END:DAYLIGHT
BEGIN:DAYLIGHT
DTSTART:20250309T030000
RDATE:20251102T010000
TZOFFSETFROM:-0500
TZOFFSETTO:-0400
TZNAME:America/Toronto EDT
END:DAYLIGHT
BEGIN:DAYLIGHT
DTSTART:20260308T030000
RDATE:20261101T010000
TZOFFSETFROM:-0500
TZOFFSETTO:-0400
TZNAME:America/Toronto EDT
END:DAYLIGHT
BEGIN:DAYLIGHT
DTSTART:20270314T030000
RDATE:20271107T010000
TZOFFSETFROM:-0500
TZOFFSETTO:-0400
TZNAME:America/Toronto EDT
END:DAYLIGHT
BEGIN:DAYLIGHT
DTSTART:20280312T030000
RDATE:20281105T010000
TZOFFSETFROM:-0500
TZOFFSETTO:-0400
TZNAME:America/Toronto EDT
END:DAYLIGHT
BEGIN:DAYLIGHT
DTSTART:20290311T030000
RDATE:20291104T010000
TZOFFSETFROM:-0500
TZOFFSETTO:-0400
TZNAME:America/Toronto EDT
END:DAYLIGHT
BEGIN:DAYLIGHT
DTSTART:20300310T030000
RDATE:20301103T010000
TZOFFSETFROM:-0500
TZOFFSETTO:-0400
TZNAME:America/Toronto EDT
END:DAYLIGHT
BEGIN:DAYLIGHT
DTSTART:20310309T030000
RDATE:20311102T010000
TZOFFSETFROM:-0500
TZOFFSETTO:-0400
TZNAME:America/Toronto EDT
END:DAYLIGHT
END:VTIMEZONE
BEGIN:VEVENT
UID:f8834829c5a17ca1cfb7bd146b5e2dc0
CATEGORIES:Durham Events
CREATED:20250213T120055
SUMMARY:Her, Your, Our Story - Celebrate International Women's Day with the Town of Ajax
LOCATION:Quaker Meeting House - 457 Kingston Rd W\, Ajax\, ON L1S 6M1
DESCRIPTION:Join us in celebrating womanhood through a holistic &amp; entrepreneurial l
 ens. Experience enlightening master classes, explore local cuisines from ta
 lented local restauranteurs, and enjoy art &amp; goods created by female en
 trepreneurs from Ajax!\nArrive for the session you'd like to see &amp; grab
  a free lunch, or stay for the whole event! Connect with businesswomen, pan
 elists, &amp; presenters, and learn something new.\nYou won't want to miss 
 this exciting celebration of women in business &amp; entrepreneurship! Regi
 ster for this free event by clicking here. (https://www.eventbrite.ca/e/her
 -your-our-story-in-celebration-of-international-womens-day-tickets-12180359
 41289?utm-campaign=social&amp;utm-content=attendeeshare&amp;utm-medium=disc
 overy&amp;utm-term=listing&amp;utm-source=cp&amp;aff=ebdsshcopyurl)\nWhat t
 o expect:\n\n - 10:30 Doors open\n - 11:00 Her Business, Her Rules: Chartin
 g Success in Ajax\n - Facilitated by MC Claudine Pereira, The Pink Coach (h
 ttps://www.thepinkcoach.com/)\n - Panelists:\n - Maggie Perotin – Business 
 &amp; Leadership Coach of Stairway to Leadership (https://stairwaytoleaders
 hip.com/)\n - Chantel Escoffery – Founder &amp; Passionate Marketer of CE M
 arketing Solutions (https://cemarketingsolution.ca/)\n - Orzala Quddusi – P
 resident and CEO of Make it Happen Social Media Marketing &amp; Coaching (h
 ttps://makeit-happen.online/)\n - Irismar Lawrence, Chopra-Certified Life C
 oach &amp; Wellness Advocate (https://irismar.ca/)\n - 11:50 Women's Jiu Ji
 tsu for Sport &amp; Self-Defense | Presented by Karma Jiu Jitsu (https://ww
 w.karmajiujitsu.com/)\n - 12:25 All About Women’s Health Discussion Panel\n
  - Panelists:\n - Irismar Lawrence, Chopra-Certified Life Coach &amp; Welln
 ess Advocate (https://irismar.ca/)\n - Althea Fernandes, Registered Psychot
 herapist, MC, RP, CCC | In Time Counselling (https://www.psychologytoday.co
 m/ca/therapists/althea-fernandes-in-time-counselling-ajax-on/717874)\n - 12
 :55 Easy Everyday Makeup Look master class | Presented by Debra Guthrie Bea
 uty Studio (https://www.instagram.com/debraguthriestudio/)\n - 01:25 Master
  classes:\n - Clothing, A Powerful Tool | Presented by Spiro’s Boutique (ht
 tps://spirosboutique.ca/)\n - Jewellery, A Celebration of Beauty and Indivi
 duality | Presented by Genesis Jewellery Boutique (https://genesisjb.com/)\
 n - Artisan &amp; Craft Vendors\n - Lunch is on us!International Women's Da
 y's theme for 2025 is a gender equal world. A world free of bias, stereotyp
 es, and discrimination. A world that's diverse, equitable, and inclusive. A
  world where difference is valued and celebrated. Together we can forge wom
 en's equality. Collectively for #IWD2025 we can all #AccelerateAction (http
 s://www.internationalwomensday.com/2025Theme). Learn more about Internation
 al Women's Day here. (https://www.internationalwomensday.com/)\n
X-ALT-DESC;FMTTYPE=text/html:<p style="font-weight: 400;">Join us in celebrating womanhood through a hol
 istic &amp; entrepreneurial lens. Experience enlightening master classes, e
 xplore local cuisines from talented local restauranteurs, and enjoy art &am
 p; goods created by female entrepreneurs from Ajax!</p><p style="font-weigh
 t: 400;">Arrive for the session you'd like to see &amp; grab a free lunch, 
 or stay for the whole event! Connect with businesswomen, panelists, &amp; p
 resenters, and learn something new.</p><p style="font-weight: 400;">You won
 't want to miss this exciting celebration of women in business &amp; entrep
 reneurship!<b><strong> </strong></b><a href="https://www.eventbrite.ca/e/he
 r-your-our-story-in-celebration-of-international-womens-day-tickets-1218035
 941289?utm-campaign=social&amp;utm-content=attendeeshare&amp;utm-medium=dis
 covery&amp;utm-term=listing&amp;utm-source=cp&amp;aff=ebdsshcopyurl" target
 ="_blank" rel="noopener">Register for this free event by clicking here.</a>
 </p><p style="font-weight: 400;"><b><strong>What to expect:</strong></b></p
 ><ul style="font-weight: 400;"><li><b><strong>10:30</strong></b> Doors open
 </li><li><b><strong>11:00</strong></b> Her Business, Her Rules: Charting Su
 ccess in Ajax<ul style="font-weight: 400;"><li>Facilitated by MC Claudine P
 ereira, <b><a href="https://www.thepinkcoach.com/"><em>The Pink Coach</em><
 /a></b></li><li><em style="font-size: 1rem;"><u>Panelists:</u></em></li><li
 >Maggie Perotin – Business &amp; Leadership Coach of <b style="font-size: 1
 rem;"><a href="https://stairwaytoleadership.com/"><em>Stairway to Leadershi
 p</em></a></b></li><li>Chantel Escoffery – Founder &amp; Passionate Markete
 r of <b style="font-size: 1rem;"><a href="https://cemarketingsolution.ca/">
 <em>CE Marketing Solutions</em></a></b></li><li>Orzala Quddusi – President 
 and CEO of <b style="font-size: 1rem;"><a href="https://makeit-happen.onlin
 e/"><em>Make it Happen Social Media Marketing &amp; Coaching</em></a></b></
 li><li>Irismar Lawrence, <b style="font-size: 1rem;"><a href="https://irism
 ar.ca/">Chopra-Certified Life Coach &amp; Wellness Advocate</a></b></li></u
 l></li></ul><ul style="font-weight: 400;"><li><b><strong>11:50</strong></b>
  Women's Jiu Jitsu for Sport &amp; Self-Defense | Presented by <b><a href="
 https://www.karmajiujitsu.com/"><em>Karma Jiu Jitsu</em></a></b></li><li><b
 ><strong>12:25</strong></b> All About Women’s Health Discussion Panel<ul st
 yle="font-weight: 400;"><li><em style="font-size: 1rem;"><u>Panelists:</u><
 /em></li><li>Irismar Lawrence, <b style="font-size: 1rem;"><a href="https:/
 /irismar.ca/">Chopra-Certified Life Coach &amp; Wellness Advocate</a></b></
 li><li>Althea Fernandes, Registered Psychotherapist, MC, RP, CCC | <b style
 ="font-size: 1rem;"><a href="https://www.psychologytoday.com/ca/therapists/
 althea-fernandes-in-time-counselling-ajax-on/717874"><em>In Time Counsellin
 g</em></a></b></li></ul></li></ul><ul style="font-weight: 400;"><li><b><str
 ong>12:55</strong></b> Easy Everyday Makeup Look master class | Presented b
 y <b><a href="https://www.instagram.com/debraguthriestudio/"><em>Debra Guth
 rie Beauty Studio</em></a></b></li><li><b><strong>01:25</strong></b> Master
  classes:<ul style="font-weight: 400;"><li>Clothing, A Powerful Tool | Pres
 ented by<em style="font-size: 1rem;"> </em><b style="font-size: 1rem;"><a h
 ref="https://spirosboutique.ca/"><em>Spiro’s Boutique</em></a></b></li><li>
 Jewellery, A Celebration of Beauty and Individuality | Presented by <b styl
 e="font-size: 1rem;"><a href="https://genesisjb.com/"><em>Genesis Jewellery
  Boutique</em></a></b></li></ul></li></ul><ul style="font-weight: 400;"><li
 >Artisan &amp; Craft Vendors</li><li>Lunch is on us!</li></ul><p style="fon
 t-weight: 400;"><em>International Women's Day's theme for 2025 is a gender 
 equal world. A world free of bias, stereotypes, and discrimination. A world
  that's diverse, equitable, and inclusive. A world where difference is valu
 ed and celebrated. Together we can forge women's equality. Collectively for
  #IWD2025 we can all </em><b><a href="https://www.internationalwomensday.co
 m/2025Theme"><strong><em>#AccelerateAction</em></strong></a></b><em>. Learn
  more about International Women's Day </em><b><a href="https://www.internat
 ionalwomensday.com/"><strong><em>here.</em></strong></a></b></p>
CONTACT:Christine Jermakowicz
X-EXTRAINFO:Contact: This email address is being protected from spambots. You need Java
 Script enabled to view it.
DTSTAMP:20260421T154808
DTSTART;TZID=America/Toronto:20250305T103000
DTEND;TZID=America/Toronto:20250305T140000
SEQUENCE:0
TRANSP:OPAQUE
END:VEVENT
END:VCALENDAR