BEGIN:VCALENDAR
VERSION:2.0
PRODID:-//jEvents 2.0 for Joomla//EN
CALSCALE:GREGORIAN
METHOD:PUBLISH
BEGIN:VTIMEZONE
TZID:America/Toronto
BEGIN:STANDARD
DTSTART:20241103T010000
RDATE:20250309T030000
TZOFFSETFROM:-0400
TZOFFSETTO:-0500
TZNAME:America/Toronto EST
END:STANDARD
BEGIN:STANDARD
DTSTART:20251102T010000
RDATE:20260308T030000
TZOFFSETFROM:-0400
TZOFFSETTO:-0500
TZNAME:America/Toronto EST
END:STANDARD
BEGIN:STANDARD
DTSTART:20261101T010000
RDATE:20270314T030000
TZOFFSETFROM:-0400
TZOFFSETTO:-0500
TZNAME:America/Toronto EST
END:STANDARD
BEGIN:STANDARD
DTSTART:20271107T010000
RDATE:20280312T030000
TZOFFSETFROM:-0400
TZOFFSETTO:-0500
TZNAME:America/Toronto EST
END:STANDARD
BEGIN:STANDARD
DTSTART:20281105T010000
RDATE:20290311T030000
TZOFFSETFROM:-0400
TZOFFSETTO:-0500
TZNAME:America/Toronto EST
END:STANDARD
BEGIN:STANDARD
DTSTART:20291104T010000
RDATE:20300310T030000
TZOFFSETFROM:-0400
TZOFFSETTO:-0500
TZNAME:America/Toronto EST
END:STANDARD
BEGIN:STANDARD
DTSTART:20301103T010000
RDATE:20310309T030000
TZOFFSETFROM:-0400
TZOFFSETTO:-0500
TZNAME:America/Toronto EST
END:STANDARD
BEGIN:STANDARD
DTSTART:20311102T010000
RDATE:20320314T030000
TZOFFSETFROM:-0400
TZOFFSETTO:-0500
TZNAME:America/Toronto EST
END:STANDARD
BEGIN:DAYLIGHT
DTSTART:20240426T120000
RDATE:20241103T010000
TZOFFSETFROM:-0500
TZOFFSETTO:-0400
TZNAME:America/Toronto EDT
END:DAYLIGHT
BEGIN:DAYLIGHT
DTSTART:20250309T030000
RDATE:20251102T010000
TZOFFSETFROM:-0500
TZOFFSETTO:-0400
TZNAME:America/Toronto EDT
END:DAYLIGHT
BEGIN:DAYLIGHT
DTSTART:20260308T030000
RDATE:20261101T010000
TZOFFSETFROM:-0500
TZOFFSETTO:-0400
TZNAME:America/Toronto EDT
END:DAYLIGHT
BEGIN:DAYLIGHT
DTSTART:20270314T030000
RDATE:20271107T010000
TZOFFSETFROM:-0500
TZOFFSETTO:-0400
TZNAME:America/Toronto EDT
END:DAYLIGHT
BEGIN:DAYLIGHT
DTSTART:20280312T030000
RDATE:20281105T010000
TZOFFSETFROM:-0500
TZOFFSETTO:-0400
TZNAME:America/Toronto EDT
END:DAYLIGHT
BEGIN:DAYLIGHT
DTSTART:20290311T030000
RDATE:20291104T010000
TZOFFSETFROM:-0500
TZOFFSETTO:-0400
TZNAME:America/Toronto EDT
END:DAYLIGHT
BEGIN:DAYLIGHT
DTSTART:20300310T030000
RDATE:20301103T010000
TZOFFSETFROM:-0500
TZOFFSETTO:-0400
TZNAME:America/Toronto EDT
END:DAYLIGHT
BEGIN:DAYLIGHT
DTSTART:20310309T030000
RDATE:20311102T010000
TZOFFSETFROM:-0500
TZOFFSETTO:-0400
TZNAME:America/Toronto EDT
END:DAYLIGHT
END:VTIMEZONE
BEGIN:VEVENT
UID:d587e27b9c8afc60b61dcb0c40c85ffe
CATEGORIES:Durham Events
CREATED:20250216T134949
SUMMARY:Outrun CF Durham 5K Walk/Run
LOCATION:Carruthers Marsh Pavilion 
DESCRIPTION:<p>On Sunday, April 27, friends and family will come together for the 15th 
 Annual Outrun CF Durham 5K Walk/Run to remember and support Canadians livin
 g with Cystic Fibrosis!</p><p>This year’s event will be run in a hybrid for
 mat.</p><p><strong>In Person</strong></p><p>April 27, 2025 - 12 noon</p><p>
 Meet at Carruthers Marsh Pavilion</p><p><strong>Virtually</strong></p><p>Ap
 ril 20 - April 30, 2024</p><p>Complete your walk, from anywhere, your way, 
 on your own time!</p><p>To register please visit <a href="https://changemak
 ers.crowdchange.ca/92357">https://changemakers.crowdchange.ca/92357</a>  </
 p><p>Registration is fast and easy!</p><p>Follow us on social media for upd
 ates on the event and to find out how your support has advanced cystic fibr
 osis research and care that has more than doubled life expectancy for Canad
 ians living with cystic fibrosis!</p><p>Facebook - <a href="https://www.fac
 ebook.com/Outrun-CF-Durham-1562147394104001?__cft__%5b0%5d=AZXjRE82Toq_QPgW
 q9AomP0Q75Ynub4CDO7xLG8zGno6McriwKpcrJ97NZf1drAdnfyBBvlO3B_DIByE9WiPegsYtdF
 lVgrV7i9wsQgfhMO24cBdAAZA-AnO1hr47hAWhHmZsj5rqreuJlUrToSzdOcLy0zVmf0o_tGo5H
 _xpZ0h3lVcRx9Nx9YbuPztS-_f1gQ&amp;__tn__=-UK-R">https://www.facebook.com/Ou
 trun-CF-Durham-1562147394104001</a></p><p>Instagram – outruncfdurham</p>
CONTACT:This email address is being protected from spambots. You need JavaScript enabled to view it.
DTSTAMP:20260421T142638
DTSTART;TZID=America/Toronto:20250427T120000
DTEND;TZID=America/Toronto:20250427T150000
SEQUENCE:0
TRANSP:OPAQUE
END:VEVENT
END:VCALENDAR