BEGIN:VCALENDAR
VERSION:2.0
PRODID:-//jEvents 2.0 for Joomla//EN
CALSCALE:GREGORIAN
METHOD:PUBLISH
BEGIN:VTIMEZONE
TZID:America/Toronto
BEGIN:STANDARD
DTSTART:20241103T010000
RDATE:20250309T030000
TZOFFSETFROM:-0400
TZOFFSETTO:-0500
TZNAME:America/Toronto EST
END:STANDARD
BEGIN:STANDARD
DTSTART:20251102T010000
RDATE:20260308T030000
TZOFFSETFROM:-0400
TZOFFSETTO:-0500
TZNAME:America/Toronto EST
END:STANDARD
BEGIN:STANDARD
DTSTART:20261101T010000
RDATE:20270314T030000
TZOFFSETFROM:-0400
TZOFFSETTO:-0500
TZNAME:America/Toronto EST
END:STANDARD
BEGIN:STANDARD
DTSTART:20271107T010000
RDATE:20280312T030000
TZOFFSETFROM:-0400
TZOFFSETTO:-0500
TZNAME:America/Toronto EST
END:STANDARD
BEGIN:STANDARD
DTSTART:20281105T010000
RDATE:20290311T030000
TZOFFSETFROM:-0400
TZOFFSETTO:-0500
TZNAME:America/Toronto EST
END:STANDARD
BEGIN:STANDARD
DTSTART:20291104T010000
RDATE:20300310T030000
TZOFFSETFROM:-0400
TZOFFSETTO:-0500
TZNAME:America/Toronto EST
END:STANDARD
BEGIN:STANDARD
DTSTART:20301103T010000
RDATE:20310309T030000
TZOFFSETFROM:-0400
TZOFFSETTO:-0500
TZNAME:America/Toronto EST
END:STANDARD
BEGIN:STANDARD
DTSTART:20311102T010000
RDATE:20320314T030000
TZOFFSETFROM:-0400
TZOFFSETTO:-0500
TZNAME:America/Toronto EST
END:STANDARD
BEGIN:DAYLIGHT
DTSTART:20240328T140000
RDATE:20241103T010000
TZOFFSETFROM:-0500
TZOFFSETTO:-0400
TZNAME:America/Toronto EDT
END:DAYLIGHT
BEGIN:DAYLIGHT
DTSTART:20250309T030000
RDATE:20251102T010000
TZOFFSETFROM:-0500
TZOFFSETTO:-0400
TZNAME:America/Toronto EDT
END:DAYLIGHT
BEGIN:DAYLIGHT
DTSTART:20260308T030000
RDATE:20261101T010000
TZOFFSETFROM:-0500
TZOFFSETTO:-0400
TZNAME:America/Toronto EDT
END:DAYLIGHT
BEGIN:DAYLIGHT
DTSTART:20270314T030000
RDATE:20271107T010000
TZOFFSETFROM:-0500
TZOFFSETTO:-0400
TZNAME:America/Toronto EDT
END:DAYLIGHT
BEGIN:DAYLIGHT
DTSTART:20280312T030000
RDATE:20281105T010000
TZOFFSETFROM:-0500
TZOFFSETTO:-0400
TZNAME:America/Toronto EDT
END:DAYLIGHT
BEGIN:DAYLIGHT
DTSTART:20290311T030000
RDATE:20291104T010000
TZOFFSETFROM:-0500
TZOFFSETTO:-0400
TZNAME:America/Toronto EDT
END:DAYLIGHT
BEGIN:DAYLIGHT
DTSTART:20300310T030000
RDATE:20301103T010000
TZOFFSETFROM:-0500
TZOFFSETTO:-0400
TZNAME:America/Toronto EDT
END:DAYLIGHT
BEGIN:DAYLIGHT
DTSTART:20310309T030000
RDATE:20311102T010000
TZOFFSETFROM:-0500
TZOFFSETTO:-0400
TZNAME:America/Toronto EDT
END:DAYLIGHT
END:VTIMEZONE
BEGIN:VEVENT
UID:1bba3aca459ceb1c04680d048dc533ec
CATEGORIES:Durham Events
CREATED:20250218T104820
SUMMARY:RESOUND Choir presents In Queer Company
LOCATION:BOND ST Event Centre
DESCRIPTION:RESOUND choir lifts up music by LGBTQ+ composers both historical and curren
 t in this meaningful performance. Featuring composers such as Phinot, Tchai
 kovsky, Saint-Saëns, and living composers such as Stuart Beatch, Jennifer H
 igdon, and Sydney Guillaume, this performance is a celebration of the queer
  community. As is tradition for the choir, RESOUND will partner with variou
 s front-line service organizations in this performance to spread awareness 
 of the fantastic community work happening in Durham Region. Tickets are bei
 ng sold here: https://www.zeffy.com/ticketing/in-queer-company\n
X-ALT-DESC;FMTTYPE=text/html:<p>RESOUND choir lifts up music by LGBTQ+ composers both historical and cur
 rent in this meaningful performance. Featuring composers such as Phinot, Tc
 haikovsky, Saint-Saëns, and living composers such as Stuart Beatch, Jennife
 r Higdon, and Sydney Guillaume, this performance is a celebration of the qu
 eer community. As is tradition for the choir, RESOUND will partner with var
 ious front-line service organizations in this performance to spread awarene
 ss of the fantastic community work happening in Durham Region. Tickets are 
 being sold here: https://www.zeffy.com/ticketing/in-queer-company</p>
CONTACT:Holly Stepanek
X-EXTRAINFO:Tickets on sale at:\nhttps://www.zeffy.com/ticketing/in-queer-company\nor v
 isit:\nwww.resoundchoir.ca 
DTSTAMP:20260421T185444
DTSTART;TZID=America/Toronto:20250329T140000
DTEND;TZID=America/Toronto:20250329T163000
SEQUENCE:0
TRANSP:OPAQUE
END:VEVENT
END:VCALENDAR