BEGIN:VCALENDAR
VERSION:2.0
PRODID:-//jEvents 2.0 for Joomla//EN
CALSCALE:GREGORIAN
METHOD:PUBLISH
BEGIN:VTIMEZONE
TZID:America/Toronto
BEGIN:STANDARD
DTSTART:20241103T010000
RDATE:20250309T030000
TZOFFSETFROM:-0400
TZOFFSETTO:-0500
TZNAME:America/Toronto EST
END:STANDARD
BEGIN:STANDARD
DTSTART:20251102T010000
RDATE:20260308T030000
TZOFFSETFROM:-0400
TZOFFSETTO:-0500
TZNAME:America/Toronto EST
END:STANDARD
BEGIN:STANDARD
DTSTART:20261101T010000
RDATE:20270314T030000
TZOFFSETFROM:-0400
TZOFFSETTO:-0500
TZNAME:America/Toronto EST
END:STANDARD
BEGIN:STANDARD
DTSTART:20271107T010000
RDATE:20280312T030000
TZOFFSETFROM:-0400
TZOFFSETTO:-0500
TZNAME:America/Toronto EST
END:STANDARD
BEGIN:STANDARD
DTSTART:20281105T010000
RDATE:20290311T030000
TZOFFSETFROM:-0400
TZOFFSETTO:-0500
TZNAME:America/Toronto EST
END:STANDARD
BEGIN:STANDARD
DTSTART:20291104T010000
RDATE:20300310T030000
TZOFFSETFROM:-0400
TZOFFSETTO:-0500
TZNAME:America/Toronto EST
END:STANDARD
BEGIN:STANDARD
DTSTART:20301103T010000
RDATE:20310309T030000
TZOFFSETFROM:-0400
TZOFFSETTO:-0500
TZNAME:America/Toronto EST
END:STANDARD
BEGIN:STANDARD
DTSTART:20311102T010000
RDATE:20320314T030000
TZOFFSETFROM:-0400
TZOFFSETTO:-0500
TZNAME:America/Toronto EST
END:STANDARD
BEGIN:DAYLIGHT
DTSTART:20240328T170000
RDATE:20241103T010000
TZOFFSETFROM:-0500
TZOFFSETTO:-0400
TZNAME:America/Toronto EDT
END:DAYLIGHT
BEGIN:DAYLIGHT
DTSTART:20250309T030000
RDATE:20251102T010000
TZOFFSETFROM:-0500
TZOFFSETTO:-0400
TZNAME:America/Toronto EDT
END:DAYLIGHT
BEGIN:DAYLIGHT
DTSTART:20260308T030000
RDATE:20261101T010000
TZOFFSETFROM:-0500
TZOFFSETTO:-0400
TZNAME:America/Toronto EDT
END:DAYLIGHT
BEGIN:DAYLIGHT
DTSTART:20270314T030000
RDATE:20271107T010000
TZOFFSETFROM:-0500
TZOFFSETTO:-0400
TZNAME:America/Toronto EDT
END:DAYLIGHT
BEGIN:DAYLIGHT
DTSTART:20280312T030000
RDATE:20281105T010000
TZOFFSETFROM:-0500
TZOFFSETTO:-0400
TZNAME:America/Toronto EDT
END:DAYLIGHT
BEGIN:DAYLIGHT
DTSTART:20290311T030000
RDATE:20291104T010000
TZOFFSETFROM:-0500
TZOFFSETTO:-0400
TZNAME:America/Toronto EDT
END:DAYLIGHT
BEGIN:DAYLIGHT
DTSTART:20300310T030000
RDATE:20301103T010000
TZOFFSETFROM:-0500
TZOFFSETTO:-0400
TZNAME:America/Toronto EDT
END:DAYLIGHT
BEGIN:DAYLIGHT
DTSTART:20310309T030000
RDATE:20311102T010000
TZOFFSETFROM:-0500
TZOFFSETTO:-0400
TZNAME:America/Toronto EDT
END:DAYLIGHT
END:VTIMEZONE
BEGIN:VEVENT
UID:920eea41899f09da8fa386a045b2e5ed
CATEGORIES:Durham Events
CREATED:20250301T082005
SUMMARY:Raise the 420 Wing Gala Fundraiser
LOCATION:420 Wing Oshawa\, 1000 Stevenson Rd. North
DESCRIPTION:The 420 Wing Oshawa Inc. is rolling out the red carpet for it's second annu
 al "Raise the 420 Wing" gala fundraising event. The cocktail hour begins at
  5:00 p.m. followed by dinner and dancing with live entertainment.  There w
 ill be a silent auction and door prizes.  The suggested attire is Cocktail/
 Hollywood.  Here is your chance to dress up and support the historic 420 Wi
 ng! Tickets can be purchased at the 420 Wing located at 1000 Stevenson Rd. 
 North in Oshawa or by email. Email This email address is being protected fr
 om spambots. You need JavaScript enabled to view it..  Tickets are $125 eac
 h or $100 each for 420 Wing members.\n
X-ALT-DESC;FMTTYPE=text/html:<p>The 420 Wing Oshawa Inc. is rolling out the red carpet for it's second a
 nnual "Raise the 420 Wing" gala fundraising event. The cocktail hour begins
  at 5:00 p.m. followed by dinner and dancing with live entertainment.  Ther
 e will be a silent auction and door prizes.  The suggested attire is Cockta
 il/Hollywood.  Here is your chance to dress up and support the historic 420
  Wing! Tickets can be purchased at the 420 Wing located at 1000 Stevenson R
 d. North in Oshawa or by email. Email <joomla-hidden-mail  is-link="1" is-e
 mail="1" first="dHJlYXN1cmVy" last="NDIwd2luZy5jb20=" text="dHJlYXN1cmVyQDQ
 yMHdpbmcuY29t" base="" >This email address is being protected from spambots
 . You need JavaScript enabled to view it.</joomla-hidden-mail>.  Tickets ar
 e $125 each or $100 each for 420 Wing members.</p>
CONTACT:This email address is being protected from spambots. You need JavaScript enabled to view it.
X-EXTRAINFO:We are still accepting donations for our silent auction.  If you are intere
 sted in doing so, please email This email address is being protected from s
 pambots. You need JavaScript enabled to view it.\nThank you for your suppor
 t!\n
DTSTAMP:20260421T185439
DTSTART;TZID=America/Toronto:20250329T170000
DTEND;TZID=America/Toronto:20250329T220000
SEQUENCE:0
TRANSP:OPAQUE
END:VEVENT
END:VCALENDAR