BEGIN:VCALENDAR
VERSION:2.0
PRODID:-//jEvents 2.0 for Joomla//EN
CALSCALE:GREGORIAN
METHOD:PUBLISH
BEGIN:VTIMEZONE
TZID:America/Toronto
BEGIN:STANDARD
DTSTART:20241103T010000
RDATE:20250309T030000
TZOFFSETFROM:-0400
TZOFFSETTO:-0500
TZNAME:America/Toronto EST
END:STANDARD
BEGIN:STANDARD
DTSTART:20251102T010000
RDATE:20260308T030000
TZOFFSETFROM:-0400
TZOFFSETTO:-0500
TZNAME:America/Toronto EST
END:STANDARD
BEGIN:STANDARD
DTSTART:20261101T010000
RDATE:20270314T030000
TZOFFSETFROM:-0400
TZOFFSETTO:-0500
TZNAME:America/Toronto EST
END:STANDARD
BEGIN:STANDARD
DTSTART:20271107T010000
RDATE:20280312T030000
TZOFFSETFROM:-0400
TZOFFSETTO:-0500
TZNAME:America/Toronto EST
END:STANDARD
BEGIN:STANDARD
DTSTART:20281105T010000
RDATE:20290311T030000
TZOFFSETFROM:-0400
TZOFFSETTO:-0500
TZNAME:America/Toronto EST
END:STANDARD
BEGIN:STANDARD
DTSTART:20291104T010000
RDATE:20300310T030000
TZOFFSETFROM:-0400
TZOFFSETTO:-0500
TZNAME:America/Toronto EST
END:STANDARD
BEGIN:STANDARD
DTSTART:20301103T010000
RDATE:20310309T030000
TZOFFSETFROM:-0400
TZOFFSETTO:-0500
TZNAME:America/Toronto EST
END:STANDARD
BEGIN:STANDARD
DTSTART:20311102T010000
RDATE:20320314T030000
TZOFFSETFROM:-0400
TZOFFSETTO:-0500
TZNAME:America/Toronto EST
END:STANDARD
BEGIN:DAYLIGHT
DTSTART:20240407T183000
RDATE:20241103T010000
TZOFFSETFROM:-0500
TZOFFSETTO:-0400
TZNAME:America/Toronto EDT
END:DAYLIGHT
BEGIN:DAYLIGHT
DTSTART:20250309T030000
RDATE:20251102T010000
TZOFFSETFROM:-0500
TZOFFSETTO:-0400
TZNAME:America/Toronto EDT
END:DAYLIGHT
BEGIN:DAYLIGHT
DTSTART:20260308T030000
RDATE:20261101T010000
TZOFFSETFROM:-0500
TZOFFSETTO:-0400
TZNAME:America/Toronto EDT
END:DAYLIGHT
BEGIN:DAYLIGHT
DTSTART:20270314T030000
RDATE:20271107T010000
TZOFFSETFROM:-0500
TZOFFSETTO:-0400
TZNAME:America/Toronto EDT
END:DAYLIGHT
BEGIN:DAYLIGHT
DTSTART:20280312T030000
RDATE:20281105T010000
TZOFFSETFROM:-0500
TZOFFSETTO:-0400
TZNAME:America/Toronto EDT
END:DAYLIGHT
BEGIN:DAYLIGHT
DTSTART:20290311T030000
RDATE:20291104T010000
TZOFFSETFROM:-0500
TZOFFSETTO:-0400
TZNAME:America/Toronto EDT
END:DAYLIGHT
BEGIN:DAYLIGHT
DTSTART:20300310T030000
RDATE:20301103T010000
TZOFFSETFROM:-0500
TZOFFSETTO:-0400
TZNAME:America/Toronto EDT
END:DAYLIGHT
BEGIN:DAYLIGHT
DTSTART:20310309T030000
RDATE:20311102T010000
TZOFFSETFROM:-0500
TZOFFSETTO:-0400
TZNAME:America/Toronto EDT
END:DAYLIGHT
END:VTIMEZONE
BEGIN:VEVENT
UID:b1c3c274a9612ae1cc10b52e0d0831e6
CATEGORIES:Durham Events
CREATED:20250304T094413
SUMMARY:Admissions Open House
LOCATION:Trafalgar Castle School
DESCRIPTION:If you or someone you know is interested in learning more about the benefit
 s of a Trafalgar Castle School education for their child who is currently i
 n Grade 3 or higher please invite them to join us at our upcoming Open Hous
 e.\n \nTuesday, April 8, 2025\n 6:30 p.m.\n \nWith exceptional academics an
 d a strong focus on future-ready competencies, we are committed to helping 
 students approach life with determination, thoughtful insight, compassion a
 nd kindness.\n \nREGISTER (https://forms.gle/25aC3QUfVG3R37F39) for our Ope
 n House today! If you have any questions, please reach out our This email a
 ddress is being protected from spambots. You need JavaScript enabled to vie
 w it.. We look forward to getting to know you and your family and welcoming
  you to our community of learners at Trafalgar Castle School.\n
X-ALT-DESC;FMTTYPE=text/html:<p>If you or someone you know is interested in learning more about the bene
 fits of a Trafalgar Castle School education for their child who is currentl
 y in Grade 3 or higher please invite them to join us at our upcoming Open H
 ouse.<br /> <br /><strong>Tuesday, April 8, 2025</strong><br /><strong> 6:3
 0 p.m.</strong><br /> <br />With exceptional academics and a strong focus o
 n future-ready competencies, we are committed to helping students approach 
 life with determination, thoughtful insight, compassion and kindness.<br />
  <br /><a href="https://forms.gle/25aC3QUfVG3R37F39">REGISTER</a> for our O
 pen House today! If you have any questions, please reach out our <joomla-hi
 dden-mail href="mailto:admissions@trafalgarcastle.ca" data-cke-saved- is-li
 nk="1" is-email="0" first="YWRtaXNzaW9ucw==" last="dHJhZmFsZ2FyY2FzdGxlLmNh
 " text="QWRtaXNzaW9ucyBUZWFt" base="" >This email address is being protecte
 d from spambots. You need JavaScript enabled to view it.</joomla-hidden-mai
 l>. We look forward to getting to know you and your family and welcoming yo
 u to our community of learners at Trafalgar Castle School.</p>
CONTACT:Admissions
DTSTAMP:20260421T140606
DTSTART;TZID=America/Toronto:20250408T183000
DTEND;TZID=America/Toronto:20250408T200000
SEQUENCE:0
TRANSP:OPAQUE
END:VEVENT
END:VCALENDAR