BEGIN:VCALENDAR
VERSION:2.0
PRODID:-//jEvents 2.0 for Joomla//EN
CALSCALE:GREGORIAN
METHOD:PUBLISH
BEGIN:VTIMEZONE
TZID:America/Toronto
BEGIN:STANDARD
DTSTART:20241103T010000
RDATE:20250309T030000
TZOFFSETFROM:-0400
TZOFFSETTO:-0500
TZNAME:America/Toronto EST
END:STANDARD
BEGIN:STANDARD
DTSTART:20251102T010000
RDATE:20260308T030000
TZOFFSETFROM:-0400
TZOFFSETTO:-0500
TZNAME:America/Toronto EST
END:STANDARD
BEGIN:STANDARD
DTSTART:20261101T010000
RDATE:20270314T030000
TZOFFSETFROM:-0400
TZOFFSETTO:-0500
TZNAME:America/Toronto EST
END:STANDARD
BEGIN:STANDARD
DTSTART:20271107T010000
RDATE:20280312T030000
TZOFFSETFROM:-0400
TZOFFSETTO:-0500
TZNAME:America/Toronto EST
END:STANDARD
BEGIN:STANDARD
DTSTART:20281105T010000
RDATE:20290311T030000
TZOFFSETFROM:-0400
TZOFFSETTO:-0500
TZNAME:America/Toronto EST
END:STANDARD
BEGIN:STANDARD
DTSTART:20291104T010000
RDATE:20300310T030000
TZOFFSETFROM:-0400
TZOFFSETTO:-0500
TZNAME:America/Toronto EST
END:STANDARD
BEGIN:STANDARD
DTSTART:20301103T010000
RDATE:20310309T030000
TZOFFSETFROM:-0400
TZOFFSETTO:-0500
TZNAME:America/Toronto EST
END:STANDARD
BEGIN:STANDARD
DTSTART:20311102T010000
RDATE:20320314T030000
TZOFFSETFROM:-0400
TZOFFSETTO:-0500
TZNAME:America/Toronto EST
END:STANDARD
BEGIN:DAYLIGHT
DTSTART:20240513T130000
RDATE:20241103T010000
TZOFFSETFROM:-0500
TZOFFSETTO:-0400
TZNAME:America/Toronto EDT
END:DAYLIGHT
BEGIN:DAYLIGHT
DTSTART:20250309T030000
RDATE:20251102T010000
TZOFFSETFROM:-0500
TZOFFSETTO:-0400
TZNAME:America/Toronto EDT
END:DAYLIGHT
BEGIN:DAYLIGHT
DTSTART:20260308T030000
RDATE:20261101T010000
TZOFFSETFROM:-0500
TZOFFSETTO:-0400
TZNAME:America/Toronto EDT
END:DAYLIGHT
BEGIN:DAYLIGHT
DTSTART:20270314T030000
RDATE:20271107T010000
TZOFFSETFROM:-0500
TZOFFSETTO:-0400
TZNAME:America/Toronto EDT
END:DAYLIGHT
BEGIN:DAYLIGHT
DTSTART:20280312T030000
RDATE:20281105T010000
TZOFFSETFROM:-0500
TZOFFSETTO:-0400
TZNAME:America/Toronto EDT
END:DAYLIGHT
BEGIN:DAYLIGHT
DTSTART:20290311T030000
RDATE:20291104T010000
TZOFFSETFROM:-0500
TZOFFSETTO:-0400
TZNAME:America/Toronto EDT
END:DAYLIGHT
BEGIN:DAYLIGHT
DTSTART:20300310T030000
RDATE:20301103T010000
TZOFFSETFROM:-0500
TZOFFSETTO:-0400
TZNAME:America/Toronto EDT
END:DAYLIGHT
BEGIN:DAYLIGHT
DTSTART:20310309T030000
RDATE:20311102T010000
TZOFFSETFROM:-0500
TZOFFSETTO:-0400
TZNAME:America/Toronto EDT
END:DAYLIGHT
END:VTIMEZONE
BEGIN:VEVENT
UID:615669c7fd965eab4792c45bfc077a47
CATEGORIES:Durham Events
CREATED:20250304T094548
SUMMARY:Junior School Admissions Open House
LOCATION:Trafalgar Castle School
DESCRIPTION:If you or someone you know is interested in learning more about the benefit
 s of a Trafalgar Castle School education for their child who is currently i
 n Grade 2 and below please invite them to join us at our upcoming Junior Sc
 hool Open House.\n \nWednesday, May 14, 2025\n1 p.m.\n \nWith exceptional a
 cademics and a strong focus on future-ready competencies, we are committed 
 to helping students approach life with determination, thoughtful insight, c
 ompassion and kindness.\n \nREGISTER (https://docs.google.com/forms/d/e/1FA
 IpQLScofKq-ZI_GSamANVDtPs9B4f1psNCmhrDDAhx6uRj88FLguw/viewform?usp=dialog) 
 for our Open House today! If you have any questions, please reach out our T
 his email address is being protected from spambots. You need JavaScript ena
 bled to view it.. We look forward to getting to know you and your family an
 d welcoming you to our community of learners at Trafalgar Castle School.\n
X-ALT-DESC;FMTTYPE=text/html:<p>If you or someone you know is interested in learning more about the bene
 fits of a Trafalgar Castle School education for their child who is currentl
 y in Grade 2 and below please invite them to join us at our upcoming Junior
  School Open House.<br /> <br /><strong>Wednesday, May 14, 2025</strong><br
  /><strong>1 p.m.</strong><br /> <br />With exceptional academics and a str
 ong focus on future-ready competencies, we are committed to helping student
 s approach life with determination, thoughtful insight, compassion and kind
 ness.<br /> <br /><a href="https://docs.google.com/forms/d/e/1FAIpQLScofKq-
 ZI_GSamANVDtPs9B4f1psNCmhrDDAhx6uRj88FLguw/viewform?usp=dialog">REGISTER</a
 > for our Open House today! If you have any questions, please reach out our
  <joomla-hidden-mail href="mailto:admissions@trafalgarcastle.ca" data-cke-s
 aved- is-link="1" is-email="0" first="YWRtaXNzaW9ucw==" last="dHJhZmFsZ2FyY
 2FzdGxlLmNh" text="QWRtaXNzaW9ucyBUZWFt" base="" >This email address is bei
 ng protected from spambots. You need JavaScript enabled to view it.</joomla
 -hidden-mail>. We look forward to getting to know you and your family and w
 elcoming you to our community of learners at Trafalgar Castle School.</p>
CONTACT:Admissions
DTSTAMP:20260421T173704
DTSTART;TZID=America/Toronto:20250514T130000
DTEND;TZID=America/Toronto:20250514T143000
SEQUENCE:0
TRANSP:OPAQUE
END:VEVENT
END:VCALENDAR