BEGIN:VCALENDAR
VERSION:2.0
PRODID:-//jEvents 2.0 for Joomla//EN
CALSCALE:GREGORIAN
METHOD:PUBLISH
BEGIN:VTIMEZONE
TZID:America/Toronto
BEGIN:STANDARD
DTSTART:20241103T010000
RDATE:20250309T030000
TZOFFSETFROM:-0400
TZOFFSETTO:-0500
TZNAME:America/Toronto EST
END:STANDARD
BEGIN:STANDARD
DTSTART:20251102T010000
RDATE:20260308T030000
TZOFFSETFROM:-0400
TZOFFSETTO:-0500
TZNAME:America/Toronto EST
END:STANDARD
BEGIN:STANDARD
DTSTART:20261101T010000
RDATE:20270314T030000
TZOFFSETFROM:-0400
TZOFFSETTO:-0500
TZNAME:America/Toronto EST
END:STANDARD
BEGIN:STANDARD
DTSTART:20271107T010000
RDATE:20280312T030000
TZOFFSETFROM:-0400
TZOFFSETTO:-0500
TZNAME:America/Toronto EST
END:STANDARD
BEGIN:STANDARD
DTSTART:20281105T010000
RDATE:20290311T030000
TZOFFSETFROM:-0400
TZOFFSETTO:-0500
TZNAME:America/Toronto EST
END:STANDARD
BEGIN:STANDARD
DTSTART:20291104T010000
RDATE:20300310T030000
TZOFFSETFROM:-0400
TZOFFSETTO:-0500
TZNAME:America/Toronto EST
END:STANDARD
BEGIN:STANDARD
DTSTART:20301103T010000
RDATE:20310309T030000
TZOFFSETFROM:-0400
TZOFFSETTO:-0500
TZNAME:America/Toronto EST
END:STANDARD
BEGIN:STANDARD
DTSTART:20311102T010000
RDATE:20320314T030000
TZOFFSETFROM:-0400
TZOFFSETTO:-0500
TZNAME:America/Toronto EST
END:STANDARD
BEGIN:DAYLIGHT
DTSTART:20240411T080000
RDATE:20241103T010000
TZOFFSETFROM:-0500
TZOFFSETTO:-0400
TZNAME:America/Toronto EDT
END:DAYLIGHT
BEGIN:DAYLIGHT
DTSTART:20250309T030000
RDATE:20251102T010000
TZOFFSETFROM:-0500
TZOFFSETTO:-0400
TZNAME:America/Toronto EDT
END:DAYLIGHT
BEGIN:DAYLIGHT
DTSTART:20260308T030000
RDATE:20261101T010000
TZOFFSETFROM:-0500
TZOFFSETTO:-0400
TZNAME:America/Toronto EDT
END:DAYLIGHT
BEGIN:DAYLIGHT
DTSTART:20270314T030000
RDATE:20271107T010000
TZOFFSETFROM:-0500
TZOFFSETTO:-0400
TZNAME:America/Toronto EDT
END:DAYLIGHT
BEGIN:DAYLIGHT
DTSTART:20280312T030000
RDATE:20281105T010000
TZOFFSETFROM:-0500
TZOFFSETTO:-0400
TZNAME:America/Toronto EDT
END:DAYLIGHT
BEGIN:DAYLIGHT
DTSTART:20290311T030000
RDATE:20291104T010000
TZOFFSETFROM:-0500
TZOFFSETTO:-0400
TZNAME:America/Toronto EDT
END:DAYLIGHT
BEGIN:DAYLIGHT
DTSTART:20300310T030000
RDATE:20301103T010000
TZOFFSETFROM:-0500
TZOFFSETTO:-0400
TZNAME:America/Toronto EDT
END:DAYLIGHT
BEGIN:DAYLIGHT
DTSTART:20310309T030000
RDATE:20311102T010000
TZOFFSETFROM:-0500
TZOFFSETTO:-0400
TZNAME:America/Toronto EDT
END:DAYLIGHT
END:VTIMEZONE
BEGIN:VEVENT
UID:0900e3fad7ea6753a74c66d06dd20e43
CATEGORIES:Durham Events
CREATED:20250305T075011
SUMMARY:Scugog Kids' Clothing and Toy Sale
LOCATION:Scugog Community Centre (1655 Reach St. Port Perry)
DESCRIPTION:Come and shop a huge selection of gently used brand name items! Everything 
 is sorted by gender and size to make it an easy experience.You will find; c
 hildren’s clothing (newborn to size 16), shoes, toys, puzzles, games, books
 , bikes, sports equipment plus baby gear including bedding, strollers, high
  chairs, swings, maternity clothing and more!Event Hours: 8 a.m. – 9 a.m. (
 Priority shopping, $5 admission) 9 a.m. -12 p.m. ($2 admission) Children ar
 e free!New consignors are welcome. Student volunteer hours available.Procee
 ds from the sale proudly support Big Brothers Big Sisters of North Durham.P
 AYMENT OPTIONS: Debit and Credit (Service Fee applies)northdurham.bigbrothe
 rsbigsisters.ca/kidsclothingandtoysale
X-ALT-DESC;FMTTYPE=text/html:<div data-olk-copy-source="MessageBody">Come and shop a huge selection of g
 ently used brand name items! Everything is sorted by gender and size to mak
 e it an easy experience.</div><div>You will find; children’s clothing (newb
 orn to size 16), shoes, toys, puzzles, games, books, bikes, sports equipmen
 t plus baby gear including bedding, strollers, high chairs, swings, materni
 ty clothing and more!</div><div>Event Hours: 8 a.m. – 9 a.m. (Priority shop
 ping, $5 admission) 9 a.m. -12 p.m. ($2 admission) Children are free!</div>
 <div>New consignors are welcome. Student volunteer hours available.</div><d
 iv>Proceeds from the sale proudly support Big Brothers Big Sisters of North
  Durham.</div><div>PAYMENT OPTIONS: Debit and Credit (Service Fee applies)<
 /div><div>northdurham.bigbrothersbigsisters.ca/kidsclothingandtoysale</div>
CONTACT:This email address is being protected from spambots. You need JavaScript enabled to view it.
DTSTAMP:20260421T141237
DTSTART;TZID=America/Toronto:20250412T080000
DTEND;TZID=America/Toronto:20250412T120000
SEQUENCE:0
TRANSP:OPAQUE
END:VEVENT
END:VCALENDAR