BEGIN:VCALENDAR
VERSION:2.0
PRODID:-//jEvents 2.0 for Joomla//EN
CALSCALE:GREGORIAN
METHOD:PUBLISH
BEGIN:VTIMEZONE
TZID:America/Toronto
BEGIN:STANDARD
DTSTART:20240308T073000
RDATE:20240310T030000
TZOFFSETFROM:-0400
TZOFFSETTO:-0500
TZNAME:America/Toronto EST
END:STANDARD
BEGIN:STANDARD
DTSTART:20241103T010000
RDATE:20250309T030000
TZOFFSETFROM:-0400
TZOFFSETTO:-0500
TZNAME:America/Toronto EST
END:STANDARD
BEGIN:STANDARD
DTSTART:20251102T010000
RDATE:20260308T030000
TZOFFSETFROM:-0400
TZOFFSETTO:-0500
TZNAME:America/Toronto EST
END:STANDARD
BEGIN:STANDARD
DTSTART:20261101T010000
RDATE:20270314T030000
TZOFFSETFROM:-0400
TZOFFSETTO:-0500
TZNAME:America/Toronto EST
END:STANDARD
BEGIN:STANDARD
DTSTART:20271107T010000
RDATE:20280312T030000
TZOFFSETFROM:-0400
TZOFFSETTO:-0500
TZNAME:America/Toronto EST
END:STANDARD
BEGIN:STANDARD
DTSTART:20281105T010000
RDATE:20290311T030000
TZOFFSETFROM:-0400
TZOFFSETTO:-0500
TZNAME:America/Toronto EST
END:STANDARD
BEGIN:STANDARD
DTSTART:20291104T010000
RDATE:20300310T030000
TZOFFSETFROM:-0400
TZOFFSETTO:-0500
TZNAME:America/Toronto EST
END:STANDARD
BEGIN:STANDARD
DTSTART:20301103T010000
RDATE:20310309T030000
TZOFFSETFROM:-0400
TZOFFSETTO:-0500
TZNAME:America/Toronto EST
END:STANDARD
BEGIN:STANDARD
DTSTART:20311102T010000
RDATE:20320314T030000
TZOFFSETFROM:-0400
TZOFFSETTO:-0500
TZNAME:America/Toronto EST
END:STANDARD
BEGIN:DAYLIGHT
DTSTART:20240310T030000
RDATE:20241103T010000
TZOFFSETFROM:-0500
TZOFFSETTO:-0400
TZNAME:America/Toronto EDT
END:DAYLIGHT
BEGIN:DAYLIGHT
DTSTART:20250309T030000
RDATE:20251102T010000
TZOFFSETFROM:-0500
TZOFFSETTO:-0400
TZNAME:America/Toronto EDT
END:DAYLIGHT
BEGIN:DAYLIGHT
DTSTART:20260308T030000
RDATE:20261101T010000
TZOFFSETFROM:-0500
TZOFFSETTO:-0400
TZNAME:America/Toronto EDT
END:DAYLIGHT
BEGIN:DAYLIGHT
DTSTART:20270314T030000
RDATE:20271107T010000
TZOFFSETFROM:-0500
TZOFFSETTO:-0400
TZNAME:America/Toronto EDT
END:DAYLIGHT
BEGIN:DAYLIGHT
DTSTART:20280312T030000
RDATE:20281105T010000
TZOFFSETFROM:-0500
TZOFFSETTO:-0400
TZNAME:America/Toronto EDT
END:DAYLIGHT
BEGIN:DAYLIGHT
DTSTART:20290311T030000
RDATE:20291104T010000
TZOFFSETFROM:-0500
TZOFFSETTO:-0400
TZNAME:America/Toronto EDT
END:DAYLIGHT
BEGIN:DAYLIGHT
DTSTART:20300310T030000
RDATE:20301103T010000
TZOFFSETFROM:-0500
TZOFFSETTO:-0400
TZNAME:America/Toronto EDT
END:DAYLIGHT
BEGIN:DAYLIGHT
DTSTART:20310309T030000
RDATE:20311102T010000
TZOFFSETFROM:-0500
TZOFFSETTO:-0400
TZNAME:America/Toronto EDT
END:DAYLIGHT
END:VTIMEZONE
BEGIN:VEVENT
UID:1b57e5526d720007b611b15ebdc3bf6e
CATEGORIES:Durham Events
CREATED:20250306T111016
SUMMARY:Flow for a Cause – An International Women's Day Event
LOCATION:62 King St West\, Bowmanville ON
DESCRIPTION:Flow for a CauseMove with Purpose, Give with Heart\nJoin us for Flow for a 
 Cause, a gentle yoga flow infused with breathwork and mindfulness in suppor
 t of Bethesda House, a vital organization providing safety and support for 
 women and families in our community experiencing gender-based violence.\nFl
 ow for a Cause – An International Women's Day Event Canadahelps (https://ww
 w.canadahelps.org/en/charities/bethesda-house/p2p/flow-for-a-cause-an-inter
 national-womens-day-event/)\nHosted at Markets in Bowmanville, a vibrant sp
 ace filled with unique hand-crafted treasures and home to the town’s best c
 offee and treats from Roam Coffee &amp; Nest Specialty Desserts, this event
  is all about movement, mindfulness, and giving back in a way that directly
  impacts our community.\nLed by Jessi from Nirmana Yoga—this practice is de
 signed to help you slow down, release tension, and reconnect with yourself 
 through intentional movement and breath. This all-level class will guide yo
 u into a space of deep relaxation and awareness, leaving you feeling refres
 hed and centered.\nThis event is proudly sponsored by Lululemon Oshawa Cent
 re, and we encourage you to continue the spirit of community by shopping at
  Market's extensive collection of local artisans after class— and don't for
 get to wander over to Second Chance Thrift Store, located just across the s
 treet, in which all of your purchases directly support Bethesda House.\nTwo
  Ways to Support:Join us in practice – Purchase a ticket and take part in t
 his meaningful experience.Donate – Even if you can’t attend, your support m
 akes a difference.\nThose who make the largest donations will be entered in
 to a draw to win class passes, yoga mats, and other amazing prizes!\n
X-ALT-DESC;FMTTYPE=text/html:<h1 class="header--xl header--custom">Flow for a Cause</h1><p><strong>Move 
 with Purpose, Give with Heart</strong></p><p>Join us for <strong>Flow for a
  Cause</strong>, a <strong>gentle yoga flow infused with breathwork and min
 dfulness</strong> in support of <strong>Bethesda House</strong>, a vital or
 ganization providing safety and support for women and families in our commu
 nity experiencing gender-based violence.</p><p><a href="https://www.canadah
 elps.org/en/charities/bethesda-house/p2p/flow-for-a-cause-an-international-
 womens-day-event/">Flow for a Cause – An International Women's Day Event Ca
 nadahelps</a></p><p>Hosted at <strong>Markets in Bowmanville</strong>, a vi
 brant space filled with unique hand-crafted treasures and home to the town’
 s best coffee and treats from <strong>Roam Coffee &amp; Nest Specialty Dess
 erts</strong>, this event is all about movement, mindfulness, and giving ba
 ck in a way that directly impacts our community.</p><p>Led by <strong>Jessi
  from Nirmana Yoga</strong>—this practice is designed to help you slow down
 , release tension, and reconnect with yourself through intentional movement
  and breath. This all-level class will guide you into a space of deep relax
 ation and awareness, leaving you feeling refreshed and centered.</p><p>This
  event is <strong>proudly sponsored by Lululemon Oshawa Centre</strong>, an
 d we encourage you to continue the spirit of community by shopping at Marke
 t's extensive collection of local artisans after class— and don't forget to
  wander over to <b>Second<strong> Chance Thrift Store</strong></b>, located
  just across the street, in which all of your purchases directly support Be
 thesda House.</p><h3><strong>Two Ways to Support:</strong></h3><h3><strong>
 Join us in practice</strong> – Purchase a ticket and take part in this mean
 ingful experience.</h3><p><strong>Donate</strong> – Even if you can’t atten
 d, your support makes a difference.</p><p>Those who make the <strong>larges
 t donations</strong> will be entered into a draw to <strong>win class passe
 s, yoga mats, and other amazing prizes</strong>!</p>
CONTACT:This email address is being protected from spambots. You need JavaScript enabled to view it.
DTSTAMP:20260421T185117
DTSTART;TZID=America/Toronto:20250309T083000
DTEND;TZID=America/Toronto:20250309T094500
SEQUENCE:0
TRANSP:OPAQUE
END:VEVENT
END:VCALENDAR