BEGIN:VCALENDAR
VERSION:2.0
PRODID:-//jEvents 2.0 for Joomla//EN
CALSCALE:GREGORIAN
METHOD:PUBLISH
BEGIN:VTIMEZONE
TZID:America/Toronto
BEGIN:STANDARD
DTSTART:20241103T010000
RDATE:20250309T030000
TZOFFSETFROM:-0400
TZOFFSETTO:-0500
TZNAME:America/Toronto EST
END:STANDARD
BEGIN:STANDARD
DTSTART:20251102T010000
RDATE:20260308T030000
TZOFFSETFROM:-0400
TZOFFSETTO:-0500
TZNAME:America/Toronto EST
END:STANDARD
BEGIN:STANDARD
DTSTART:20261101T010000
RDATE:20270314T030000
TZOFFSETFROM:-0400
TZOFFSETTO:-0500
TZNAME:America/Toronto EST
END:STANDARD
BEGIN:STANDARD
DTSTART:20271107T010000
RDATE:20280312T030000
TZOFFSETFROM:-0400
TZOFFSETTO:-0500
TZNAME:America/Toronto EST
END:STANDARD
BEGIN:STANDARD
DTSTART:20281105T010000
RDATE:20290311T030000
TZOFFSETFROM:-0400
TZOFFSETTO:-0500
TZNAME:America/Toronto EST
END:STANDARD
BEGIN:STANDARD
DTSTART:20291104T010000
RDATE:20300310T030000
TZOFFSETFROM:-0400
TZOFFSETTO:-0500
TZNAME:America/Toronto EST
END:STANDARD
BEGIN:STANDARD
DTSTART:20301103T010000
RDATE:20310309T030000
TZOFFSETFROM:-0400
TZOFFSETTO:-0500
TZNAME:America/Toronto EST
END:STANDARD
BEGIN:STANDARD
DTSTART:20311102T010000
RDATE:20320314T030000
TZOFFSETFROM:-0400
TZOFFSETTO:-0500
TZNAME:America/Toronto EST
END:STANDARD
BEGIN:DAYLIGHT
DTSTART:20240430T180000
RDATE:20241103T010000
TZOFFSETFROM:-0500
TZOFFSETTO:-0400
TZNAME:America/Toronto EDT
END:DAYLIGHT
BEGIN:DAYLIGHT
DTSTART:20250309T030000
RDATE:20251102T010000
TZOFFSETFROM:-0500
TZOFFSETTO:-0400
TZNAME:America/Toronto EDT
END:DAYLIGHT
BEGIN:DAYLIGHT
DTSTART:20260308T030000
RDATE:20261101T010000
TZOFFSETFROM:-0500
TZOFFSETTO:-0400
TZNAME:America/Toronto EDT
END:DAYLIGHT
BEGIN:DAYLIGHT
DTSTART:20270314T030000
RDATE:20271107T010000
TZOFFSETFROM:-0500
TZOFFSETTO:-0400
TZNAME:America/Toronto EDT
END:DAYLIGHT
BEGIN:DAYLIGHT
DTSTART:20280312T030000
RDATE:20281105T010000
TZOFFSETFROM:-0500
TZOFFSETTO:-0400
TZNAME:America/Toronto EDT
END:DAYLIGHT
BEGIN:DAYLIGHT
DTSTART:20290311T030000
RDATE:20291104T010000
TZOFFSETFROM:-0500
TZOFFSETTO:-0400
TZNAME:America/Toronto EDT
END:DAYLIGHT
BEGIN:DAYLIGHT
DTSTART:20300310T030000
RDATE:20301103T010000
TZOFFSETFROM:-0500
TZOFFSETTO:-0400
TZNAME:America/Toronto EDT
END:DAYLIGHT
BEGIN:DAYLIGHT
DTSTART:20310309T030000
RDATE:20311102T010000
TZOFFSETFROM:-0500
TZOFFSETTO:-0400
TZNAME:America/Toronto EDT
END:DAYLIGHT
END:VTIMEZONE
BEGIN:VEVENT
UID:40c12fdb2f45fa0943319a9c5c72ed96
CATEGORIES:Durham Events
CREATED:19691231T190000
SUMMARY:Oshawa Art Association Juried Art Exhibition
LOCATION:The Robert McLaughlin Gallery
DESCRIPTION:The Oshawa Art Association’s 57th Annual Juried Art Exhibition Opening Rece
 ption at The Robert McLaughlin Gallery on May 1, will be a great opportunit
 y to see some local talent.\nIt’s always fun to attend openings, especially
  when there is an opportunity to meet the artists. There will be live music
  by Dave Saliba, light refreshments and a cash bar. Doors open at 6 pm and 
 the awards will be at 7 pm.\nThis exhibition runs until May 18, 2025. \nThe
  Robert McLaughlin Gallery https://rmg.on.ca/visit/ is open Tuesday to  Sun
 day from 10 am to 4 pm. Free parking on the weekend.\nhttps://www.oshawaart
 association.com/new-page-1\n
X-ALT-DESC;FMTTYPE=text/html:<p>The Oshawa Art Association’s 57th Annual Juried Art Exhibition Opening R
 eception at The Robert McLaughlin Gallery on May 1, will be a great opportu
 nity to see some local talent.</p><p>It’s always fun to attend openings, es
 pecially when there is an opportunity to meet the artists. There will be li
 ve music by Dave Saliba, light refreshments and a cash bar. Doors open at 6
  pm and the awards will be at 7 pm.</p><p>This exhibition runs until May 18
 , 2025. </p><p>The Robert McLaughlin Gallery https://rmg.on.ca/visit/ is op
 en Tuesday to  Sunday from 10 am to 4 pm. Free parking on the weekend.</p><
 p>https://www.oshawaartassociation.com/new-page-1</p>
CONTACT:newsletter.oaa@gmail.com
X-EXTRAINFO:https://www.oshawaartassociation.com\n
DTSTAMP:20260421T160027
DTSTART;TZID=America/Toronto:20250501T180000
DTEND;TZID=America/Toronto:20250501T210000
SEQUENCE:0
RRULE:FREQ=DAILY;UNTIL=20250519T000000Z;INTERVAL=1
TRANSP:OPAQUE
END:VEVENT
END:VCALENDAR