BEGIN:VCALENDAR
VERSION:2.0
PRODID:-//jEvents 2.0 for Joomla//EN
CALSCALE:GREGORIAN
METHOD:PUBLISH
BEGIN:VTIMEZONE
TZID:America/Toronto
BEGIN:STANDARD
DTSTART:20241103T010000
RDATE:20250309T030000
TZOFFSETFROM:-0400
TZOFFSETTO:-0500
TZNAME:America/Toronto EST
END:STANDARD
BEGIN:STANDARD
DTSTART:20251102T010000
RDATE:20260308T030000
TZOFFSETFROM:-0400
TZOFFSETTO:-0500
TZNAME:America/Toronto EST
END:STANDARD
BEGIN:STANDARD
DTSTART:20261101T010000
RDATE:20270314T030000
TZOFFSETFROM:-0400
TZOFFSETTO:-0500
TZNAME:America/Toronto EST
END:STANDARD
BEGIN:STANDARD
DTSTART:20271107T010000
RDATE:20280312T030000
TZOFFSETFROM:-0400
TZOFFSETTO:-0500
TZNAME:America/Toronto EST
END:STANDARD
BEGIN:STANDARD
DTSTART:20281105T010000
RDATE:20290311T030000
TZOFFSETFROM:-0400
TZOFFSETTO:-0500
TZNAME:America/Toronto EST
END:STANDARD
BEGIN:STANDARD
DTSTART:20291104T010000
RDATE:20300310T030000
TZOFFSETFROM:-0400
TZOFFSETTO:-0500
TZNAME:America/Toronto EST
END:STANDARD
BEGIN:STANDARD
DTSTART:20301103T010000
RDATE:20310309T030000
TZOFFSETFROM:-0400
TZOFFSETTO:-0500
TZNAME:America/Toronto EST
END:STANDARD
BEGIN:STANDARD
DTSTART:20311102T010000
RDATE:20320314T030000
TZOFFSETFROM:-0400
TZOFFSETTO:-0500
TZNAME:America/Toronto EST
END:STANDARD
BEGIN:DAYLIGHT
DTSTART:20240524T103000
RDATE:20241103T010000
TZOFFSETFROM:-0500
TZOFFSETTO:-0400
TZNAME:America/Toronto EDT
END:DAYLIGHT
BEGIN:DAYLIGHT
DTSTART:20250309T030000
RDATE:20251102T010000
TZOFFSETFROM:-0500
TZOFFSETTO:-0400
TZNAME:America/Toronto EDT
END:DAYLIGHT
BEGIN:DAYLIGHT
DTSTART:20260308T030000
RDATE:20261101T010000
TZOFFSETFROM:-0500
TZOFFSETTO:-0400
TZNAME:America/Toronto EDT
END:DAYLIGHT
BEGIN:DAYLIGHT
DTSTART:20270314T030000
RDATE:20271107T010000
TZOFFSETFROM:-0500
TZOFFSETTO:-0400
TZNAME:America/Toronto EDT
END:DAYLIGHT
BEGIN:DAYLIGHT
DTSTART:20280312T030000
RDATE:20281105T010000
TZOFFSETFROM:-0500
TZOFFSETTO:-0400
TZNAME:America/Toronto EDT
END:DAYLIGHT
BEGIN:DAYLIGHT
DTSTART:20290311T030000
RDATE:20291104T010000
TZOFFSETFROM:-0500
TZOFFSETTO:-0400
TZNAME:America/Toronto EDT
END:DAYLIGHT
BEGIN:DAYLIGHT
DTSTART:20300310T030000
RDATE:20301103T010000
TZOFFSETFROM:-0500
TZOFFSETTO:-0400
TZNAME:America/Toronto EDT
END:DAYLIGHT
BEGIN:DAYLIGHT
DTSTART:20310309T030000
RDATE:20311102T010000
TZOFFSETFROM:-0500
TZOFFSETTO:-0400
TZNAME:America/Toronto EDT
END:DAYLIGHT
END:VTIMEZONE
BEGIN:VEVENT
UID:28e30634775a0db8fc801abe17fbb316
CATEGORIES:Durham Events
CREATED:20250407T142657
SUMMARY:Oshawa Pet Valu Walk For Dog Guides 40th Anniversary
LOCATION:Lakefront Park W 1425 Phillip Murray Ave Unifor Local 222 Parking lot
DESCRIPTION:FREE: The North Oshawa Lions CLub are hosting the Pet Valu Walk For Dog Gui
 des. Raising money for the Lions Foundation Of Canada Dog Guides, who provi
 de Dog Guides at no charge to our fellow Canadians with disabilities. . Fam
 ily &amp; pet friendly event. No dog needed to participate. Rain or shine. 
 The walk is an approximately 5 km loop along the lakefront trail. Registere
 d walkers will receive a grab bag &amp; a draw ticket for a prize. Follow u
 s on Facebook and our Walk location page for special guest announcements an
 d fun events leading up to walk day!\n
X-ALT-DESC;FMTTYPE=text/html:<p>FREE: The North Oshawa Lions CLub are hosting the Pet Valu Walk For Dog 
 Guides. Raising money for the Lions Foundation Of Canada Dog Guides, who pr
 ovide Dog Guides at no charge to our fellow Canadians with disabilities. . 
 Family &amp; pet friendly event. No dog needed to participate. Rain or shin
 e. The walk is an approximately 5 km loop along the lakefront trail. Regist
 ered walkers will receive a grab bag &amp; a draw ticket for a prize. Follo
 w us on Facebook and our Walk location page for special guest announcements
  and fun events leading up to walk day!</p>
CONTACT:Sarah
X-EXTRAINFO:https://www.walkfordogguides.com/fundraisers/OshawaWalkforDogGuides\n\nhttp
 s://www.facebook.com/profile.php?id=100066519966115
DTSTAMP:20260421T160033
DTSTART;TZID=America/Toronto:20250525T103000
DTEND;TZID=America/Toronto:20250525T130000
SEQUENCE:0
TRANSP:OPAQUE
END:VEVENT
END:VCALENDAR