BEGIN:VCALENDAR
VERSION:2.0
PRODID:-//jEvents 2.0 for Joomla//EN
CALSCALE:GREGORIAN
METHOD:PUBLISH
BEGIN:VTIMEZONE
TZID:America/Toronto
BEGIN:STANDARD
DTSTART:20241103T010000
RDATE:20250309T030000
TZOFFSETFROM:-0400
TZOFFSETTO:-0500
TZNAME:America/Toronto EST
END:STANDARD
BEGIN:STANDARD
DTSTART:20251102T010000
RDATE:20260308T030000
TZOFFSETFROM:-0400
TZOFFSETTO:-0500
TZNAME:America/Toronto EST
END:STANDARD
BEGIN:STANDARD
DTSTART:20261101T010000
RDATE:20270314T030000
TZOFFSETFROM:-0400
TZOFFSETTO:-0500
TZNAME:America/Toronto EST
END:STANDARD
BEGIN:STANDARD
DTSTART:20271107T010000
RDATE:20280312T030000
TZOFFSETFROM:-0400
TZOFFSETTO:-0500
TZNAME:America/Toronto EST
END:STANDARD
BEGIN:STANDARD
DTSTART:20281105T010000
RDATE:20290311T030000
TZOFFSETFROM:-0400
TZOFFSETTO:-0500
TZNAME:America/Toronto EST
END:STANDARD
BEGIN:STANDARD
DTSTART:20291104T010000
RDATE:20300310T030000
TZOFFSETFROM:-0400
TZOFFSETTO:-0500
TZNAME:America/Toronto EST
END:STANDARD
BEGIN:STANDARD
DTSTART:20301103T010000
RDATE:20310309T030000
TZOFFSETFROM:-0400
TZOFFSETTO:-0500
TZNAME:America/Toronto EST
END:STANDARD
BEGIN:STANDARD
DTSTART:20311102T010000
RDATE:20320314T030000
TZOFFSETFROM:-0400
TZOFFSETTO:-0500
TZNAME:America/Toronto EST
END:STANDARD
BEGIN:DAYLIGHT
DTSTART:20240530T110000
RDATE:20241103T010000
TZOFFSETFROM:-0500
TZOFFSETTO:-0400
TZNAME:America/Toronto EDT
END:DAYLIGHT
BEGIN:DAYLIGHT
DTSTART:20250309T030000
RDATE:20251102T010000
TZOFFSETFROM:-0500
TZOFFSETTO:-0400
TZNAME:America/Toronto EDT
END:DAYLIGHT
BEGIN:DAYLIGHT
DTSTART:20260308T030000
RDATE:20261101T010000
TZOFFSETFROM:-0500
TZOFFSETTO:-0400
TZNAME:America/Toronto EDT
END:DAYLIGHT
BEGIN:DAYLIGHT
DTSTART:20270314T030000
RDATE:20271107T010000
TZOFFSETFROM:-0500
TZOFFSETTO:-0400
TZNAME:America/Toronto EDT
END:DAYLIGHT
BEGIN:DAYLIGHT
DTSTART:20280312T030000
RDATE:20281105T010000
TZOFFSETFROM:-0500
TZOFFSETTO:-0400
TZNAME:America/Toronto EDT
END:DAYLIGHT
BEGIN:DAYLIGHT
DTSTART:20290311T030000
RDATE:20291104T010000
TZOFFSETFROM:-0500
TZOFFSETTO:-0400
TZNAME:America/Toronto EDT
END:DAYLIGHT
BEGIN:DAYLIGHT
DTSTART:20300310T030000
RDATE:20301103T010000
TZOFFSETFROM:-0500
TZOFFSETTO:-0400
TZNAME:America/Toronto EDT
END:DAYLIGHT
BEGIN:DAYLIGHT
DTSTART:20310309T030000
RDATE:20311102T010000
TZOFFSETFROM:-0500
TZOFFSETTO:-0400
TZNAME:America/Toronto EDT
END:DAYLIGHT
END:VTIMEZONE
BEGIN:VEVENT
UID:b89a951e309e80974af8c7740a95f7cf
CATEGORIES:Durham Events
CREATED:20250409T135014
SUMMARY:6th Semi-Annual Creators & Classics Car + Art Show
LOCATION:Orono Fairgrounds
DESCRIPTION:Get ready to rock and roll as we kick off the countdown to our epic 6th sem
 i-annual Creators and Classics Car and Art Show on May 24th (rain or shine)
  at the Orono Fairgrounds from 11AM - 5PM!Dive into a world of classic cars
 , family fun galore (think face painting, airbrush tattoos, and kid-friendl
 y inflatable axe throwing), delicious local food trucks and vendors, a Jeep
  show 'n' shine, talented local small business vendors. Live tunes, and man
 y surprises waiting to be unveiled!Best part? This extravaganza is FREE for
  the public!Rev up your engines and pre-register your classic car now at ww
 w.creatorsandclassicsevent.com (http://www.creatorsandclassicsevent.com/) t
 o qualify for a dash plaque and one of the limited door prize bags. snag a 
 shot at winning plaques and gas cards. Secure your spot online for just $10
  or roll in on the day of for $20. Dont want to take part in the car show j
 udging, but want to bring your classic? No sweat, entry is just $5.Got ques
 tions or want to sponsor? Drop us a line at This email address is being pro
 tected from spambots. You need JavaScript enabled to view it..Calling all v
 endors and food trucks! Hurry over to our website to reserve your spot befo
 re they vanish like a puff of exhaust!Vendor + Food Truck applications for 
 MAY 24: https://form.jotform.com/242688013689064
X-ALT-DESC;FMTTYPE=text/html:<div class="xdj266r x11i5rnm xat24cr x1mh8g0r x1vvkbs">Get ready to rock an
 d roll as we kick off the countdown to our epic 6th semi-annual Creators an
 d Classics Car and Art Show on May 24th (rain or shine) at the Orono Fairgr
 ounds from 11AM - 5PM!<br class="html-br" />Dive into a world of classic ca
 rs, family fun galore (think face painting, airbrush tattoos, and kid-frien
 dly inflatable axe throwing), delicious local food trucks and vendors, a Je
 ep show 'n' shine, talented local small business vendors. Live tunes, and m
 any surprises waiting to be unveiled!</div><div class="x11i5rnm xat24cr x1m
 h8g0r x1vvkbs xtlvy1s">Best part? This extravaganza is FREE for the public!
 </div><div class="x11i5rnm xat24cr x1mh8g0r x1vvkbs xtlvy1s">Rev up your en
 gines and pre-register your classic car now at&nbsp;<a href="http://www.cre
 atorsandclassicsevent.com/" target="_blank" rel="nofollow noopener noreferr
 er" class="x1i10hfl xjbqb8w x1ejq31n xd10rxx x1sy0etr x17r0tee x972fbf xcfu
 x6l x1qhh985 xm0m39n x9f619 x1ypdohk xt0psk2 xe8uvvx xdj266r x11i5rnm xat24
 cr x1mh8g0r xexx8yu x4uap5 x18d9i69 xkhd6sd x16tdsg8 x1hl2dhg xggy1nq x1a2a
 7pz xkrqix3 x1sur9pj x1fey0fg x1s688f" tabindex="0" role="link">www.creator
 sandclassicsevent.com</a>&nbsp;to qualify for a dash plaque and one of the 
 limited door prize bags. snag a shot at winning plaques and gas cards. Secu
 re your spot online for just $10 or roll in on the day of for $20. Dont wan
 t to take part in the car show judging, but want to bring your classic? No 
 sweat, entry is just $5.</div><div class="x11i5rnm xat24cr x1mh8g0r x1vvkbs
  xtlvy1s">Got questions or want to sponsor? Drop us a line at <joomla-hidde
 n-mail  is-link="1" is-email="1" first="Y3JlYXRvcnNhbmRjbGFzc2ljc2V2ZW50" l
 ast="Z21haWwuY29t" text="Y3JlYXRvcnNhbmRjbGFzc2ljc2V2ZW50QGdtYWlsLmNvbQ==" 
 base="" >This email address is being protected from spambots. You need Java
 Script enabled to view it.</joomla-hidden-mail>.</div><div class="x11i5rnm 
 xat24cr x1mh8g0r x1vvkbs xtlvy1s">Calling all vendors and food trucks! Hurr
 y over to our website to reserve your spot before they vanish like a puff o
 f exhaust!</div><div class="x11i5rnm xat24cr x1mh8g0r x1vvkbs xtlvy1s">Vend
 or + Food Truck applications for MAY 24:&nbsp;<a href="https://form.jotform
 .com/242688013689064" target="_blank" rel="nofollow noopener noreferrer" cl
 ass="x1i10hfl xjbqb8w x1ejq31n xd10rxx x1sy0etr x17r0tee x972fbf xcfux6l x1
 qhh985 xm0m39n x9f619 x1ypdohk xt0psk2 xe8uvvx xdj266r x11i5rnm xat24cr x1m
 h8g0r xexx8yu x4uap5 x18d9i69 xkhd6sd x16tdsg8 x1hl2dhg xggy1nq x1a2a7pz xk
 rqix3 x1sur9pj x1fey0fg x1s688f" tabindex="0" role="link">https://form.jotf
 orm.com/242688013689064</a></div>
CONTACT:This email address is being protected from spambots. You need JavaScript enabled to view it.
DTSTAMP:20260421T161410
DTSTART;TZID=America/Toronto:20250531T110000
DTEND;TZID=America/Toronto:20250531T170000
SEQUENCE:0
TRANSP:OPAQUE
END:VEVENT
END:VCALENDAR