BEGIN:VCALENDAR
VERSION:2.0
PRODID:-//jEvents 2.0 for Joomla//EN
CALSCALE:GREGORIAN
METHOD:PUBLISH
BEGIN:VTIMEZONE
TZID:America/Toronto
BEGIN:STANDARD
DTSTART:20241103T010000
RDATE:20250309T030000
TZOFFSETFROM:-0400
TZOFFSETTO:-0500
TZNAME:America/Toronto EST
END:STANDARD
BEGIN:STANDARD
DTSTART:20251102T010000
RDATE:20260308T030000
TZOFFSETFROM:-0400
TZOFFSETTO:-0500
TZNAME:America/Toronto EST
END:STANDARD
BEGIN:STANDARD
DTSTART:20261101T010000
RDATE:20270314T030000
TZOFFSETFROM:-0400
TZOFFSETTO:-0500
TZNAME:America/Toronto EST
END:STANDARD
BEGIN:STANDARD
DTSTART:20271107T010000
RDATE:20280312T030000
TZOFFSETFROM:-0400
TZOFFSETTO:-0500
TZNAME:America/Toronto EST
END:STANDARD
BEGIN:STANDARD
DTSTART:20281105T010000
RDATE:20290311T030000
TZOFFSETFROM:-0400
TZOFFSETTO:-0500
TZNAME:America/Toronto EST
END:STANDARD
BEGIN:STANDARD
DTSTART:20291104T010000
RDATE:20300310T030000
TZOFFSETFROM:-0400
TZOFFSETTO:-0500
TZNAME:America/Toronto EST
END:STANDARD
BEGIN:STANDARD
DTSTART:20301103T010000
RDATE:20310309T030000
TZOFFSETFROM:-0400
TZOFFSETTO:-0500
TZNAME:America/Toronto EST
END:STANDARD
BEGIN:STANDARD
DTSTART:20311102T010000
RDATE:20320314T030000
TZOFFSETFROM:-0400
TZOFFSETTO:-0500
TZNAME:America/Toronto EST
END:STANDARD
BEGIN:DAYLIGHT
DTSTART:20240428T100000
RDATE:20241103T010000
TZOFFSETFROM:-0500
TZOFFSETTO:-0400
TZNAME:America/Toronto EDT
END:DAYLIGHT
BEGIN:DAYLIGHT
DTSTART:20250309T030000
RDATE:20251102T010000
TZOFFSETFROM:-0500
TZOFFSETTO:-0400
TZNAME:America/Toronto EDT
END:DAYLIGHT
BEGIN:DAYLIGHT
DTSTART:20260308T030000
RDATE:20261101T010000
TZOFFSETFROM:-0500
TZOFFSETTO:-0400
TZNAME:America/Toronto EDT
END:DAYLIGHT
BEGIN:DAYLIGHT
DTSTART:20270314T030000
RDATE:20271107T010000
TZOFFSETFROM:-0500
TZOFFSETTO:-0400
TZNAME:America/Toronto EDT
END:DAYLIGHT
BEGIN:DAYLIGHT
DTSTART:20280312T030000
RDATE:20281105T010000
TZOFFSETFROM:-0500
TZOFFSETTO:-0400
TZNAME:America/Toronto EDT
END:DAYLIGHT
BEGIN:DAYLIGHT
DTSTART:20290311T030000
RDATE:20291104T010000
TZOFFSETFROM:-0500
TZOFFSETTO:-0400
TZNAME:America/Toronto EDT
END:DAYLIGHT
BEGIN:DAYLIGHT
DTSTART:20300310T030000
RDATE:20301103T010000
TZOFFSETFROM:-0500
TZOFFSETTO:-0400
TZNAME:America/Toronto EDT
END:DAYLIGHT
BEGIN:DAYLIGHT
DTSTART:20310309T030000
RDATE:20311102T010000
TZOFFSETFROM:-0500
TZOFFSETTO:-0400
TZNAME:America/Toronto EDT
END:DAYLIGHT
END:VTIMEZONE
BEGIN:VEVENT
UID:b07a7811f2acde35c695c9eeafcde4af
CATEGORIES:Durham Events
CREATED:20250416T113428
SUMMARY:Heads Up! Durham - TBI Awareness, Prevention and Support
LOCATION:Oshawa Civic
DESCRIPTION:Amongst other things, they run a program where high school students spend t
 he day learning about the dangers of making poor choices such as distracted
  driving, impaired driving, etc.  It's called the Durham Region P.A.R.T.Y. 
 program (Prevent Alcohol and Risk-Related Trauma in Youth), and follows the
  course of a Motor Vehicle Collision. Geared towards all students in grades
  10-12 but especially those anticipating getting a driver’s license soon or
  students who are new drivers.  This program seeks to give the students a s
 napshot of the possible traumatic, and usually preventable, consequences of
  risk-related behaviours that can lead to injury.\n \nStudents learn about 
 brain and spinal cord injury and hear from a variety of speakers including 
 Durham Regional Police Service, Fire Services, Paramedic Services, and an i
 njury survivor. Together they bring the students face-to-face with the real
 ity of poor choices and emphasize ways to stay safe.  See Durham Region P.A
 .R.T.Y. Program - Heads Up! Durham (https://www.headsupdurham.ca/party-prog
 ram.html)\n \nTheir next program is April 29th from 10am to 2:30pm at the O
 shawa Civic. Attendees will be players from Okanagan Hockey Ontario.  \n \n
 This program is a vital component of the growing community effort to reduce
  death and injury in alcohol, drug and risk-related crashes and incidents.\
 n​\n
X-ALT-DESC;FMTTYPE=text/html:<p data-olk-copy-source="MessageBody">Amongst other things, they run a prog
 ram where high school students spend the day learning about the dangers of 
 making poor choices such as distracted driving, impaired driving, etc.&nbsp
 ; It's called the Durham Region P.A.R.T.Y. program (Prevent Alcohol and Ris
 k-Related Trauma in Youth), and follows the course of a Motor Vehicle Colli
 sion. Geared towards all students in grades 10-12 but especially those anti
 cipating getting a driver’s license soon or students who are new drivers.&n
 bsp; This program seeks to give the students a snapshot of the possible tra
 umatic, and usually preventable, consequences of risk-related behaviours th
 at can lead to injury.</p><p>&nbsp;</p><p>Students learn about brain and sp
 inal cord injury and hear from a variety of speakers including Durham Regio
 nal Police Service, Fire Services, Paramedic Services, and an injury surviv
 or. Together they bring the students face-to-face with the reality of poor 
 choices and emphasize ways to stay safe.&nbsp; See&nbsp;<a href="https://ww
 w.headsupdurham.ca/party-program.html" data-auth="NotApplicable" data-linki
 ndex="1">Durham Region P.A.R.T.Y. Program - Heads Up! Durham</a></p><p>&nbs
 p;</p><p><strong>Their next program is April 29<sup>th</sup>&nbsp;from 10am
  to 2:30pm at the Oshawa Civic. Attendees will be players from Okanagan Hoc
 key Ontario.&nbsp;&nbsp;</strong></p><p>&nbsp;</p><p>This program is a vita
 l component of the growing community effort to reduce death and injury in a
 lcohol, drug and risk-related crashes and incidents.<br />​</p>
DTSTAMP:20260421T161456
DTSTART;TZID=America/Toronto:20250429T100000
DTEND;TZID=America/Toronto:20250429T140000
SEQUENCE:0
TRANSP:OPAQUE
END:VEVENT
END:VCALENDAR