BEGIN:VCALENDAR
VERSION:2.0
PRODID:-//jEvents 2.0 for Joomla//EN
CALSCALE:GREGORIAN
METHOD:PUBLISH
BEGIN:VTIMEZONE
TZID:America/Toronto
BEGIN:STANDARD
DTSTART:20241103T010000
RDATE:20250309T030000
TZOFFSETFROM:-0400
TZOFFSETTO:-0500
TZNAME:America/Toronto EST
END:STANDARD
BEGIN:STANDARD
DTSTART:20251102T010000
RDATE:20260308T030000
TZOFFSETFROM:-0400
TZOFFSETTO:-0500
TZNAME:America/Toronto EST
END:STANDARD
BEGIN:STANDARD
DTSTART:20261101T010000
RDATE:20270314T030000
TZOFFSETFROM:-0400
TZOFFSETTO:-0500
TZNAME:America/Toronto EST
END:STANDARD
BEGIN:STANDARD
DTSTART:20271107T010000
RDATE:20280312T030000
TZOFFSETFROM:-0400
TZOFFSETTO:-0500
TZNAME:America/Toronto EST
END:STANDARD
BEGIN:STANDARD
DTSTART:20281105T010000
RDATE:20290311T030000
TZOFFSETFROM:-0400
TZOFFSETTO:-0500
TZNAME:America/Toronto EST
END:STANDARD
BEGIN:STANDARD
DTSTART:20291104T010000
RDATE:20300310T030000
TZOFFSETFROM:-0400
TZOFFSETTO:-0500
TZNAME:America/Toronto EST
END:STANDARD
BEGIN:STANDARD
DTSTART:20301103T010000
RDATE:20310309T030000
TZOFFSETFROM:-0400
TZOFFSETTO:-0500
TZNAME:America/Toronto EST
END:STANDARD
BEGIN:STANDARD
DTSTART:20311102T010000
RDATE:20320314T030000
TZOFFSETFROM:-0400
TZOFFSETTO:-0500
TZNAME:America/Toronto EST
END:STANDARD
BEGIN:DAYLIGHT
DTSTART:20240517T123000
RDATE:20241103T010000
TZOFFSETFROM:-0500
TZOFFSETTO:-0400
TZNAME:America/Toronto EDT
END:DAYLIGHT
BEGIN:DAYLIGHT
DTSTART:20250309T030000
RDATE:20251102T010000
TZOFFSETFROM:-0500
TZOFFSETTO:-0400
TZNAME:America/Toronto EDT
END:DAYLIGHT
BEGIN:DAYLIGHT
DTSTART:20260308T030000
RDATE:20261101T010000
TZOFFSETFROM:-0500
TZOFFSETTO:-0400
TZNAME:America/Toronto EDT
END:DAYLIGHT
BEGIN:DAYLIGHT
DTSTART:20270314T030000
RDATE:20271107T010000
TZOFFSETFROM:-0500
TZOFFSETTO:-0400
TZNAME:America/Toronto EDT
END:DAYLIGHT
BEGIN:DAYLIGHT
DTSTART:20280312T030000
RDATE:20281105T010000
TZOFFSETFROM:-0500
TZOFFSETTO:-0400
TZNAME:America/Toronto EDT
END:DAYLIGHT
BEGIN:DAYLIGHT
DTSTART:20290311T030000
RDATE:20291104T010000
TZOFFSETFROM:-0500
TZOFFSETTO:-0400
TZNAME:America/Toronto EDT
END:DAYLIGHT
BEGIN:DAYLIGHT
DTSTART:20300310T030000
RDATE:20301103T010000
TZOFFSETFROM:-0500
TZOFFSETTO:-0400
TZNAME:America/Toronto EDT
END:DAYLIGHT
BEGIN:DAYLIGHT
DTSTART:20310309T030000
RDATE:20311102T010000
TZOFFSETFROM:-0500
TZOFFSETTO:-0400
TZNAME:America/Toronto EDT
END:DAYLIGHT
END:VTIMEZONE
BEGIN:VEVENT
UID:ea1d0da703698e5c7a266c8c5ff185c7
CATEGORIES:Durham Events
CREATED:20250423T103944
SUMMARY:Grandpa Henry's Picnic
LOCATION:Oshawa Museum\, 1450 Simcoe St. S.\, Oshawa
DESCRIPTION:Grandpa Henry’s Picnic is back at the Oshawa Museum! To celebrate Henry Hou
 se’s 65th anniversary as a museum and International Museum Day, Grandpa Hen
 ry is throwing a picnic. On May 18, let’s party, Victorian-style! Oshawa Mu
 seum guides will host games and activities on the green, and lead tours of 
 historic Henry House. Bring your own blanket and basket and enjoy your picn
 ic in the Henry House gardens.\nGrandpa Henry’s Picnic is running from 12:3
 0–3:30 PM on May 18 at Henry House. The event is drop-in, no registration n
 eeded, and it’s free to attend (donations gratefully accepted). \n
X-ALT-DESC;FMTTYPE=text/html:<p>Grandpa Henry’s Picnic is back at the Oshawa Museum! To celebrate Henry 
 House’s 65<sup>th</sup> anniversary as a museum and International Museum Da
 y, Grandpa Henry is throwing a picnic. On May 18, let’s party, Victorian-st
 yle! Oshawa Museum guides will host games and activities on the green, and 
 lead tours of historic Henry House. Bring your own blanket and basket and e
 njoy your picnic in the Henry House gardens.</p><p>Grandpa Henry’s Picnic i
 s running from 12:30–3:30 PM on May 18 at Henry House. The event is drop-in
 , no registration needed, and it’s free to attend (donations gratefully acc
 epted). </p>
CONTACT:Lisa Terech
DTSTAMP:20260421T161414
DTSTART;TZID=America/Toronto:20250518T123000
DTEND;TZID=America/Toronto:20250518T153000
SEQUENCE:0
TRANSP:OPAQUE
END:VEVENT
END:VCALENDAR