BEGIN:VCALENDAR
VERSION:2.0
PRODID:-//jEvents 2.0 for Joomla//EN
CALSCALE:GREGORIAN
METHOD:PUBLISH
BEGIN:VTIMEZONE
TZID:America/Toronto
BEGIN:STANDARD
DTSTART:20241103T010000
RDATE:20250309T030000
TZOFFSETFROM:-0400
TZOFFSETTO:-0500
TZNAME:America/Toronto EST
END:STANDARD
BEGIN:STANDARD
DTSTART:20251102T010000
RDATE:20260308T030000
TZOFFSETFROM:-0400
TZOFFSETTO:-0500
TZNAME:America/Toronto EST
END:STANDARD
BEGIN:STANDARD
DTSTART:20261101T010000
RDATE:20270314T030000
TZOFFSETFROM:-0400
TZOFFSETTO:-0500
TZNAME:America/Toronto EST
END:STANDARD
BEGIN:STANDARD
DTSTART:20271107T010000
RDATE:20280312T030000
TZOFFSETFROM:-0400
TZOFFSETTO:-0500
TZNAME:America/Toronto EST
END:STANDARD
BEGIN:STANDARD
DTSTART:20281105T010000
RDATE:20290311T030000
TZOFFSETFROM:-0400
TZOFFSETTO:-0500
TZNAME:America/Toronto EST
END:STANDARD
BEGIN:STANDARD
DTSTART:20291104T010000
RDATE:20300310T030000
TZOFFSETFROM:-0400
TZOFFSETTO:-0500
TZNAME:America/Toronto EST
END:STANDARD
BEGIN:STANDARD
DTSTART:20301103T010000
RDATE:20310309T030000
TZOFFSETFROM:-0400
TZOFFSETTO:-0500
TZNAME:America/Toronto EST
END:STANDARD
BEGIN:STANDARD
DTSTART:20311102T010000
RDATE:20320314T030000
TZOFFSETFROM:-0400
TZOFFSETTO:-0500
TZNAME:America/Toronto EST
END:STANDARD
BEGIN:DAYLIGHT
DTSTART:20240509T100000
RDATE:20241103T010000
TZOFFSETFROM:-0500
TZOFFSETTO:-0400
TZNAME:America/Toronto EDT
END:DAYLIGHT
BEGIN:DAYLIGHT
DTSTART:20250309T030000
RDATE:20251102T010000
TZOFFSETFROM:-0500
TZOFFSETTO:-0400
TZNAME:America/Toronto EDT
END:DAYLIGHT
BEGIN:DAYLIGHT
DTSTART:20260308T030000
RDATE:20261101T010000
TZOFFSETFROM:-0500
TZOFFSETTO:-0400
TZNAME:America/Toronto EDT
END:DAYLIGHT
BEGIN:DAYLIGHT
DTSTART:20270314T030000
RDATE:20271107T010000
TZOFFSETFROM:-0500
TZOFFSETTO:-0400
TZNAME:America/Toronto EDT
END:DAYLIGHT
BEGIN:DAYLIGHT
DTSTART:20280312T030000
RDATE:20281105T010000
TZOFFSETFROM:-0500
TZOFFSETTO:-0400
TZNAME:America/Toronto EDT
END:DAYLIGHT
BEGIN:DAYLIGHT
DTSTART:20290311T030000
RDATE:20291104T010000
TZOFFSETFROM:-0500
TZOFFSETTO:-0400
TZNAME:America/Toronto EDT
END:DAYLIGHT
BEGIN:DAYLIGHT
DTSTART:20300310T030000
RDATE:20301103T010000
TZOFFSETFROM:-0500
TZOFFSETTO:-0400
TZNAME:America/Toronto EDT
END:DAYLIGHT
BEGIN:DAYLIGHT
DTSTART:20310309T030000
RDATE:20311102T010000
TZOFFSETFROM:-0500
TZOFFSETTO:-0400
TZNAME:America/Toronto EDT
END:DAYLIGHT
END:VTIMEZONE
BEGIN:VEVENT
UID:b10b82c7421eee8a2eaaf51252025bb4
CATEGORIES:Durham Events
CREATED:20250425T124922
SUMMARY:Petapolooza Pickering
LOCATION:esplanade park pickering
DESCRIPTION:<p>The City of Pickering is thrilled to announce that Petapolooza with our 
 presenting partner, Pet Valu, is back on Saturday, May 10 from 10:00 am – 5
 :00 pm at Esplanade Park. Petapolooza has become one of Pickering's largest
  outdoor events, offering attendees the chance to connect with fellow pet o
 wners and enthusiasts, industry professionals, and rescue groups.</p><p>&nb
 sp;</p><p>This year, the event will feature over 75 exhibitors, live perfor
 mances by the SuperDogs, an amateur Pet Talent Show, and a special appearan
 ce by Sparky the Fire Dog. Enjoy all-day activities such as a lure course, 
 pet coloring and tattoos, caricature artist, pawprint art, food trucks, and
  much more. Arrive early to receive your complimentary swag bag! Lindsey Na
 rraway, Supervisor of Animal Services, says, “We are thrilled to introduce 
 a new addition to Petapolooza: the Stuffy Pet Hospital!</p><p>&nbsp;</p><p>
 Bring your favorite stuffed toy for a thorough health exam and learn how to
  properly care for your pet”. Petapolooza is our biggest fundraiser of the 
 year. Last year, we raised just over $40,000, and this year we hope to rais
 e even more. With interactive games and activities for the whole family, we
  can't wait to see you and your furry friends there! Animal Services will b
 e accepting voluntary $5.00 donations, with free admission for seniors 55+,
  children under 12, and pets. All donations will support the development of
  a new Animal Shelter in Pickering.</p><p>&nbsp;</p><p>Petapolooza wouldn't
  be possible without the support of our sponsors: Pet Valu, Mr. Lube, Miche
 lle Fraser Team, Renewal by Anderson, Who’s Walking Who Dog Training Centre
 s, HiFive Kids Dental, TACC Developments, Opawz, KX96 and Consider it Dunne
 . Visit pickering.ca/Petapolooza to learn mor</p>
X-EXTRAINFO:https://www.pickering.ca/parks-recreation-culture/festivals-and-events/peta
 polooza/
DTSTAMP:20260421T161626
DTSTART;TZID=America/Toronto:20250510T100000
DTEND;TZID=America/Toronto:20250510T170000
SEQUENCE:0
TRANSP:OPAQUE
END:VEVENT
END:VCALENDAR