BEGIN:VCALENDAR
VERSION:2.0
PRODID:-//jEvents 2.0 for Joomla//EN
CALSCALE:GREGORIAN
METHOD:PUBLISH
BEGIN:VTIMEZONE
TZID:America/Toronto
BEGIN:STANDARD
DTSTART:20241103T010000
RDATE:20250309T030000
TZOFFSETFROM:-0400
TZOFFSETTO:-0500
TZNAME:America/Toronto EST
END:STANDARD
BEGIN:STANDARD
DTSTART:20251102T010000
RDATE:20260308T030000
TZOFFSETFROM:-0400
TZOFFSETTO:-0500
TZNAME:America/Toronto EST
END:STANDARD
BEGIN:STANDARD
DTSTART:20261101T010000
RDATE:20270314T030000
TZOFFSETFROM:-0400
TZOFFSETTO:-0500
TZNAME:America/Toronto EST
END:STANDARD
BEGIN:STANDARD
DTSTART:20271107T010000
RDATE:20280312T030000
TZOFFSETFROM:-0400
TZOFFSETTO:-0500
TZNAME:America/Toronto EST
END:STANDARD
BEGIN:STANDARD
DTSTART:20281105T010000
RDATE:20290311T030000
TZOFFSETFROM:-0400
TZOFFSETTO:-0500
TZNAME:America/Toronto EST
END:STANDARD
BEGIN:STANDARD
DTSTART:20291104T010000
RDATE:20300310T030000
TZOFFSETFROM:-0400
TZOFFSETTO:-0500
TZNAME:America/Toronto EST
END:STANDARD
BEGIN:STANDARD
DTSTART:20301103T010000
RDATE:20310309T030000
TZOFFSETFROM:-0400
TZOFFSETTO:-0500
TZNAME:America/Toronto EST
END:STANDARD
BEGIN:STANDARD
DTSTART:20311102T010000
RDATE:20320314T030000
TZOFFSETFROM:-0400
TZOFFSETTO:-0500
TZNAME:America/Toronto EST
END:STANDARD
BEGIN:DAYLIGHT
DTSTART:20240523T100000
RDATE:20241103T010000
TZOFFSETFROM:-0500
TZOFFSETTO:-0400
TZNAME:America/Toronto EDT
END:DAYLIGHT
BEGIN:DAYLIGHT
DTSTART:20250309T030000
RDATE:20251102T010000
TZOFFSETFROM:-0500
TZOFFSETTO:-0400
TZNAME:America/Toronto EDT
END:DAYLIGHT
BEGIN:DAYLIGHT
DTSTART:20260308T030000
RDATE:20261101T010000
TZOFFSETFROM:-0500
TZOFFSETTO:-0400
TZNAME:America/Toronto EDT
END:DAYLIGHT
BEGIN:DAYLIGHT
DTSTART:20270314T030000
RDATE:20271107T010000
TZOFFSETFROM:-0500
TZOFFSETTO:-0400
TZNAME:America/Toronto EDT
END:DAYLIGHT
BEGIN:DAYLIGHT
DTSTART:20280312T030000
RDATE:20281105T010000
TZOFFSETFROM:-0500
TZOFFSETTO:-0400
TZNAME:America/Toronto EDT
END:DAYLIGHT
BEGIN:DAYLIGHT
DTSTART:20290311T030000
RDATE:20291104T010000
TZOFFSETFROM:-0500
TZOFFSETTO:-0400
TZNAME:America/Toronto EDT
END:DAYLIGHT
BEGIN:DAYLIGHT
DTSTART:20300310T030000
RDATE:20301103T010000
TZOFFSETFROM:-0500
TZOFFSETTO:-0400
TZNAME:America/Toronto EDT
END:DAYLIGHT
BEGIN:DAYLIGHT
DTSTART:20310309T030000
RDATE:20311102T010000
TZOFFSETFROM:-0500
TZOFFSETTO:-0400
TZNAME:America/Toronto EDT
END:DAYLIGHT
END:VTIMEZONE
BEGIN:VEVENT
UID:9fccc0716303691eea65271b6c909331
CATEGORIES:Durham Events
CREATED:20250516T192356
SUMMARY:Dunny's Divots Indoor Golf - 1 Year Anniversary Celebration!
LOCATION:16050 Old Simcoe Rd\, Port Perry
DESCRIPTION:In Support of Operation Scugog Food Bank\nCome celebrate a full year of swi
 ngs, smiles and simulator fun at Dunny's Divots Indoor Golf!  We're making 
 our 1 year anniversary with a special event packed with excitement - and al
 l for a great cause. \nTry our state-of-the-art golf simulators (Foresight)
 \nMeet Jon Blomme, PGA of Canada Golf Coach - get expert tips and tricks to
  improve your game\nRaffle entry for everyone who donates to Operation Scug
 og Food Bank\nFree lunch from Gangster Cheese for the first 100 guests who 
 donate!\nWatch our socials for raffle prizes \nWe can't wait to see you!\nd
 unnysdivots.ca   @dunnysdivots  This email address is being protected from 
 spambots. You need JavaScript enabled to view it.\n
X-ALT-DESC;FMTTYPE=text/html:<p>In Support of Operation Scugog Food Bank</p><p>Come celebrate a full yea
 r of swings, smiles and simulator fun at Dunny's Divots Indoor Golf!  We're
  making our 1 year anniversary with a special event packed with excitement 
 - and all for a great cause. </p><p>Try our state-of-the-art golf simulator
 s (Foresight)</p><p>Meet Jon Blomme, PGA of Canada Golf Coach - get expert 
 tips and tricks to improve your game</p><p>Raffle entry for everyone who do
 nates to Operation Scugog Food Bank</p><p>Free lunch from Gangster Cheese f
 or the first 100 guests who donate!</p><p>Watch our socials for raffle priz
 es </p><p>We can't wait to see you!</p><p>dunnysdivots.ca   @dunnysdivots  
 <joomla-hidden-mail  is-link="1" is-email="1" first="aW5mbw==" last="ZHVubn
 lzZGl2b3RzLmNh" text="aW5mb0BkdW5ueXNkaXZvdHMuY2E=" base="" >This email add
 ress is being protected from spambots. You need JavaScript enabled to view 
 it.</joomla-hidden-mail></p>
CONTACT:Laura and Chris Dunlop 905-242-7025
X-EXTRAINFO:Opening remarks at 10:15 a.m. 
DTSTAMP:20260421T155717
DTSTART;TZID=America/Toronto:20250524T100000
DTEND;TZID=America/Toronto:20250524T133000
SEQUENCE:0
TRANSP:OPAQUE
END:VEVENT
END:VCALENDAR