BEGIN:VCALENDAR
VERSION:2.0
PRODID:-//jEvents 2.0 for Joomla//EN
CALSCALE:GREGORIAN
METHOD:PUBLISH
BEGIN:VTIMEZONE
TZID:America/Toronto
BEGIN:STANDARD
DTSTART:20241103T010000
RDATE:20250309T030000
TZOFFSETFROM:-0400
TZOFFSETTO:-0500
TZNAME:America/Toronto EST
END:STANDARD
BEGIN:STANDARD
DTSTART:20251102T010000
RDATE:20260308T030000
TZOFFSETFROM:-0400
TZOFFSETTO:-0500
TZNAME:America/Toronto EST
END:STANDARD
BEGIN:STANDARD
DTSTART:20261101T010000
RDATE:20270314T030000
TZOFFSETFROM:-0400
TZOFFSETTO:-0500
TZNAME:America/Toronto EST
END:STANDARD
BEGIN:STANDARD
DTSTART:20271107T010000
RDATE:20280312T030000
TZOFFSETFROM:-0400
TZOFFSETTO:-0500
TZNAME:America/Toronto EST
END:STANDARD
BEGIN:STANDARD
DTSTART:20281105T010000
RDATE:20290311T030000
TZOFFSETFROM:-0400
TZOFFSETTO:-0500
TZNAME:America/Toronto EST
END:STANDARD
BEGIN:STANDARD
DTSTART:20291104T010000
RDATE:20300310T030000
TZOFFSETFROM:-0400
TZOFFSETTO:-0500
TZNAME:America/Toronto EST
END:STANDARD
BEGIN:STANDARD
DTSTART:20301103T010000
RDATE:20310309T030000
TZOFFSETFROM:-0400
TZOFFSETTO:-0500
TZNAME:America/Toronto EST
END:STANDARD
BEGIN:STANDARD
DTSTART:20311102T010000
RDATE:20320314T030000
TZOFFSETFROM:-0400
TZOFFSETTO:-0500
TZNAME:America/Toronto EST
END:STANDARD
BEGIN:DAYLIGHT
DTSTART:20240528T180000
RDATE:20241103T010000
TZOFFSETFROM:-0500
TZOFFSETTO:-0400
TZNAME:America/Toronto EDT
END:DAYLIGHT
BEGIN:DAYLIGHT
DTSTART:20250309T030000
RDATE:20251102T010000
TZOFFSETFROM:-0500
TZOFFSETTO:-0400
TZNAME:America/Toronto EDT
END:DAYLIGHT
BEGIN:DAYLIGHT
DTSTART:20260308T030000
RDATE:20261101T010000
TZOFFSETFROM:-0500
TZOFFSETTO:-0400
TZNAME:America/Toronto EDT
END:DAYLIGHT
BEGIN:DAYLIGHT
DTSTART:20270314T030000
RDATE:20271107T010000
TZOFFSETFROM:-0500
TZOFFSETTO:-0400
TZNAME:America/Toronto EDT
END:DAYLIGHT
BEGIN:DAYLIGHT
DTSTART:20280312T030000
RDATE:20281105T010000
TZOFFSETFROM:-0500
TZOFFSETTO:-0400
TZNAME:America/Toronto EDT
END:DAYLIGHT
BEGIN:DAYLIGHT
DTSTART:20290311T030000
RDATE:20291104T010000
TZOFFSETFROM:-0500
TZOFFSETTO:-0400
TZNAME:America/Toronto EDT
END:DAYLIGHT
BEGIN:DAYLIGHT
DTSTART:20300310T030000
RDATE:20301103T010000
TZOFFSETFROM:-0500
TZOFFSETTO:-0400
TZNAME:America/Toronto EDT
END:DAYLIGHT
BEGIN:DAYLIGHT
DTSTART:20310309T030000
RDATE:20311102T010000
TZOFFSETFROM:-0500
TZOFFSETTO:-0400
TZNAME:America/Toronto EDT
END:DAYLIGHT
END:VTIMEZONE
BEGIN:VEVENT
UID:f9ccad99d3b5286cc78f87095086a7d3
CATEGORIES:Durham Events
CREATED:20250520T170145
SUMMARY:Accessibility Awards
LOCATION:Abilities Centre\, 1 Jim Flaherty Street Whitby ON L1N 0J2
DESCRIPTION:Accessibility Awards at Abilities CentreMay 29, 2025 | Whitby, Ontario\nJoi
 n us on May 29 for Abilities Centre’s Accessibility Awards (https://abiliti
 escentre.akaraisin.com/ui/7218BE47CE6C4BE892FB67116219AB4D) – a celebration
  of accessibility and inclusion. We will honour individuals and organizatio
 ns who have demonstrated exceptional commitment to advancing accessibility 
 and inclusion over the past year. Let’s celebrate their remarkable contribu
 tions! \n
X-ALT-DESC;FMTTYPE=text/html:<p><strong data-start="219" data-end="275">Accessibility Awards at Abilitie
 s Centre</strong><br data-start="275" data-end="278" /><em data-start="278"
  data-end="313">May 29, 2025 | Whitby, Ontario</em></p><p>Join us on May 29
  for Abilities Centre’s <a href="https://abilitiescentre.akaraisin.com/ui/7
 218BE47CE6C4BE892FB67116219AB4D">Accessibility Awards</a> – a celebration o
 f accessibility and inclusion. We will honour individuals and organizations
  who have demonstrated exceptional commitment to advancing accessibility an
 d inclusion over the past year. Let’s celebrate their remarkable contributi
 ons! </p>
CONTACT:Chelsea Wolf This email address is being protected from spambots. You need JavaScript enabled to view it.
X-EXTRAINFO:Visit event website for more details and to purchase tickets: https://abili
 tiescentre.akaraisin.com/ui/7218BE47CE6C4BE892FB67116219AB4D
DTSTAMP:20260421T160034
DTSTART;TZID=America/Toronto:20250529T180000
DTEND;TZID=America/Toronto:20250529T210000
SEQUENCE:0
TRANSP:OPAQUE
END:VEVENT
END:VCALENDAR