BEGIN:VCALENDAR
VERSION:2.0
PRODID:-//jEvents 2.0 for Joomla//EN
CALSCALE:GREGORIAN
METHOD:PUBLISH
BEGIN:VTIMEZONE
TZID:America/Toronto
BEGIN:STANDARD
DTSTART:20241103T010000
RDATE:20250309T030000
TZOFFSETFROM:-0400
TZOFFSETTO:-0500
TZNAME:America/Toronto EST
END:STANDARD
BEGIN:STANDARD
DTSTART:20251102T010000
RDATE:20260308T030000
TZOFFSETFROM:-0400
TZOFFSETTO:-0500
TZNAME:America/Toronto EST
END:STANDARD
BEGIN:STANDARD
DTSTART:20261101T010000
RDATE:20270314T030000
TZOFFSETFROM:-0400
TZOFFSETTO:-0500
TZNAME:America/Toronto EST
END:STANDARD
BEGIN:STANDARD
DTSTART:20271107T010000
RDATE:20280312T030000
TZOFFSETFROM:-0400
TZOFFSETTO:-0500
TZNAME:America/Toronto EST
END:STANDARD
BEGIN:STANDARD
DTSTART:20281105T010000
RDATE:20290311T030000
TZOFFSETFROM:-0400
TZOFFSETTO:-0500
TZNAME:America/Toronto EST
END:STANDARD
BEGIN:STANDARD
DTSTART:20291104T010000
RDATE:20300310T030000
TZOFFSETFROM:-0400
TZOFFSETTO:-0500
TZNAME:America/Toronto EST
END:STANDARD
BEGIN:STANDARD
DTSTART:20301103T010000
RDATE:20310309T030000
TZOFFSETFROM:-0400
TZOFFSETTO:-0500
TZNAME:America/Toronto EST
END:STANDARD
BEGIN:STANDARD
DTSTART:20311102T010000
RDATE:20320314T030000
TZOFFSETFROM:-0400
TZOFFSETTO:-0500
TZNAME:America/Toronto EST
END:STANDARD
BEGIN:DAYLIGHT
DTSTART:20240530T100000
RDATE:20241103T010000
TZOFFSETFROM:-0500
TZOFFSETTO:-0400
TZNAME:America/Toronto EDT
END:DAYLIGHT
BEGIN:DAYLIGHT
DTSTART:20250309T030000
RDATE:20251102T010000
TZOFFSETFROM:-0500
TZOFFSETTO:-0400
TZNAME:America/Toronto EDT
END:DAYLIGHT
BEGIN:DAYLIGHT
DTSTART:20260308T030000
RDATE:20261101T010000
TZOFFSETFROM:-0500
TZOFFSETTO:-0400
TZNAME:America/Toronto EDT
END:DAYLIGHT
BEGIN:DAYLIGHT
DTSTART:20270314T030000
RDATE:20271107T010000
TZOFFSETFROM:-0500
TZOFFSETTO:-0400
TZNAME:America/Toronto EDT
END:DAYLIGHT
BEGIN:DAYLIGHT
DTSTART:20280312T030000
RDATE:20281105T010000
TZOFFSETFROM:-0500
TZOFFSETTO:-0400
TZNAME:America/Toronto EDT
END:DAYLIGHT
BEGIN:DAYLIGHT
DTSTART:20290311T030000
RDATE:20291104T010000
TZOFFSETFROM:-0500
TZOFFSETTO:-0400
TZNAME:America/Toronto EDT
END:DAYLIGHT
BEGIN:DAYLIGHT
DTSTART:20300310T030000
RDATE:20301103T010000
TZOFFSETFROM:-0500
TZOFFSETTO:-0400
TZNAME:America/Toronto EDT
END:DAYLIGHT
BEGIN:DAYLIGHT
DTSTART:20310309T030000
RDATE:20311102T010000
TZOFFSETFROM:-0500
TZOFFSETTO:-0400
TZNAME:America/Toronto EDT
END:DAYLIGHT
END:VTIMEZONE
BEGIN:VEVENT
UID:aebb4ceee0a29bae711fc86b1dcaf7ff
CATEGORIES:Durham Events
CREATED:20250523T103447
SUMMARY:Bowmanville Butter Tart Festival
LOCATION:Garnet B Rickard Rec Complex
DESCRIPTION:THE BOWMAVILLE BUTTER TART FESTIVAL IS THIS SATURDAY AT GARNET B RICKARD IN
  BOWMAVILLE FROM 10 TILL 4! \n \nENJOY SHOPPING THROUGH 80 DIFFERENT VENDOR
 S SELLING AWESOME HAND-CRAFTED ITEMS BUT ALSO DELISOUS SWEET TREATS AND OF 
 COURSE BUTTER TARTS. \n \nTHIS IS A FREE FAMILY FUN EVENT WITH FREE PARKING
  \n
X-ALT-DESC;FMTTYPE=text/html:<p>THE BOWMAVILLE BUTTER TART FESTIVAL IS THIS SATURDAY AT GARNET B&nbsp;RI
 CKARD IN BOWMAVILLE FROM 10 TILL 4!&nbsp;</p><p>&nbsp;</p><p>ENJOY SHOPPING
  THROUGH 80 DIFFERENT VENDORS SELLING AWESOME HAND-CRAFTED ITEMS BUT ALSO D
 ELISOUS SWEET TREATS AND OF COURSE BUTTER TARTS.&nbsp;</p><p>&nbsp;</p><p>T
 HIS IS A FREE FAMILY FUN EVENT WITH FREE PARKING&nbsp;</p>
X-EXTRAINFO:https://www.facebook.com/events/665534485931341/
DTSTAMP:20260421T173705
DTSTART;TZID=America/Toronto:20250531T100000
DTEND;TZID=America/Toronto:20250531T160000
SEQUENCE:0
TRANSP:OPAQUE
END:VEVENT
END:VCALENDAR