BEGIN:VCALENDAR
VERSION:2.0
PRODID:-//jEvents 2.0 for Joomla//EN
CALSCALE:GREGORIAN
METHOD:PUBLISH
BEGIN:VTIMEZONE
TZID:America/Toronto
BEGIN:STANDARD
DTSTART:20220203T200000
RDATE:20220313T030000
TZOFFSETFROM:-0400
TZOFFSETTO:-0500
TZNAME:America/Toronto EST
END:STANDARD
BEGIN:STANDARD
DTSTART:20221106T010000
RDATE:20230312T030000
TZOFFSETFROM:-0400
TZOFFSETTO:-0500
TZNAME:America/Toronto EST
END:STANDARD
BEGIN:STANDARD
DTSTART:20231105T010000
RDATE:20240310T030000
TZOFFSETFROM:-0400
TZOFFSETTO:-0500
TZNAME:America/Toronto EST
END:STANDARD
BEGIN:STANDARD
DTSTART:20241103T010000
RDATE:20250309T030000
TZOFFSETFROM:-0400
TZOFFSETTO:-0500
TZNAME:America/Toronto EST
END:STANDARD
BEGIN:STANDARD
DTSTART:20251102T010000
RDATE:20260308T030000
TZOFFSETFROM:-0400
TZOFFSETTO:-0500
TZNAME:America/Toronto EST
END:STANDARD
BEGIN:STANDARD
DTSTART:20261101T010000
RDATE:20270314T030000
TZOFFSETFROM:-0400
TZOFFSETTO:-0500
TZNAME:America/Toronto EST
END:STANDARD
BEGIN:STANDARD
DTSTART:20271107T010000
RDATE:20280312T030000
TZOFFSETFROM:-0400
TZOFFSETTO:-0500
TZNAME:America/Toronto EST
END:STANDARD
BEGIN:STANDARD
DTSTART:20281105T010000
RDATE:20290311T030000
TZOFFSETFROM:-0400
TZOFFSETTO:-0500
TZNAME:America/Toronto EST
END:STANDARD
BEGIN:STANDARD
DTSTART:20291104T010000
RDATE:20300310T030000
TZOFFSETFROM:-0400
TZOFFSETTO:-0500
TZNAME:America/Toronto EST
END:STANDARD
BEGIN:STANDARD
DTSTART:20301103T010000
RDATE:20310309T030000
TZOFFSETFROM:-0400
TZOFFSETTO:-0500
TZNAME:America/Toronto EST
END:STANDARD
BEGIN:STANDARD
DTSTART:20311102T010000
RDATE:20320314T030000
TZOFFSETFROM:-0400
TZOFFSETTO:-0500
TZNAME:America/Toronto EST
END:STANDARD
BEGIN:DAYLIGHT
DTSTART:20220313T030000
RDATE:20221106T010000
TZOFFSETFROM:-0500
TZOFFSETTO:-0400
TZNAME:America/Toronto EDT
END:DAYLIGHT
BEGIN:DAYLIGHT
DTSTART:20230312T030000
RDATE:20231105T010000
TZOFFSETFROM:-0500
TZOFFSETTO:-0400
TZNAME:America/Toronto EDT
END:DAYLIGHT
BEGIN:DAYLIGHT
DTSTART:20240310T030000
RDATE:20241103T010000
TZOFFSETFROM:-0500
TZOFFSETTO:-0400
TZNAME:America/Toronto EDT
END:DAYLIGHT
BEGIN:DAYLIGHT
DTSTART:20250309T030000
RDATE:20251102T010000
TZOFFSETFROM:-0500
TZOFFSETTO:-0400
TZNAME:America/Toronto EDT
END:DAYLIGHT
BEGIN:DAYLIGHT
DTSTART:20260308T030000
RDATE:20261101T010000
TZOFFSETFROM:-0500
TZOFFSETTO:-0400
TZNAME:America/Toronto EDT
END:DAYLIGHT
BEGIN:DAYLIGHT
DTSTART:20270314T030000
RDATE:20271107T010000
TZOFFSETFROM:-0500
TZOFFSETTO:-0400
TZNAME:America/Toronto EDT
END:DAYLIGHT
BEGIN:DAYLIGHT
DTSTART:20280312T030000
RDATE:20281105T010000
TZOFFSETFROM:-0500
TZOFFSETTO:-0400
TZNAME:America/Toronto EDT
END:DAYLIGHT
BEGIN:DAYLIGHT
DTSTART:20290311T030000
RDATE:20291104T010000
TZOFFSETFROM:-0500
TZOFFSETTO:-0400
TZNAME:America/Toronto EDT
END:DAYLIGHT
BEGIN:DAYLIGHT
DTSTART:20300310T030000
RDATE:20301103T010000
TZOFFSETFROM:-0500
TZOFFSETTO:-0400
TZNAME:America/Toronto EDT
END:DAYLIGHT
BEGIN:DAYLIGHT
DTSTART:20310309T030000
RDATE:20311102T010000
TZOFFSETFROM:-0500
TZOFFSETTO:-0400
TZNAME:America/Toronto EDT
END:DAYLIGHT
END:VTIMEZONE
BEGIN:VEVENT
UID:b938a1f7365621f6e27db59e25f3023cRR36395
CATEGORIES:Durham Events
CREATED:20230123T151006
SUMMARY:ACT presents "Wrong Window"
LOCATION:The St. Francis Centre\, 78 Church St. South\, Ajax
DESCRIPTION:Wrong Window!\nby Billy Van Zandt &amp; Jane Milmore\n \nOpens Thursday, Fe
 bruary 2, 2023\n \nFebruary 2nd - 11th, 2023\nThursdays - Saturdays at 8pm\
 nSunday, February 5th at 2pm\nOff-and-on New York couple Marnie and Jeff en
 ter an even more complicated phase of their relationship when they think th
 ey spy their cross-courtyard neighbor do away with his wife. After they dra
 w their torn curtain, the lady vanishes, and suspicion places murder beyond
  a shadow of a doubt. The bumbling witnesses sneak into their neighbor’s ap
 artment – 39 steps away – and the fun begins. Among multiple door-slammings
 , body-snatchings, and a frantic flashlight chase scene, two questions rema
 in: Who killed Lila Larswald? And… if she’s not dead…then who is? The crazy
  farce plays out on a shadow-box set that allows the audience to be present
  in one apartment, while viewing the action in its mirror-image neighboring
  unit across the way.\n
X-ALT-DESC;FMTTYPE=text/html:<p><strong>Wrong Window!</strong></p><p><strong>by Billy Van Zandt &amp; Ja
 ne Milmore</strong></p><p> </p><p><em>Opens Thursday, February 2, 2023</em>
 </p><p> </p><p><em>February 2nd - 11th, 2023</em><br /><em>Thursdays - Satu
 rdays at 8pm</em><br /><em>Sunday, February 5th at 2pm</em></p><p>Off-and-o
 n New York couple Marnie and Jeff enter an even more complicated phase of t
 heir relationship when they think they spy their cross-courtyard neighbor d
 o away with his wife. After they draw their torn curtain, the lady vanishes
 , and suspicion places murder beyond a shadow of a doubt. The bumbling witn
 esses sneak into their neighbor’s apartment – 39 steps away – and the fun b
 egins. Among multiple door-slammings, body-snatchings, and a frantic flashl
 ight chase scene, two questions remain: Who killed Lila Larswald? And… if s
 he’s not dead…then who is? The crazy farce plays out on a shadow-box set th
 at allows the audience to be present in one apartment, while viewing the ac
 tion in its mirror-image neighboring unit across the way.</p>
CONTACT:ajaxcommunitytheatre.com  289 892-4132
X-EXTRAINFO:https://ajaxcommunitytheatre.com/wp-content/uploads/2022/12/Season-for-Web-
 Site-2-1.jpg
DTSTAMP:20260421T043203
DTSTART;TZID=America/Toronto:20230204T200000
DTEND;TZID=America/Toronto:20230204T220000
SEQUENCE:0
TRANSP:OPAQUE
END:VEVENT
END:VCALENDAR