BEGIN:VCALENDAR
VERSION:2.0
PRODID:-//jEvents 2.0 for Joomla//EN
CALSCALE:GREGORIAN
METHOD:PUBLISH
BEGIN:VTIMEZONE
TZID:America/Toronto
BEGIN:STANDARD
DTSTART:20220307T150000
RDATE:20220313T030000
TZOFFSETFROM:-0400
TZOFFSETTO:-0500
TZNAME:America/Toronto EST
END:STANDARD
BEGIN:STANDARD
DTSTART:20221106T010000
RDATE:20230312T030000
TZOFFSETFROM:-0400
TZOFFSETTO:-0500
TZNAME:America/Toronto EST
END:STANDARD
BEGIN:STANDARD
DTSTART:20231105T010000
RDATE:20240310T030000
TZOFFSETFROM:-0400
TZOFFSETTO:-0500
TZNAME:America/Toronto EST
END:STANDARD
BEGIN:STANDARD
DTSTART:20241103T010000
RDATE:20250309T030000
TZOFFSETFROM:-0400
TZOFFSETTO:-0500
TZNAME:America/Toronto EST
END:STANDARD
BEGIN:STANDARD
DTSTART:20251102T010000
RDATE:20260308T030000
TZOFFSETFROM:-0400
TZOFFSETTO:-0500
TZNAME:America/Toronto EST
END:STANDARD
BEGIN:STANDARD
DTSTART:20261101T010000
RDATE:20270314T030000
TZOFFSETFROM:-0400
TZOFFSETTO:-0500
TZNAME:America/Toronto EST
END:STANDARD
BEGIN:STANDARD
DTSTART:20271107T010000
RDATE:20280312T030000
TZOFFSETFROM:-0400
TZOFFSETTO:-0500
TZNAME:America/Toronto EST
END:STANDARD
BEGIN:STANDARD
DTSTART:20281105T010000
RDATE:20290311T030000
TZOFFSETFROM:-0400
TZOFFSETTO:-0500
TZNAME:America/Toronto EST
END:STANDARD
BEGIN:STANDARD
DTSTART:20291104T010000
RDATE:20300310T030000
TZOFFSETFROM:-0400
TZOFFSETTO:-0500
TZNAME:America/Toronto EST
END:STANDARD
BEGIN:STANDARD
DTSTART:20301103T010000
RDATE:20310309T030000
TZOFFSETFROM:-0400
TZOFFSETTO:-0500
TZNAME:America/Toronto EST
END:STANDARD
BEGIN:STANDARD
DTSTART:20311102T010000
RDATE:20320314T030000
TZOFFSETFROM:-0400
TZOFFSETTO:-0500
TZNAME:America/Toronto EST
END:STANDARD
BEGIN:DAYLIGHT
DTSTART:20220313T030000
RDATE:20221106T010000
TZOFFSETFROM:-0500
TZOFFSETTO:-0400
TZNAME:America/Toronto EDT
END:DAYLIGHT
BEGIN:DAYLIGHT
DTSTART:20230312T030000
RDATE:20231105T010000
TZOFFSETFROM:-0500
TZOFFSETTO:-0400
TZNAME:America/Toronto EDT
END:DAYLIGHT
BEGIN:DAYLIGHT
DTSTART:20240310T030000
RDATE:20241103T010000
TZOFFSETFROM:-0500
TZOFFSETTO:-0400
TZNAME:America/Toronto EDT
END:DAYLIGHT
BEGIN:DAYLIGHT
DTSTART:20250309T030000
RDATE:20251102T010000
TZOFFSETFROM:-0500
TZOFFSETTO:-0400
TZNAME:America/Toronto EDT
END:DAYLIGHT
BEGIN:DAYLIGHT
DTSTART:20260308T030000
RDATE:20261101T010000
TZOFFSETFROM:-0500
TZOFFSETTO:-0400
TZNAME:America/Toronto EDT
END:DAYLIGHT
BEGIN:DAYLIGHT
DTSTART:20270314T030000
RDATE:20271107T010000
TZOFFSETFROM:-0500
TZOFFSETTO:-0400
TZNAME:America/Toronto EDT
END:DAYLIGHT
BEGIN:DAYLIGHT
DTSTART:20280312T030000
RDATE:20281105T010000
TZOFFSETFROM:-0500
TZOFFSETTO:-0400
TZNAME:America/Toronto EDT
END:DAYLIGHT
BEGIN:DAYLIGHT
DTSTART:20290311T030000
RDATE:20291104T010000
TZOFFSETFROM:-0500
TZOFFSETTO:-0400
TZNAME:America/Toronto EDT
END:DAYLIGHT
BEGIN:DAYLIGHT
DTSTART:20300310T030000
RDATE:20301103T010000
TZOFFSETFROM:-0500
TZOFFSETTO:-0400
TZNAME:America/Toronto EDT
END:DAYLIGHT
BEGIN:DAYLIGHT
DTSTART:20310309T030000
RDATE:20311102T010000
TZOFFSETFROM:-0500
TZOFFSETTO:-0400
TZNAME:America/Toronto EDT
END:DAYLIGHT
END:VTIMEZONE
BEGIN:VEVENT
UID:60c4f2c66e99a9d2eecaa7237ecc51fbRR36427
CATEGORIES:Durham Events
CREATED:20230213T165713
SUMMARY:Teen Advisory Group (Bowmanville)
LOCATION:163 Church St.\, Bowmanville ON
DESCRIPTION:[Grades 7-12; Ages 12-18]\n\nBowmanville Branch\nSecond Wednesday of each m
 onth (March 8, April 12, May 10, June 14)\n3:00 to 4:00 p.m.\n\nDrop in; no
  registration required.\n\nEarn volunteer hours at the library! We are look
 ing for enthusiastic youth in grades 7-12 to join our new Teen Advisory Gro
 ups (TAG). TAG members will have a say in library programs and services for
  teens, assist with children's programs, learn leadership skills, and more!
 \n\nStudents who attend TAG meetings will receive additional volunteer oppo
 rtunities throughout the year!\n\nMore info: www.clarington-library.on.ca/n
 ode/3678 (https://www.clarington-library.on.ca/node/3678)\n
X-ALT-DESC;FMTTYPE=text/html:<p>[Grades 7-12; Ages 12-18]<br /><br /><strong>Bowmanville Branch</strong>
 <br /><strong>Second Wednesday of each month (March 8, April 12, May 10, Ju
 ne 14)</strong><br /><strong>3:00 to 4:00 p.m.</strong><br /><br /><strong>
 Drop in; no registration required.</strong><br /><br />Earn volunteer hours
  at the library! We are looking for enthusiastic youth in grades 7-12 to jo
 in our new Teen Advisory Groups (TAG). TAG members will have a say in libra
 ry programs and services for teens, assist with children's programs, learn 
 leadership skills, and more!<br /><br />Students who attend TAG meetings wi
 ll receive additional volunteer opportunities throughout the year!<br /><br
  />More info: <a href="https://www.clarington-library.on.ca/node/3678" targ
 et="_blank" rel="noopener noreferrer">www.clarington-library.on.ca/node/367
 8</a></p>
CONTACT:Clarington Public Library, Museums, and Archives
X-EXTRAINFO:905-623-7322\nThis email address is being protected from spambots. You need
  JavaScript enabled to view it.\nwww.clarington-library.on.ca 
DTSTAMP:20260420T232057
DTSTART;TZID=America/Toronto:20230308T150000
DTEND;TZID=America/Toronto:20230308T160000
SEQUENCE:0
TRANSP:OPAQUE
END:VEVENT
END:VCALENDAR