BEGIN:VCALENDAR
VERSION:2.0
PRODID:-//jEvents 2.0 for Joomla//EN
CALSCALE:GREGORIAN
METHOD:PUBLISH
BEGIN:VTIMEZONE
TZID:America/Toronto
BEGIN:STANDARD
DTSTART:20220307T080000
RDATE:20220313T030000
TZOFFSETFROM:-0400
TZOFFSETTO:-0500
TZNAME:America/Toronto EST
END:STANDARD
BEGIN:STANDARD
DTSTART:20221106T010000
RDATE:20230312T030000
TZOFFSETFROM:-0400
TZOFFSETTO:-0500
TZNAME:America/Toronto EST
END:STANDARD
BEGIN:STANDARD
DTSTART:20231105T010000
RDATE:20240310T030000
TZOFFSETFROM:-0400
TZOFFSETTO:-0500
TZNAME:America/Toronto EST
END:STANDARD
BEGIN:STANDARD
DTSTART:20241103T010000
RDATE:20250309T030000
TZOFFSETFROM:-0400
TZOFFSETTO:-0500
TZNAME:America/Toronto EST
END:STANDARD
BEGIN:STANDARD
DTSTART:20251102T010000
RDATE:20260308T030000
TZOFFSETFROM:-0400
TZOFFSETTO:-0500
TZNAME:America/Toronto EST
END:STANDARD
BEGIN:STANDARD
DTSTART:20261101T010000
RDATE:20270314T030000
TZOFFSETFROM:-0400
TZOFFSETTO:-0500
TZNAME:America/Toronto EST
END:STANDARD
BEGIN:STANDARD
DTSTART:20271107T010000
RDATE:20280312T030000
TZOFFSETFROM:-0400
TZOFFSETTO:-0500
TZNAME:America/Toronto EST
END:STANDARD
BEGIN:STANDARD
DTSTART:20281105T010000
RDATE:20290311T030000
TZOFFSETFROM:-0400
TZOFFSETTO:-0500
TZNAME:America/Toronto EST
END:STANDARD
BEGIN:STANDARD
DTSTART:20291104T010000
RDATE:20300310T030000
TZOFFSETFROM:-0400
TZOFFSETTO:-0500
TZNAME:America/Toronto EST
END:STANDARD
BEGIN:STANDARD
DTSTART:20301103T010000
RDATE:20310309T030000
TZOFFSETFROM:-0400
TZOFFSETTO:-0500
TZNAME:America/Toronto EST
END:STANDARD
BEGIN:STANDARD
DTSTART:20311102T010000
RDATE:20320314T030000
TZOFFSETFROM:-0400
TZOFFSETTO:-0500
TZNAME:America/Toronto EST
END:STANDARD
BEGIN:DAYLIGHT
DTSTART:20220313T030000
RDATE:20221106T010000
TZOFFSETFROM:-0500
TZOFFSETTO:-0400
TZNAME:America/Toronto EDT
END:DAYLIGHT
BEGIN:DAYLIGHT
DTSTART:20230312T030000
RDATE:20231105T010000
TZOFFSETFROM:-0500
TZOFFSETTO:-0400
TZNAME:America/Toronto EDT
END:DAYLIGHT
BEGIN:DAYLIGHT
DTSTART:20240310T030000
RDATE:20241103T010000
TZOFFSETFROM:-0500
TZOFFSETTO:-0400
TZNAME:America/Toronto EDT
END:DAYLIGHT
BEGIN:DAYLIGHT
DTSTART:20250309T030000
RDATE:20251102T010000
TZOFFSETFROM:-0500
TZOFFSETTO:-0400
TZNAME:America/Toronto EDT
END:DAYLIGHT
BEGIN:DAYLIGHT
DTSTART:20260308T030000
RDATE:20261101T010000
TZOFFSETFROM:-0500
TZOFFSETTO:-0400
TZNAME:America/Toronto EDT
END:DAYLIGHT
BEGIN:DAYLIGHT
DTSTART:20270314T030000
RDATE:20271107T010000
TZOFFSETFROM:-0500
TZOFFSETTO:-0400
TZNAME:America/Toronto EDT
END:DAYLIGHT
BEGIN:DAYLIGHT
DTSTART:20280312T030000
RDATE:20281105T010000
TZOFFSETFROM:-0500
TZOFFSETTO:-0400
TZNAME:America/Toronto EDT
END:DAYLIGHT
BEGIN:DAYLIGHT
DTSTART:20290311T030000
RDATE:20291104T010000
TZOFFSETFROM:-0500
TZOFFSETTO:-0400
TZNAME:America/Toronto EDT
END:DAYLIGHT
BEGIN:DAYLIGHT
DTSTART:20300310T030000
RDATE:20301103T010000
TZOFFSETFROM:-0500
TZOFFSETTO:-0400
TZNAME:America/Toronto EDT
END:DAYLIGHT
BEGIN:DAYLIGHT
DTSTART:20310309T030000
RDATE:20311102T010000
TZOFFSETFROM:-0500
TZOFFSETTO:-0400
TZNAME:America/Toronto EDT
END:DAYLIGHT
END:VTIMEZONE
BEGIN:VEVENT
UID:67383a403015791e8407adc8600c5ab8
CATEGORIES:Durham Events
CREATED:20230222T132226
SUMMARY:2024 Dogs of Durham Region Fundraising Calendar Contest
LOCATION:Durham Region
DESCRIPTION:<p>Donna Banks<b>, </b>Owner of&nbsp;Donna Banks Pet Photography&nbsp;(<a h
 ref="http://donnabankspetphotography.com/" data-saferedirecturl="https://ww
 w.google.com/url?q=http://donnabankspetphotography.com/&amp;source=gmail&am
 p;ust=1677158559053000&amp;usg=AOvVaw35k9e3KI6iEo4XjLShe_p6">donnabankspetp
 hotography.com</a>) started helping Ruff Start New Beginnings raise funds, 
 by doing the Pet Santa photos, at the Pet&nbsp;Value&nbsp;in Bowmanville.&n
 bsp;As a photographer, she's also been assisting shelters with photographin
 g dogs and cats, to help them find their forever loving home.</p><p>&nbsp;T
 he 2024 Dogs of Durham Region Calendar is ready for fundraising!</p><p><a h
 ref="http://www.gogophotocontest.com/ruffstartnewbeginnings" data-saferedir
 ecturl="https://www.google.com/url?q=http://www.gogophotocontest.com/ruffst
 artnewbeginnings&amp;source=gmail&amp;ust=1677158559053000&amp;usg=AOvVaw3E
 DTUZc3gPTfRpU6zMla7P">www.gogophotocontest.com/ruffstartnewbeginnings</a>&n
 bsp;</p><p>Contestants submit a photo of their dog to the pet calendar webs
 ite, for a small fee, of about $5. Voters get to vote on their favourite(s)
 , also for a small fee, of about $1 per vote. These fees are part of the fu
 ndraiser, for Ruff Start New Beginnings.&nbsp;</p><p>Throughout the contest
 , if donations from potential sponsors can be obtained, there will be the&n
 bsp;opportunity for mini-contests. For example, “earn the most new votes by
  Friday at 8pm and win (the mini-contest prize). Those additional votes hav
 e the potential to raise more funds.</p><p>Other ways to raise funds, would
  be for contestants, who reside outside the Durham Region area, and wish to
  have their pet in the calendar, may be able to&nbsp;reserve a non-dated gr
 id spot, by submitting a photo, for a small fee, of about $10.&nbsp;&nbsp;<
 /p><p>The top 13 dogs, with the most votes, will all be grand prize winners
  and will be photographed by Donna Banks Pet Photography for the 2024 calen
 dar. The calendar will be designed by me and be available for purchase, on 
 demand. Once again, all monies received for the calendars, will go directly
  to Ruff Start New Beginnings, through a direct deposit donation management
  system.&nbsp;</p>
CONTACT:This email address is being protected from spambots. You need JavaScript enabled to view it.
DTSTAMP:20260420T213129
DTSTART;TZID=America/Toronto:20230308T080000
DTEND;TZID=America/Toronto:20230308T170000
SEQUENCE:0
TRANSP:OPAQUE
END:VEVENT
END:VCALENDAR