BEGIN:VCALENDAR
VERSION:2.0
PRODID:-//jEvents 2.0 for Joomla//EN
CALSCALE:GREGORIAN
METHOD:PUBLISH
BEGIN:VTIMEZONE
TZID:America/Toronto
BEGIN:STANDARD
DTSTART:20221106T010000
RDATE:20230312T030000
TZOFFSETFROM:-0400
TZOFFSETTO:-0500
TZNAME:America/Toronto EST
END:STANDARD
BEGIN:STANDARD
DTSTART:20231105T010000
RDATE:20240310T030000
TZOFFSETFROM:-0400
TZOFFSETTO:-0500
TZNAME:America/Toronto EST
END:STANDARD
BEGIN:STANDARD
DTSTART:20241103T010000
RDATE:20250309T030000
TZOFFSETFROM:-0400
TZOFFSETTO:-0500
TZNAME:America/Toronto EST
END:STANDARD
BEGIN:STANDARD
DTSTART:20251102T010000
RDATE:20260308T030000
TZOFFSETFROM:-0400
TZOFFSETTO:-0500
TZNAME:America/Toronto EST
END:STANDARD
BEGIN:STANDARD
DTSTART:20261101T010000
RDATE:20270314T030000
TZOFFSETFROM:-0400
TZOFFSETTO:-0500
TZNAME:America/Toronto EST
END:STANDARD
BEGIN:STANDARD
DTSTART:20271107T010000
RDATE:20280312T030000
TZOFFSETFROM:-0400
TZOFFSETTO:-0500
TZNAME:America/Toronto EST
END:STANDARD
BEGIN:STANDARD
DTSTART:20281105T010000
RDATE:20290311T030000
TZOFFSETFROM:-0400
TZOFFSETTO:-0500
TZNAME:America/Toronto EST
END:STANDARD
BEGIN:STANDARD
DTSTART:20291104T010000
RDATE:20300310T030000
TZOFFSETFROM:-0400
TZOFFSETTO:-0500
TZNAME:America/Toronto EST
END:STANDARD
BEGIN:STANDARD
DTSTART:20301103T010000
RDATE:20310309T030000
TZOFFSETFROM:-0400
TZOFFSETTO:-0500
TZNAME:America/Toronto EST
END:STANDARD
BEGIN:STANDARD
DTSTART:20311102T010000
RDATE:20320314T030000
TZOFFSETFROM:-0400
TZOFFSETTO:-0500
TZNAME:America/Toronto EST
END:STANDARD
BEGIN:DAYLIGHT
DTSTART:20220707T140000
RDATE:20221106T010000
TZOFFSETFROM:-0500
TZOFFSETTO:-0400
TZNAME:America/Toronto EDT
END:DAYLIGHT
BEGIN:DAYLIGHT
DTSTART:20230312T030000
RDATE:20231105T010000
TZOFFSETFROM:-0500
TZOFFSETTO:-0400
TZNAME:America/Toronto EDT
END:DAYLIGHT
BEGIN:DAYLIGHT
DTSTART:20240310T030000
RDATE:20241103T010000
TZOFFSETFROM:-0500
TZOFFSETTO:-0400
TZNAME:America/Toronto EDT
END:DAYLIGHT
BEGIN:DAYLIGHT
DTSTART:20250309T030000
RDATE:20251102T010000
TZOFFSETFROM:-0500
TZOFFSETTO:-0400
TZNAME:America/Toronto EDT
END:DAYLIGHT
BEGIN:DAYLIGHT
DTSTART:20260308T030000
RDATE:20261101T010000
TZOFFSETFROM:-0500
TZOFFSETTO:-0400
TZNAME:America/Toronto EDT
END:DAYLIGHT
BEGIN:DAYLIGHT
DTSTART:20270314T030000
RDATE:20271107T010000
TZOFFSETFROM:-0500
TZOFFSETTO:-0400
TZNAME:America/Toronto EDT
END:DAYLIGHT
BEGIN:DAYLIGHT
DTSTART:20280312T030000
RDATE:20281105T010000
TZOFFSETFROM:-0500
TZOFFSETTO:-0400
TZNAME:America/Toronto EDT
END:DAYLIGHT
BEGIN:DAYLIGHT
DTSTART:20290311T030000
RDATE:20291104T010000
TZOFFSETFROM:-0500
TZOFFSETTO:-0400
TZNAME:America/Toronto EDT
END:DAYLIGHT
BEGIN:DAYLIGHT
DTSTART:20300310T030000
RDATE:20301103T010000
TZOFFSETFROM:-0500
TZOFFSETTO:-0400
TZNAME:America/Toronto EDT
END:DAYLIGHT
BEGIN:DAYLIGHT
DTSTART:20310309T030000
RDATE:20311102T010000
TZOFFSETFROM:-0500
TZOFFSETTO:-0400
TZNAME:America/Toronto EDT
END:DAYLIGHT
END:VTIMEZONE
BEGIN:VEVENT
UID:47f309893fb2ec866165fdea8da3045a
CATEGORIES:Durham Events
CREATED:20230417T134227
SUMMARY:Summer Union Cemetery Tours
LOCATION:Union Cemetery\, 760 King Street West\, Oshawa
DESCRIPTION:The Oshawa Museum is proud to continue its partnership with Oshawa Union Ce
 metery in offering monthly cemetery tours May through August. Join the Osha
 wa Museum on the second Saturday afternoon in May, June, July and August to
  tour through Oshawa’s largest cemetery, Union Cemetery. Each month, a diff
 erent section or theme will be explored; Oshawa Museum guides share stories
  of well-known citizens and of everyday people who made Oshawa the communit
 y it is. The tours begin at 2pm at the front gates of Union Cemetery. Cost:
  $5/person or free for members of the Oshawa Historical Society.\nThis tour
  runs rain or shine!\nIt is recommended that participants park at the nearb
 y Oshawa Civic Recreation Complex (99 Thornton Road South) as parking at Un
 ion Cemetery is very limited (5 minute walk) More info: https://www.faceboo
 k.com/events/718836239940875/718836256607540/ 
X-ALT-DESC;FMTTYPE=text/html:<div class="x11i5rnm xat24cr x1mh8g0r x1vvkbs xdj266r">The Oshawa Museum is
  proud to continue its partnership with Oshawa Union Cemetery in offering m
 onthly cemetery tours May through August.</div><div class="x11i5rnm xat24cr
  x1mh8g0r x1vvkbs xdj266r"> </div><div class="x11i5rnm xat24cr x1mh8g0r x1v
 vkbs xtlvy1s">Join the Oshawa Museum on the second Saturday afternoon in Ma
 y, June, July and August to tour through Oshawa’s largest cemetery, Union C
 emetery. Each month, a different section or theme will be explored; Oshawa 
 Museum guides share stories of well-known citizens and of everyday people w
 ho made Oshawa the community it is. The tours begin at 2pm at the front gat
 es of Union Cemetery.</div><div class="x11i5rnm xat24cr x1mh8g0r x1vvkbs xt
 lvy1s"> </div><div class="x11i5rnm xat24cr x1mh8g0r x1vvkbs xtlvy1s">Cost: 
 $5/person or free for members of the Oshawa Historical Society.<br />This t
 our runs rain or shine!<br />It is recommended that participants park at th
 e nearby Oshawa Civic Recreation Complex (99 Thornton Road South) as parkin
 g at Union Cemetery is very limited (5 minute walk)</div><div class="x11i5r
 nm xat24cr x1mh8g0r x1vvkbs xtlvy1s"> </div><div class="x11i5rnm xat24cr x1
 mh8g0r x1vvkbs xtlvy1s">More info: <a href="https://www.facebook.com/events
 /718836239940875/718836256607540/">https://www.facebook.com/events/71883623
 9940875/718836256607540/</a> </div>
CONTACT:Lisa Terech
DTSTAMP:20260420T125612
DTSTART;TZID=America/Toronto:20230708T140000
DTEND;TZID=America/Toronto:20230708T160000
SEQUENCE:0
TRANSP:OPAQUE
END:VEVENT
END:VCALENDAR