BEGIN:VCALENDAR
VERSION:2.0
PRODID:-//jEvents 2.0 for Joomla//EN
CALSCALE:GREGORIAN
METHOD:PUBLISH
BEGIN:VTIMEZONE
TZID:America/Toronto
BEGIN:STANDARD
DTSTART:20221106T010000
RDATE:20230312T030000
TZOFFSETFROM:-0400
TZOFFSETTO:-0500
TZNAME:America/Toronto EST
END:STANDARD
BEGIN:STANDARD
DTSTART:20231105T010000
RDATE:20240310T030000
TZOFFSETFROM:-0400
TZOFFSETTO:-0500
TZNAME:America/Toronto EST
END:STANDARD
BEGIN:STANDARD
DTSTART:20241103T010000
RDATE:20250309T030000
TZOFFSETFROM:-0400
TZOFFSETTO:-0500
TZNAME:America/Toronto EST
END:STANDARD
BEGIN:STANDARD
DTSTART:20251102T010000
RDATE:20260308T030000
TZOFFSETFROM:-0400
TZOFFSETTO:-0500
TZNAME:America/Toronto EST
END:STANDARD
BEGIN:STANDARD
DTSTART:20261101T010000
RDATE:20270314T030000
TZOFFSETFROM:-0400
TZOFFSETTO:-0500
TZNAME:America/Toronto EST
END:STANDARD
BEGIN:STANDARD
DTSTART:20271107T010000
RDATE:20280312T030000
TZOFFSETFROM:-0400
TZOFFSETTO:-0500
TZNAME:America/Toronto EST
END:STANDARD
BEGIN:STANDARD
DTSTART:20281105T010000
RDATE:20290311T030000
TZOFFSETFROM:-0400
TZOFFSETTO:-0500
TZNAME:America/Toronto EST
END:STANDARD
BEGIN:STANDARD
DTSTART:20291104T010000
RDATE:20300310T030000
TZOFFSETFROM:-0400
TZOFFSETTO:-0500
TZNAME:America/Toronto EST
END:STANDARD
BEGIN:STANDARD
DTSTART:20301103T010000
RDATE:20310309T030000
TZOFFSETFROM:-0400
TZOFFSETTO:-0500
TZNAME:America/Toronto EST
END:STANDARD
BEGIN:STANDARD
DTSTART:20311102T010000
RDATE:20320314T030000
TZOFFSETFROM:-0400
TZOFFSETTO:-0500
TZNAME:America/Toronto EST
END:STANDARD
BEGIN:DAYLIGHT
DTSTART:20220601T193000
RDATE:20221106T010000
TZOFFSETFROM:-0500
TZOFFSETTO:-0400
TZNAME:America/Toronto EDT
END:DAYLIGHT
BEGIN:DAYLIGHT
DTSTART:20230312T030000
RDATE:20231105T010000
TZOFFSETFROM:-0500
TZOFFSETTO:-0400
TZNAME:America/Toronto EDT
END:DAYLIGHT
BEGIN:DAYLIGHT
DTSTART:20240310T030000
RDATE:20241103T010000
TZOFFSETFROM:-0500
TZOFFSETTO:-0400
TZNAME:America/Toronto EDT
END:DAYLIGHT
BEGIN:DAYLIGHT
DTSTART:20250309T030000
RDATE:20251102T010000
TZOFFSETFROM:-0500
TZOFFSETTO:-0400
TZNAME:America/Toronto EDT
END:DAYLIGHT
BEGIN:DAYLIGHT
DTSTART:20260308T030000
RDATE:20261101T010000
TZOFFSETFROM:-0500
TZOFFSETTO:-0400
TZNAME:America/Toronto EDT
END:DAYLIGHT
BEGIN:DAYLIGHT
DTSTART:20270314T030000
RDATE:20271107T010000
TZOFFSETFROM:-0500
TZOFFSETTO:-0400
TZNAME:America/Toronto EDT
END:DAYLIGHT
BEGIN:DAYLIGHT
DTSTART:20280312T030000
RDATE:20281105T010000
TZOFFSETFROM:-0500
TZOFFSETTO:-0400
TZNAME:America/Toronto EDT
END:DAYLIGHT
BEGIN:DAYLIGHT
DTSTART:20290311T030000
RDATE:20291104T010000
TZOFFSETFROM:-0500
TZOFFSETTO:-0400
TZNAME:America/Toronto EDT
END:DAYLIGHT
BEGIN:DAYLIGHT
DTSTART:20300310T030000
RDATE:20301103T010000
TZOFFSETFROM:-0500
TZOFFSETTO:-0400
TZNAME:America/Toronto EDT
END:DAYLIGHT
BEGIN:DAYLIGHT
DTSTART:20310309T030000
RDATE:20311102T010000
TZOFFSETFROM:-0500
TZOFFSETTO:-0400
TZNAME:America/Toronto EDT
END:DAYLIGHT
END:VTIMEZONE
BEGIN:VEVENT
UID:e14ba41d08929fb576f397a8c5bebee4RR36721
CATEGORIES:Durham Events
CREATED:20230519T183852
SUMMARY:​​Disney’s The Descendants
LOCATION:Oshawa Little Theatre 
DESCRIPTION:Oshawa Little Theatre will present Disney’s The Descendants from Thursday, 
 May 25 to Saturday, June 3. Performed by OLT’s Youth Education Program (You
 th Group) and Youth Orchestra, this highly-anticipated production will run 
 across eight captivating performances. Based on the hit Disney Channel Orig
 inal Movie franchise, Disney’s The Descendants follows the teenage children
  of some of Disney’s most infamous villains. The musical adaptation brings 
 the story to life with catchy songs, dynamic dance performances, and a fres
 h perspective on several beloved characters.\nThe show is double cast (Mick
 ey and Minnie casts) with tickets on sale now for both evening (7:30 p.m.) 
 and matinee (2 p.m.) performances. Tickets can be purchased through the Osh
 awa Little Theatre website (https://ci.ovationtix.com/36216/production/1147
 763), in person at the OLT box office or by calling (905) 723-0282.\n
X-ALT-DESC;FMTTYPE=text/html:<p style="font-weight: 400;">Oshawa Little Theatre will present <em>Disney’
 s The Descendants</em> from Thursday, May 25<sup> </sup>to Saturday, June 3
 . Performed by OLT’s Youth Education Program (Youth Group) and Youth Orches
 tra, this highly-anticipated production will run across eight captivating p
 erformances. Based on the hit Disney Channel Original Movie franchise, <em>
 Disney’s The Descendants</em> follows the teenage children of some of Disne
 y’s most infamous villains. The musical adaptation brings the story to life
  with catchy songs, dynamic dance performances, and a fresh perspective on 
 several beloved characters.</p><p style="font-weight: 400;">The show is dou
 ble cast (Mickey and Minnie casts) with tickets on sale now for both evenin
 g (7:30 p.m.) and matinee (2 p.m.) performances. Tickets can be purchased t
 hrough the <a href="https://ci.ovationtix.com/36216/production/1147763" dat
 a-saferedirecturl="https://www.google.com/url?q=https://ci.ovationtix.com/3
 6216/production/1147763&amp;source=gmail&amp;ust=1684621814270000&amp;usg=A
 OvVaw1L4v_CtjLoy96T1GMGelg8">Oshawa Little Theatre website</a>, in person a
 t the OLT box office or by calling (905) 723-0282.</p>
CONTACT:https://www.oshawalittletheatre.com/
X-EXTRAINFO:https://ci.ovationtix.com/36216/production/1147763?performanceId=11213071
DTSTAMP:20260421T224248
DTSTART;TZID=America/Toronto:20230602T193000
SEQUENCE:0
TRANSP:OPAQUE
END:VEVENT
END:VCALENDAR