BEGIN:VCALENDAR
VERSION:2.0
PRODID:-//jEvents 2.0 for Joomla//EN
CALSCALE:GREGORIAN
METHOD:PUBLISH
BEGIN:VTIMEZONE
TZID:America/Toronto
BEGIN:STANDARD
DTSTART:20221205T193000
RDATE:20230312T030000
TZOFFSETFROM:-0400
TZOFFSETTO:-0500
TZNAME:America/Toronto EST
END:STANDARD
BEGIN:STANDARD
DTSTART:20231105T010000
RDATE:20240310T030000
TZOFFSETFROM:-0400
TZOFFSETTO:-0500
TZNAME:America/Toronto EST
END:STANDARD
BEGIN:STANDARD
DTSTART:20241103T010000
RDATE:20250309T030000
TZOFFSETFROM:-0400
TZOFFSETTO:-0500
TZNAME:America/Toronto EST
END:STANDARD
BEGIN:STANDARD
DTSTART:20251102T010000
RDATE:20260308T030000
TZOFFSETFROM:-0400
TZOFFSETTO:-0500
TZNAME:America/Toronto EST
END:STANDARD
BEGIN:STANDARD
DTSTART:20261101T010000
RDATE:20270314T030000
TZOFFSETFROM:-0400
TZOFFSETTO:-0500
TZNAME:America/Toronto EST
END:STANDARD
BEGIN:STANDARD
DTSTART:20271107T010000
RDATE:20280312T030000
TZOFFSETFROM:-0400
TZOFFSETTO:-0500
TZNAME:America/Toronto EST
END:STANDARD
BEGIN:STANDARD
DTSTART:20281105T010000
RDATE:20290311T030000
TZOFFSETFROM:-0400
TZOFFSETTO:-0500
TZNAME:America/Toronto EST
END:STANDARD
BEGIN:STANDARD
DTSTART:20291104T010000
RDATE:20300310T030000
TZOFFSETFROM:-0400
TZOFFSETTO:-0500
TZNAME:America/Toronto EST
END:STANDARD
BEGIN:STANDARD
DTSTART:20301103T010000
RDATE:20310309T030000
TZOFFSETFROM:-0400
TZOFFSETTO:-0500
TZNAME:America/Toronto EST
END:STANDARD
BEGIN:STANDARD
DTSTART:20311102T010000
RDATE:20320314T030000
TZOFFSETFROM:-0400
TZOFFSETTO:-0500
TZNAME:America/Toronto EST
END:STANDARD
BEGIN:DAYLIGHT
DTSTART:20230312T030000
RDATE:20231105T010000
TZOFFSETFROM:-0500
TZOFFSETTO:-0400
TZNAME:America/Toronto EDT
END:DAYLIGHT
BEGIN:DAYLIGHT
DTSTART:20240310T030000
RDATE:20241103T010000
TZOFFSETFROM:-0500
TZOFFSETTO:-0400
TZNAME:America/Toronto EDT
END:DAYLIGHT
BEGIN:DAYLIGHT
DTSTART:20250309T030000
RDATE:20251102T010000
TZOFFSETFROM:-0500
TZOFFSETTO:-0400
TZNAME:America/Toronto EDT
END:DAYLIGHT
BEGIN:DAYLIGHT
DTSTART:20260308T030000
RDATE:20261101T010000
TZOFFSETFROM:-0500
TZOFFSETTO:-0400
TZNAME:America/Toronto EDT
END:DAYLIGHT
BEGIN:DAYLIGHT
DTSTART:20270314T030000
RDATE:20271107T010000
TZOFFSETFROM:-0500
TZOFFSETTO:-0400
TZNAME:America/Toronto EDT
END:DAYLIGHT
BEGIN:DAYLIGHT
DTSTART:20280312T030000
RDATE:20281105T010000
TZOFFSETFROM:-0500
TZOFFSETTO:-0400
TZNAME:America/Toronto EDT
END:DAYLIGHT
BEGIN:DAYLIGHT
DTSTART:20290311T030000
RDATE:20291104T010000
TZOFFSETFROM:-0500
TZOFFSETTO:-0400
TZNAME:America/Toronto EDT
END:DAYLIGHT
BEGIN:DAYLIGHT
DTSTART:20300310T030000
RDATE:20301103T010000
TZOFFSETFROM:-0500
TZOFFSETTO:-0400
TZNAME:America/Toronto EDT
END:DAYLIGHT
BEGIN:DAYLIGHT
DTSTART:20310309T030000
RDATE:20311102T010000
TZOFFSETFROM:-0500
TZOFFSETTO:-0400
TZNAME:America/Toronto EDT
END:DAYLIGHT
END:VTIMEZONE
BEGIN:VEVENT
UID:f0ef99aaffa49910904c70d09783ba0f
CATEGORIES:Durham Events
CREATED:20230701T104325
SUMMARY:Singers wanted
LOCATION:384 Hillside Ave\, Oshawa\, ON
DESCRIPTION:Have you ever caught yourself singing in the shower or singing in the car a
 s you run your errands or head into work? Did you like the Pitch Perfect mo
 vie? If so, then we have just the thing for you!  \nWe are currently lookin
 g for members of the community/public who have a passion for music and sing
 ing, to come and join us. You will receive learning tracks so there's no is
 sue if you don't read sheet music. During the weekly evening rehearsals, yo
 u will learn about our style of 4-part a cappella harmony while being able 
 to sing your part with confidence. You will learn about vocal production an
 d building your singing skills all while having fun and meeting new people!
 If you are interested in joining, please contact us at membership@DurhamSho
 resChorus.comMore information at www.DurhamShoresChorus.com (http://www.dur
 hamshoreschorus.com/) 
X-ALT-DESC;FMTTYPE=text/html:<p>Have you ever caught yourself singing in the shower or singing in the ca
 r as you run your errands or head into work? Did you like the Pitch Perfect
  movie? If so, then we have just the thing for you!  </p><div dir="auto">We
  are currently looking for members of the community/public who have a passi
 on for music and singing, to come and join us. You will receive learning tr
 acks so there's no issue if you don't read sheet music. </div><div dir="aut
 o">During the weekly evening rehearsals, you will learn about our style of 
 4-part a cappella harmony while being able to sing your part with confidenc
 e. You will learn about vocal production and building your singing skills a
 ll while having fun and meeting new people!</div><div dir="auto">If you are
  interested in joining, please contact us at membership@DurhamShoresChorus.
 <wbr />com</div><div dir="auto">More information at <a href="http://www.dur
 hamshoreschorus.com/" target="_blank" rel="noopener noreferrer" data-safere
 directurl="https://www.google.com/url?q=http://www.DurhamShoresChorus.com&a
 mp;source=gmail&amp;ust=1688308793741000&amp;usg=AOvVaw2s1c7xFiraepkgwcpsrO
 y8">www.DurhamShoresChorus.com</a> </div>
CONTACT:This email address is being protected from spambots. You need JavaScript enabled to view it.
DTSTAMP:20260419T191003
DTSTART;TZID=America/Toronto:20231206T193000
DTEND;TZID=America/Toronto:20231206T213000
SEQUENCE:0
TRANSP:OPAQUE
END:VEVENT
END:VCALENDAR