BEGIN:VCALENDAR
VERSION:2.0
PRODID:-//jEvents 2.0 for Joomla//EN
CALSCALE:GREGORIAN
METHOD:PUBLISH
BEGIN:VTIMEZONE
TZID:America/Toronto
BEGIN:STANDARD
DTSTART:20221106T010000
RDATE:20230312T030000
TZOFFSETFROM:-0400
TZOFFSETTO:-0500
TZNAME:America/Toronto EST
END:STANDARD
BEGIN:STANDARD
DTSTART:20231105T010000
RDATE:20240310T030000
TZOFFSETFROM:-0400
TZOFFSETTO:-0500
TZNAME:America/Toronto EST
END:STANDARD
BEGIN:STANDARD
DTSTART:20241103T010000
RDATE:20250309T030000
TZOFFSETFROM:-0400
TZOFFSETTO:-0500
TZNAME:America/Toronto EST
END:STANDARD
BEGIN:STANDARD
DTSTART:20251102T010000
RDATE:20260308T030000
TZOFFSETFROM:-0400
TZOFFSETTO:-0500
TZNAME:America/Toronto EST
END:STANDARD
BEGIN:STANDARD
DTSTART:20261101T010000
RDATE:20270314T030000
TZOFFSETFROM:-0400
TZOFFSETTO:-0500
TZNAME:America/Toronto EST
END:STANDARD
BEGIN:STANDARD
DTSTART:20271107T010000
RDATE:20280312T030000
TZOFFSETFROM:-0400
TZOFFSETTO:-0500
TZNAME:America/Toronto EST
END:STANDARD
BEGIN:STANDARD
DTSTART:20281105T010000
RDATE:20290311T030000
TZOFFSETFROM:-0400
TZOFFSETTO:-0500
TZNAME:America/Toronto EST
END:STANDARD
BEGIN:STANDARD
DTSTART:20291104T010000
RDATE:20300310T030000
TZOFFSETFROM:-0400
TZOFFSETTO:-0500
TZNAME:America/Toronto EST
END:STANDARD
BEGIN:STANDARD
DTSTART:20301103T010000
RDATE:20310309T030000
TZOFFSETFROM:-0400
TZOFFSETTO:-0500
TZNAME:America/Toronto EST
END:STANDARD
BEGIN:STANDARD
DTSTART:20311102T010000
RDATE:20320314T030000
TZOFFSETFROM:-0400
TZOFFSETTO:-0500
TZNAME:America/Toronto EST
END:STANDARD
BEGIN:DAYLIGHT
DTSTART:20220704T140000
RDATE:20221106T010000
TZOFFSETFROM:-0500
TZOFFSETTO:-0400
TZNAME:America/Toronto EDT
END:DAYLIGHT
BEGIN:DAYLIGHT
DTSTART:20230312T030000
RDATE:20231105T010000
TZOFFSETFROM:-0500
TZOFFSETTO:-0400
TZNAME:America/Toronto EDT
END:DAYLIGHT
BEGIN:DAYLIGHT
DTSTART:20240310T030000
RDATE:20241103T010000
TZOFFSETFROM:-0500
TZOFFSETTO:-0400
TZNAME:America/Toronto EDT
END:DAYLIGHT
BEGIN:DAYLIGHT
DTSTART:20250309T030000
RDATE:20251102T010000
TZOFFSETFROM:-0500
TZOFFSETTO:-0400
TZNAME:America/Toronto EDT
END:DAYLIGHT
BEGIN:DAYLIGHT
DTSTART:20260308T030000
RDATE:20261101T010000
TZOFFSETFROM:-0500
TZOFFSETTO:-0400
TZNAME:America/Toronto EDT
END:DAYLIGHT
BEGIN:DAYLIGHT
DTSTART:20270314T030000
RDATE:20271107T010000
TZOFFSETFROM:-0500
TZOFFSETTO:-0400
TZNAME:America/Toronto EDT
END:DAYLIGHT
BEGIN:DAYLIGHT
DTSTART:20280312T030000
RDATE:20281105T010000
TZOFFSETFROM:-0500
TZOFFSETTO:-0400
TZNAME:America/Toronto EDT
END:DAYLIGHT
BEGIN:DAYLIGHT
DTSTART:20290311T030000
RDATE:20291104T010000
TZOFFSETFROM:-0500
TZOFFSETTO:-0400
TZNAME:America/Toronto EDT
END:DAYLIGHT
BEGIN:DAYLIGHT
DTSTART:20300310T030000
RDATE:20301103T010000
TZOFFSETFROM:-0500
TZOFFSETTO:-0400
TZNAME:America/Toronto EDT
END:DAYLIGHT
BEGIN:DAYLIGHT
DTSTART:20310309T030000
RDATE:20311102T010000
TZOFFSETFROM:-0500
TZOFFSETTO:-0400
TZNAME:America/Toronto EDT
END:DAYLIGHT
END:VTIMEZONE
BEGIN:VEVENT
UID:6f62f7e6127c5a55a8014b5d039818c7
CATEGORIES:Durham Events
CREATED:20230704T140135
SUMMARY:Livita Pickering Retirement Home Movie Month
LOCATION:1645 Pickering Pkwy\, Pickering\, ON L1V 7E9
DESCRIPTION:<p><span class="WdYUQQ text-decoration-none text-strikethrough-none">July i
 s movie month!</span></p><p><span class="WdYUQQ text-decoration-none text-s
 trikethrough-none">LIVITA PARKWAY RETIREMENT RESIDENCE invites you to join 
 us every WEDNESDAY in the month of July for a Tour and a Classic Movie in o
 ur air-conditioned theatre room.</span></p><div><div class="DF_utQ _0xkaeQ"
 ><div class="aF9o6Q _0yZ6Qg"><div class="_01bRbw S9bRfA XQOilg xjeqXQ" lang
 ="en"><p class="sF7BEQ LvJyfQ DWOR5A"><span class="WdYUQQ">July 5 – 2pm, </
 span>Lilies of the Field</p></div></div></div></div><div><div class="DF_utQ
  _0xkaeQ"><div class="aF9o6Q _0yZ6Qg"><div class="_01bRbw S9bRfA XQOilg xje
 qXQ" lang="en"><p class="sF7BEQ LvJyfQ DWOR5A"><span class="WdYUQQ">July 12
 –2pm, </span>The Sting</p></div></div></div></div><div><div class="DF_utQ _
 0xkaeQ"><div class="aF9o6Q _0yZ6Qg"><div class="_01bRbw S9bRfA XQOilg xjeqX
 Q" lang="en"><p class="sF7BEQ LvJyfQ DWOR5A"><span class="WdYUQQ">July 26– 
 2pm, </span>Some Like It Hot</p></div></div></div></div><div><div class="DF
 _utQ _0xkaeQ"><div class="aF9o6Q _0yZ6Qg"><div class="_01bRbw S9bRfA XQOilg
  xjeqXQ" lang="en"><p class="sF7BEQ LvJyfQ DWOR5A"><span class="WdYUQQ">Jul
 y 19– 2pm, </span>Breakfast at Tiffany’s</p></div></div></div></div><div><d
 iv class="DF_utQ _0xkaeQ"><div class="aF9o6Q _0yZ6Qg"><div class="_01bRbw S
 9bRfA XQOilg xjeqXQ" lang="en"><p class="sF7BEQ LvJyfQ DWOR5A"><span class=
 "WdYUQQ">CALL </span>905-426-6603 TO RESERVE YOUR SPOT.</p></div></div></di
 v></div><div><div class="DF_utQ _0xkaeQ"><div class="aF9o6Q _0yZ6Qg"><div c
 lass="_01bRbw S9bRfA XQOilg xjeqXQ" lang="en"><p class="sF7BEQ LvJyfQ DWOR5
 A"><span class="WdYUQQ">Must be 70+ | Limited seating available</span></p><
 p class="sF7BEQ LvJyfQ DWOR5A"><span class="WdYUQQ">1645 Pickering Parkway,
  Pickering | www.LivingLivita.com</span></p></div></div></div></div><div> <
 /div><div> </div><div> </div><div> </div>
CONTACT:Kevin- 905-426-6603
DTSTAMP:20260420T125802
DTSTART;TZID=America/Toronto:20230705T140000
DTEND;TZID=America/Toronto:20230705T170000
SEQUENCE:0
TRANSP:OPAQUE
END:VEVENT
END:VCALENDAR