BEGIN:VCALENDAR
VERSION:2.0
PRODID:-//jEvents 2.0 for Joomla//EN
CALSCALE:GREGORIAN
METHOD:PUBLISH
BEGIN:VTIMEZONE
TZID:America/Toronto
BEGIN:STANDARD
DTSTART:20221206T100000
RDATE:20230312T030000
TZOFFSETFROM:-0400
TZOFFSETTO:-0500
TZNAME:America/Toronto EST
END:STANDARD
BEGIN:STANDARD
DTSTART:20231105T010000
RDATE:20240310T030000
TZOFFSETFROM:-0400
TZOFFSETTO:-0500
TZNAME:America/Toronto EST
END:STANDARD
BEGIN:STANDARD
DTSTART:20241103T010000
RDATE:20250309T030000
TZOFFSETFROM:-0400
TZOFFSETTO:-0500
TZNAME:America/Toronto EST
END:STANDARD
BEGIN:STANDARD
DTSTART:20251102T010000
RDATE:20260308T030000
TZOFFSETFROM:-0400
TZOFFSETTO:-0500
TZNAME:America/Toronto EST
END:STANDARD
BEGIN:STANDARD
DTSTART:20261101T010000
RDATE:20270314T030000
TZOFFSETFROM:-0400
TZOFFSETTO:-0500
TZNAME:America/Toronto EST
END:STANDARD
BEGIN:STANDARD
DTSTART:20271107T010000
RDATE:20280312T030000
TZOFFSETFROM:-0400
TZOFFSETTO:-0500
TZNAME:America/Toronto EST
END:STANDARD
BEGIN:STANDARD
DTSTART:20281105T010000
RDATE:20290311T030000
TZOFFSETFROM:-0400
TZOFFSETTO:-0500
TZNAME:America/Toronto EST
END:STANDARD
BEGIN:STANDARD
DTSTART:20291104T010000
RDATE:20300310T030000
TZOFFSETFROM:-0400
TZOFFSETTO:-0500
TZNAME:America/Toronto EST
END:STANDARD
BEGIN:STANDARD
DTSTART:20301103T010000
RDATE:20310309T030000
TZOFFSETFROM:-0400
TZOFFSETTO:-0500
TZNAME:America/Toronto EST
END:STANDARD
BEGIN:STANDARD
DTSTART:20311102T010000
RDATE:20320314T030000
TZOFFSETFROM:-0400
TZOFFSETTO:-0500
TZNAME:America/Toronto EST
END:STANDARD
BEGIN:DAYLIGHT
DTSTART:20230312T030000
RDATE:20231105T010000
TZOFFSETFROM:-0500
TZOFFSETTO:-0400
TZNAME:America/Toronto EDT
END:DAYLIGHT
BEGIN:DAYLIGHT
DTSTART:20240310T030000
RDATE:20241103T010000
TZOFFSETFROM:-0500
TZOFFSETTO:-0400
TZNAME:America/Toronto EDT
END:DAYLIGHT
BEGIN:DAYLIGHT
DTSTART:20250309T030000
RDATE:20251102T010000
TZOFFSETFROM:-0500
TZOFFSETTO:-0400
TZNAME:America/Toronto EDT
END:DAYLIGHT
BEGIN:DAYLIGHT
DTSTART:20260308T030000
RDATE:20261101T010000
TZOFFSETFROM:-0500
TZOFFSETTO:-0400
TZNAME:America/Toronto EDT
END:DAYLIGHT
BEGIN:DAYLIGHT
DTSTART:20270314T030000
RDATE:20271107T010000
TZOFFSETFROM:-0500
TZOFFSETTO:-0400
TZNAME:America/Toronto EDT
END:DAYLIGHT
BEGIN:DAYLIGHT
DTSTART:20280312T030000
RDATE:20281105T010000
TZOFFSETFROM:-0500
TZOFFSETTO:-0400
TZNAME:America/Toronto EDT
END:DAYLIGHT
BEGIN:DAYLIGHT
DTSTART:20290311T030000
RDATE:20291104T010000
TZOFFSETFROM:-0500
TZOFFSETTO:-0400
TZNAME:America/Toronto EDT
END:DAYLIGHT
BEGIN:DAYLIGHT
DTSTART:20300310T030000
RDATE:20301103T010000
TZOFFSETFROM:-0500
TZOFFSETTO:-0400
TZNAME:America/Toronto EDT
END:DAYLIGHT
BEGIN:DAYLIGHT
DTSTART:20310309T030000
RDATE:20311102T010000
TZOFFSETFROM:-0500
TZOFFSETTO:-0400
TZNAME:America/Toronto EDT
END:DAYLIGHT
END:VTIMEZONE
BEGIN:VEVENT
UID:d343ea69a552b14d4a5542a7e26e407aRR37144
CATEGORIES:Durham Events
CREATED:20231123T111120
SUMMARY:55+ Centre Holiday Mini-Bazaar
LOCATION:801 Brock St S
DESCRIPTION:All are welcome to come to the Whitby 55+ Recreation Centre for two Mini-Ba
 zaars on Thursday December 7 and Wednesday December 13, from 10am - 2pm.\nP
 ick up last minute crafts and quilted items handmade by our talented volunt
 eers!\nA raffle of gift baskets will be on display. Tickets will be 5 for $
 5 or 12 for $10. Winners will be drawn on Thursday, December 14 at 1:30 pm.
 \nTickets will also be available to purchase to win a gorgeous quilt titled
  "Purple Passion" made by our volunteer Quilt Group. Tickets are priced at 
 1 for $2, 3 for $5 and 8 for $10. The winner will be drawn on December 20 a
 t 2:00 pm.\n
X-ALT-DESC;FMTTYPE=text/html:<p>All are welcome to come to the Whitby 55+ Recreation Centre for two Mini
 -Bazaars on Thursday December 7 and Wednesday December 13, from 10am - 2pm.
 </p><p>Pick up last minute crafts and quilted items handmade by our talente
 d volunteers!</p><p>A raffle of gift baskets will be on display. Tickets wi
 ll be 5 for $5 or 12 for $10. Winners will be drawn on Thursday, December 1
 4 at 1:30 pm.</p><p>Tickets will also be available to purchase to win a gor
 geous quilt titled "Purple Passion" made by our volunteer Quilt Group. Tick
 ets are priced at 1 for $2, 3 for $5 and 8 for $10. The winner will be draw
 n on December 20 at 2:00 pm.</p>
CONTACT:905-668-1424
DTSTAMP:20260419T140901
DTSTART;TZID=America/Toronto:20231207T100000
DTEND;TZID=America/Toronto:20231207T140000
SEQUENCE:0
TRANSP:OPAQUE
END:VEVENT
END:VCALENDAR