BEGIN:VCALENDAR
VERSION:2.0
PRODID:-//jEvents 2.0 for Joomla//EN
CALSCALE:GREGORIAN
METHOD:PUBLISH
BEGIN:VTIMEZONE
TZID:America/Toronto
BEGIN:STANDARD
DTSTART:20231105T010000
RDATE:20240310T030000
TZOFFSETFROM:-0400
TZOFFSETTO:-0500
TZNAME:America/Toronto EST
END:STANDARD
BEGIN:STANDARD
DTSTART:20241103T010000
RDATE:20250309T030000
TZOFFSETFROM:-0400
TZOFFSETTO:-0500
TZNAME:America/Toronto EST
END:STANDARD
BEGIN:STANDARD
DTSTART:20251102T010000
RDATE:20260308T030000
TZOFFSETFROM:-0400
TZOFFSETTO:-0500
TZNAME:America/Toronto EST
END:STANDARD
BEGIN:STANDARD
DTSTART:20261101T010000
RDATE:20270314T030000
TZOFFSETFROM:-0400
TZOFFSETTO:-0500
TZNAME:America/Toronto EST
END:STANDARD
BEGIN:STANDARD
DTSTART:20271107T010000
RDATE:20280312T030000
TZOFFSETFROM:-0400
TZOFFSETTO:-0500
TZNAME:America/Toronto EST
END:STANDARD
BEGIN:STANDARD
DTSTART:20281105T010000
RDATE:20290311T030000
TZOFFSETFROM:-0400
TZOFFSETTO:-0500
TZNAME:America/Toronto EST
END:STANDARD
BEGIN:STANDARD
DTSTART:20291104T010000
RDATE:20300310T030000
TZOFFSETFROM:-0400
TZOFFSETTO:-0500
TZNAME:America/Toronto EST
END:STANDARD
BEGIN:STANDARD
DTSTART:20301103T010000
RDATE:20310309T030000
TZOFFSETFROM:-0400
TZOFFSETTO:-0500
TZNAME:America/Toronto EST
END:STANDARD
BEGIN:STANDARD
DTSTART:20311102T010000
RDATE:20320314T030000
TZOFFSETFROM:-0400
TZOFFSETTO:-0500
TZNAME:America/Toronto EST
END:STANDARD
BEGIN:DAYLIGHT
DTSTART:20230629T193000
RDATE:20231105T010000
TZOFFSETFROM:-0500
TZOFFSETTO:-0400
TZNAME:America/Toronto EDT
END:DAYLIGHT
BEGIN:DAYLIGHT
DTSTART:20240310T030000
RDATE:20241103T010000
TZOFFSETFROM:-0500
TZOFFSETTO:-0400
TZNAME:America/Toronto EDT
END:DAYLIGHT
BEGIN:DAYLIGHT
DTSTART:20250309T030000
RDATE:20251102T010000
TZOFFSETFROM:-0500
TZOFFSETTO:-0400
TZNAME:America/Toronto EDT
END:DAYLIGHT
BEGIN:DAYLIGHT
DTSTART:20260308T030000
RDATE:20261101T010000
TZOFFSETFROM:-0500
TZOFFSETTO:-0400
TZNAME:America/Toronto EDT
END:DAYLIGHT
BEGIN:DAYLIGHT
DTSTART:20270314T030000
RDATE:20271107T010000
TZOFFSETFROM:-0500
TZOFFSETTO:-0400
TZNAME:America/Toronto EDT
END:DAYLIGHT
BEGIN:DAYLIGHT
DTSTART:20280312T030000
RDATE:20281105T010000
TZOFFSETFROM:-0500
TZOFFSETTO:-0400
TZNAME:America/Toronto EDT
END:DAYLIGHT
BEGIN:DAYLIGHT
DTSTART:20290311T030000
RDATE:20291104T010000
TZOFFSETFROM:-0500
TZOFFSETTO:-0400
TZNAME:America/Toronto EDT
END:DAYLIGHT
BEGIN:DAYLIGHT
DTSTART:20300310T030000
RDATE:20301103T010000
TZOFFSETFROM:-0500
TZOFFSETTO:-0400
TZNAME:America/Toronto EDT
END:DAYLIGHT
BEGIN:DAYLIGHT
DTSTART:20310309T030000
RDATE:20311102T010000
TZOFFSETFROM:-0500
TZOFFSETTO:-0400
TZNAME:America/Toronto EDT
END:DAYLIGHT
END:VTIMEZONE
BEGIN:VEVENT
UID:ee0840435ee20414df7a96d5d20435aa
CATEGORIES:Durham Events
CREATED:20240227T160447
SUMMARY: Bed & Breakfast
LOCATION:20 Queen Street Port Hope
DESCRIPTION:A small-town comedy about finding a place to call home. \nBrett and Drew wa
 nt to move out of their tiny downtown condo and into a house, but they just
  lost their seventh bidding war in Toronto. When Brett’s beloved Aunt Maggi
 e dies in a nearby small town, the couple decides to make the move and star
 t up a B&amp;B out of her historic home. But when they face friction in the
 ir new community, the two discover that the simple life is more complicated
  than they thought. \nWith dozens of characters all portrayed by two actors
 , Bed and Breakfast is a theatrical tour-de-force and a riotously funny com
 edy that will leave you laughing all the way home. \n
X-ALT-DESC;FMTTYPE=text/html:<p><em><span style="font-weight: 400;">A small-town comedy about finding a 
 place to call home. </span></em></p><p><span style="font-weight: 400;">Bret
 t and Drew want to move out of their tiny downtown condo and into a house, 
 but they just lost their seventh bidding war in Toronto. When Brett’s belov
 ed Aunt Maggie dies in a nearby small town, the couple decides to make the 
 move and start up a B&amp;B out of her historic home. But when they face fr
 iction in their new community, the two discover that the simple life is mor
 e complicated than they thought. </span></p><p><span style="font-weight: 40
 0;">With dozens of characters all portrayed by two actors, </span><i><span 
 style="font-weight: 400;">Bed and Breakfast</span></i><span style="font-wei
 ght: 400;"> is a theatrical tour-de-force and a riotously funny comedy that
  will leave you laughing all the way home. </span></p>
CONTACT:Box Office at 905-885-1071
X-EXTRAINFO:Tickets available at https://capitoltheatre.com/events/bed-breakfast/
DTSTAMP:20260422T070921
DTSTART;TZID=America/Toronto:20240629T193000
SEQUENCE:0
TRANSP:OPAQUE
END:VEVENT
END:VCALENDAR