BEGIN:VCALENDAR
VERSION:2.0
PRODID:-//jEvents 2.0 for Joomla//EN
CALSCALE:GREGORIAN
METHOD:PUBLISH
BEGIN:VTIMEZONE
TZID:America/Toronto
BEGIN:STANDARD
DTSTART:20231105T010000
RDATE:20240310T030000
TZOFFSETFROM:-0400
TZOFFSETTO:-0500
TZNAME:America/Toronto EST
END:STANDARD
BEGIN:STANDARD
DTSTART:20241103T010000
RDATE:20250309T030000
TZOFFSETFROM:-0400
TZOFFSETTO:-0500
TZNAME:America/Toronto EST
END:STANDARD
BEGIN:STANDARD
DTSTART:20251102T010000
RDATE:20260308T030000
TZOFFSETFROM:-0400
TZOFFSETTO:-0500
TZNAME:America/Toronto EST
END:STANDARD
BEGIN:STANDARD
DTSTART:20261101T010000
RDATE:20270314T030000
TZOFFSETFROM:-0400
TZOFFSETTO:-0500
TZNAME:America/Toronto EST
END:STANDARD
BEGIN:STANDARD
DTSTART:20271107T010000
RDATE:20280312T030000
TZOFFSETFROM:-0400
TZOFFSETTO:-0500
TZNAME:America/Toronto EST
END:STANDARD
BEGIN:STANDARD
DTSTART:20281105T010000
RDATE:20290311T030000
TZOFFSETFROM:-0400
TZOFFSETTO:-0500
TZNAME:America/Toronto EST
END:STANDARD
BEGIN:STANDARD
DTSTART:20291104T010000
RDATE:20300310T030000
TZOFFSETFROM:-0400
TZOFFSETTO:-0500
TZNAME:America/Toronto EST
END:STANDARD
BEGIN:STANDARD
DTSTART:20301103T010000
RDATE:20310309T030000
TZOFFSETFROM:-0400
TZOFFSETTO:-0500
TZNAME:America/Toronto EST
END:STANDARD
BEGIN:STANDARD
DTSTART:20311102T010000
RDATE:20320314T030000
TZOFFSETFROM:-0400
TZOFFSETTO:-0500
TZNAME:America/Toronto EST
END:STANDARD
BEGIN:DAYLIGHT
DTSTART:20230719T193000
RDATE:20231105T010000
TZOFFSETFROM:-0500
TZOFFSETTO:-0400
TZNAME:America/Toronto EDT
END:DAYLIGHT
BEGIN:DAYLIGHT
DTSTART:20240310T030000
RDATE:20241103T010000
TZOFFSETFROM:-0500
TZOFFSETTO:-0400
TZNAME:America/Toronto EDT
END:DAYLIGHT
BEGIN:DAYLIGHT
DTSTART:20250309T030000
RDATE:20251102T010000
TZOFFSETFROM:-0500
TZOFFSETTO:-0400
TZNAME:America/Toronto EDT
END:DAYLIGHT
BEGIN:DAYLIGHT
DTSTART:20260308T030000
RDATE:20261101T010000
TZOFFSETFROM:-0500
TZOFFSETTO:-0400
TZNAME:America/Toronto EDT
END:DAYLIGHT
BEGIN:DAYLIGHT
DTSTART:20270314T030000
RDATE:20271107T010000
TZOFFSETFROM:-0500
TZOFFSETTO:-0400
TZNAME:America/Toronto EDT
END:DAYLIGHT
BEGIN:DAYLIGHT
DTSTART:20280312T030000
RDATE:20281105T010000
TZOFFSETFROM:-0500
TZOFFSETTO:-0400
TZNAME:America/Toronto EDT
END:DAYLIGHT
BEGIN:DAYLIGHT
DTSTART:20290311T030000
RDATE:20291104T010000
TZOFFSETFROM:-0500
TZOFFSETTO:-0400
TZNAME:America/Toronto EDT
END:DAYLIGHT
BEGIN:DAYLIGHT
DTSTART:20300310T030000
RDATE:20301103T010000
TZOFFSETFROM:-0500
TZOFFSETTO:-0400
TZNAME:America/Toronto EDT
END:DAYLIGHT
BEGIN:DAYLIGHT
DTSTART:20310309T030000
RDATE:20311102T010000
TZOFFSETFROM:-0500
TZOFFSETTO:-0400
TZNAME:America/Toronto EDT
END:DAYLIGHT
END:VTIMEZONE
BEGIN:VEVENT
UID:bce1ae4bf8305342611ab2ccc1329aa3
CATEGORIES:Durham Events
CREATED:20240227T160923
SUMMARY:The Capitol Theatre Presents: The Full Monty
LOCATION:Capitol Theatre: 20 Queen Street Port Hope
DESCRIPTION:A raucous, pop-rock-musical that takes it all off!\nWhile spying on their w
 ives at a "Girls' Night Out," a group of unemployed steelworkers from Buffa
 lo come up with a bold (and unclothed) way to make some quick cash. In prep
 aring for the show, they find themselves extremely exposed, both physically
  and emotionally. As they conquer their fears, self-consciousness, and prej
 udices, the men come to discover that they're stronger as a group, and the 
 strength that they find in each other gives them the individual courage to 
 let it all go. \nBased on the cult hit film, The Full Monty is filled with 
 razor-sharp humour, toe-tapping pizzazz, and the most highly anticipated cl
 osing number of any show.\n
X-ALT-DESC;FMTTYPE=text/html:<p><em><span style="font-weight: 400;">A raucous, pop-rock-musical that tak
 es it all off!</span></em></p><p><span style="font-weight: 400;">While spyi
 ng on their wives at a "Girls' Night Out," a group of unemployed steelworke
 rs from Buffalo come up with a bold (and unclothed) way to make some quick 
 cash. In preparing for the show, they find themselves extremely exposed, bo
 th physically and emotionally. As they conquer their fears, self-consciousn
 ess, and prejudices, the men come to discover that they're stronger as a gr
 oup, and the strength that they find in each other gives them the individua
 l courage to let it all go. </span></p><p><span style="font-weight: 400;">B
 ased on the cult hit film, </span><i><span style="font-weight: 400;">The Fu
 ll Monty</span></i><span style="font-weight: 400;"> is filled with razor-sh
 arp humour, toe-tapping pizzazz, and the most highly anticipated closing nu
 mber of any show.</span></p>
CONTACT:Box Office at 905-885-1071
X-EXTRAINFO:Tickets Available at https://capitoltheatre.com/events/the-full-monty/
DTSTAMP:20260422T005021
DTSTART;TZID=America/Toronto:20240719T193000
SEQUENCE:0
TRANSP:OPAQUE
END:VEVENT
END:VCALENDAR