BEGIN:VCALENDAR
VERSION:2.0
PRODID:-//jEvents 2.0 for Joomla//EN
CALSCALE:GREGORIAN
METHOD:PUBLISH
BEGIN:VTIMEZONE
TZID:America/Toronto
BEGIN:STANDARD
DTSTART:20231105T010000
RDATE:20240310T030000
TZOFFSETFROM:-0400
TZOFFSETTO:-0500
TZNAME:America/Toronto EST
END:STANDARD
BEGIN:STANDARD
DTSTART:20241103T010000
RDATE:20250309T030000
TZOFFSETFROM:-0400
TZOFFSETTO:-0500
TZNAME:America/Toronto EST
END:STANDARD
BEGIN:STANDARD
DTSTART:20251102T010000
RDATE:20260308T030000
TZOFFSETFROM:-0400
TZOFFSETTO:-0500
TZNAME:America/Toronto EST
END:STANDARD
BEGIN:STANDARD
DTSTART:20261101T010000
RDATE:20270314T030000
TZOFFSETFROM:-0400
TZOFFSETTO:-0500
TZNAME:America/Toronto EST
END:STANDARD
BEGIN:STANDARD
DTSTART:20271107T010000
RDATE:20280312T030000
TZOFFSETFROM:-0400
TZOFFSETTO:-0500
TZNAME:America/Toronto EST
END:STANDARD
BEGIN:STANDARD
DTSTART:20281105T010000
RDATE:20290311T030000
TZOFFSETFROM:-0400
TZOFFSETTO:-0500
TZNAME:America/Toronto EST
END:STANDARD
BEGIN:STANDARD
DTSTART:20291104T010000
RDATE:20300310T030000
TZOFFSETFROM:-0400
TZOFFSETTO:-0500
TZNAME:America/Toronto EST
END:STANDARD
BEGIN:STANDARD
DTSTART:20301103T010000
RDATE:20310309T030000
TZOFFSETFROM:-0400
TZOFFSETTO:-0500
TZNAME:America/Toronto EST
END:STANDARD
BEGIN:STANDARD
DTSTART:20311102T010000
RDATE:20320314T030000
TZOFFSETFROM:-0400
TZOFFSETTO:-0500
TZNAME:America/Toronto EST
END:STANDARD
BEGIN:DAYLIGHT
DTSTART:20230531T090000
RDATE:20231105T010000
TZOFFSETFROM:-0500
TZOFFSETTO:-0400
TZNAME:America/Toronto EDT
END:DAYLIGHT
BEGIN:DAYLIGHT
DTSTART:20240310T030000
RDATE:20241103T010000
TZOFFSETFROM:-0500
TZOFFSETTO:-0400
TZNAME:America/Toronto EDT
END:DAYLIGHT
BEGIN:DAYLIGHT
DTSTART:20250309T030000
RDATE:20251102T010000
TZOFFSETFROM:-0500
TZOFFSETTO:-0400
TZNAME:America/Toronto EDT
END:DAYLIGHT
BEGIN:DAYLIGHT
DTSTART:20260308T030000
RDATE:20261101T010000
TZOFFSETFROM:-0500
TZOFFSETTO:-0400
TZNAME:America/Toronto EDT
END:DAYLIGHT
BEGIN:DAYLIGHT
DTSTART:20270314T030000
RDATE:20271107T010000
TZOFFSETFROM:-0500
TZOFFSETTO:-0400
TZNAME:America/Toronto EDT
END:DAYLIGHT
BEGIN:DAYLIGHT
DTSTART:20280312T030000
RDATE:20281105T010000
TZOFFSETFROM:-0500
TZOFFSETTO:-0400
TZNAME:America/Toronto EDT
END:DAYLIGHT
BEGIN:DAYLIGHT
DTSTART:20290311T030000
RDATE:20291104T010000
TZOFFSETFROM:-0500
TZOFFSETTO:-0400
TZNAME:America/Toronto EDT
END:DAYLIGHT
BEGIN:DAYLIGHT
DTSTART:20300310T030000
RDATE:20301103T010000
TZOFFSETFROM:-0500
TZOFFSETTO:-0400
TZNAME:America/Toronto EDT
END:DAYLIGHT
BEGIN:DAYLIGHT
DTSTART:20310309T030000
RDATE:20311102T010000
TZOFFSETFROM:-0500
TZOFFSETTO:-0400
TZNAME:America/Toronto EDT
END:DAYLIGHT
END:VTIMEZONE
BEGIN:VEVENT
UID:e9bfaa772f95ed04bf1d2248952ce769
CATEGORIES:Durham Events
CREATED:20240408T112103
SUMMARY:The Cornish Are All Around Us
LOCATION:Bowmanville
DESCRIPTION:The Cornish Are All Around Us - A Heritage Event being held at Bowmanville 
  for anyone interested in the people from Cornwall, UK.  Saturday will feat
 ure four sessions about the contribution of Cornish settlers in the mid 19t
 h century to various parts of Ontario.  You might opt to take the bus tour 
 in Hamilton Twp (Cobourg and north through the township).  Saturday evening
  will see a traditional pasty supper with Celtic/Cornish entertainment by r
 enowned Celtic entertainer, Heather Dale.  Sunday will be the dedication of
  a plaque commemorating our Cornish ancestors - this will take place at Eld
 ad United Church ( formerly Bible Christian) at Solina north of Bowmanville
 .  This Souper Sunday event will be by donation to the church fund.  For fu
 rther information please contact:  This email address is being protected fr
 om spambots. You need JavaScript enabled to view it.\n
X-ALT-DESC;FMTTYPE=text/html:<p><strong>The Cornish Are All Around Us - </strong>A Heritage Event being 
 held at Bowmanville  for anyone interested in the people from Cornwall, UK.
   Saturday will feature four sessions about the contribution of Cornish set
 tlers in the mid 19th century to various parts of Ontario.  You might opt t
 o take the bus tour in Hamilton Twp (Cobourg and north through the township
 ).  Saturday evening will see a traditional pasty supper with Celtic/Cornis
 h entertainment by renowned Celtic entertainer, Heather Dale.  Sunday will 
 be the dedication of a plaque commemorating our Cornish ancestors - this wi
 ll take place at Eldad United Church ( formerly Bible Christian) at Solina 
 north of Bowmanville.  This Souper Sunday event will be by donation to the 
 church fund.  For further information please contact:  <joomla-hidden-mail 
  is-link="1" is-email="1" first="Y29ybmlzaGdhdGhlcmluZzIwMjQ=" last="Z21haW
 wuY29t" text="Y29ybmlzaGdhdGhlcmluZzIwMjRAZ21haWwuY29t" base="" >This email
  address is being protected from spambots. You need JavaScript enabled to v
 iew it.</joomla-hidden-mail></p>
CONTACT:This email address is being protected from spambots. You need JavaScript enabled to view it.
X-EXTRAINFO:or call Sher at: 905-623-9147
DTSTAMP:20260422T053500
DTSTART;TZID=America/Toronto:20240531T090000
DTEND;TZID=America/Toronto:20240531T170000
SEQUENCE:0
TRANSP:OPAQUE
END:VEVENT
END:VCALENDAR