BEGIN:VCALENDAR
VERSION:2.0
PRODID:-//jEvents 2.0 for Joomla//EN
CALSCALE:GREGORIAN
METHOD:PUBLISH
BEGIN:VTIMEZONE
TZID:America/Toronto
BEGIN:STANDARD
DTSTART:20231105T010000
RDATE:20240310T030000
TZOFFSETFROM:-0400
TZOFFSETTO:-0500
TZNAME:America/Toronto EST
END:STANDARD
BEGIN:STANDARD
DTSTART:20241103T010000
RDATE:20250309T030000
TZOFFSETFROM:-0400
TZOFFSETTO:-0500
TZNAME:America/Toronto EST
END:STANDARD
BEGIN:STANDARD
DTSTART:20251102T010000
RDATE:20260308T030000
TZOFFSETFROM:-0400
TZOFFSETTO:-0500
TZNAME:America/Toronto EST
END:STANDARD
BEGIN:STANDARD
DTSTART:20261101T010000
RDATE:20270314T030000
TZOFFSETFROM:-0400
TZOFFSETTO:-0500
TZNAME:America/Toronto EST
END:STANDARD
BEGIN:STANDARD
DTSTART:20271107T010000
RDATE:20280312T030000
TZOFFSETFROM:-0400
TZOFFSETTO:-0500
TZNAME:America/Toronto EST
END:STANDARD
BEGIN:STANDARD
DTSTART:20281105T010000
RDATE:20290311T030000
TZOFFSETFROM:-0400
TZOFFSETTO:-0500
TZNAME:America/Toronto EST
END:STANDARD
BEGIN:STANDARD
DTSTART:20291104T010000
RDATE:20300310T030000
TZOFFSETFROM:-0400
TZOFFSETTO:-0500
TZNAME:America/Toronto EST
END:STANDARD
BEGIN:STANDARD
DTSTART:20301103T010000
RDATE:20310309T030000
TZOFFSETFROM:-0400
TZOFFSETTO:-0500
TZNAME:America/Toronto EST
END:STANDARD
BEGIN:STANDARD
DTSTART:20311102T010000
RDATE:20320314T030000
TZOFFSETFROM:-0400
TZOFFSETTO:-0500
TZNAME:America/Toronto EST
END:STANDARD
BEGIN:DAYLIGHT
DTSTART:20230607T100000
RDATE:20231105T010000
TZOFFSETFROM:-0500
TZOFFSETTO:-0400
TZNAME:America/Toronto EDT
END:DAYLIGHT
BEGIN:DAYLIGHT
DTSTART:20240310T030000
RDATE:20241103T010000
TZOFFSETFROM:-0500
TZOFFSETTO:-0400
TZNAME:America/Toronto EDT
END:DAYLIGHT
BEGIN:DAYLIGHT
DTSTART:20250309T030000
RDATE:20251102T010000
TZOFFSETFROM:-0500
TZOFFSETTO:-0400
TZNAME:America/Toronto EDT
END:DAYLIGHT
BEGIN:DAYLIGHT
DTSTART:20260308T030000
RDATE:20261101T010000
TZOFFSETFROM:-0500
TZOFFSETTO:-0400
TZNAME:America/Toronto EDT
END:DAYLIGHT
BEGIN:DAYLIGHT
DTSTART:20270314T030000
RDATE:20271107T010000
TZOFFSETFROM:-0500
TZOFFSETTO:-0400
TZNAME:America/Toronto EDT
END:DAYLIGHT
BEGIN:DAYLIGHT
DTSTART:20280312T030000
RDATE:20281105T010000
TZOFFSETFROM:-0500
TZOFFSETTO:-0400
TZNAME:America/Toronto EDT
END:DAYLIGHT
BEGIN:DAYLIGHT
DTSTART:20290311T030000
RDATE:20291104T010000
TZOFFSETFROM:-0500
TZOFFSETTO:-0400
TZNAME:America/Toronto EDT
END:DAYLIGHT
BEGIN:DAYLIGHT
DTSTART:20300310T030000
RDATE:20301103T010000
TZOFFSETFROM:-0500
TZOFFSETTO:-0400
TZNAME:America/Toronto EDT
END:DAYLIGHT
BEGIN:DAYLIGHT
DTSTART:20310309T030000
RDATE:20311102T010000
TZOFFSETFROM:-0500
TZOFFSETTO:-0400
TZNAME:America/Toronto EDT
END:DAYLIGHT
END:VTIMEZONE
BEGIN:VEVENT
UID:bae97bfd8c44735f90f92d25ba52a799
CATEGORIES:Durham Events
CREATED:20240515T092124
SUMMARY:The Durham Duck Hunt
LOCATION:Durham Region 
DESCRIPTION: My name is Katie and I am a family fun blogger in the Durham Region and su
 rrounding areas. Last year I decided to host a really fun event called The 
 Durham Duck Hunt where I placed 600 ducks around the region with many linke
 d to prizes all donated by local businesses. I posted hints in my instagram
  stories to where the ducks were and the community went out to "hunt" for d
 ucks. It was like Pokemon Go meets a scavenger hunt! The event was to encou
 rage families to get outside, spend time with their children, discover new 
 parks and support small businesses. The event was such a success and blew u
 p overnight!   This year the Durham Duck Hunt will be June 7-9th. We are ai
 ming to reach 2000 ducks across the region which we can get to with 400 don
 ated prizes (so the ratio is 1 in 5 being a winner). We are off to a great 
 start so far with businesses wanting to participate but we still have a hug
 e goal ahead! Be on the look out for clues and ducks starting June 7th!
X-ALT-DESC;FMTTYPE=text/html:<div> </div><div>My name is Katie and I am a family fun blogger in the Durh
 am Region and surrounding areas. Last year I decided to host a really fun e
 vent called The Durham Duck Hunt where I placed 600 ducks around the region
  with many linked to prizes all donated by local businesses. I posted hints
  in my instagram stories to where the ducks were and the community went out
  to "hunt" for ducks. It was like Pokemon Go meets a scavenger hunt! The ev
 ent was to encourage families to get outside, spend time with their childre
 n, discover new parks and support small businesses. The event was such a su
 ccess and blew up overnight!  </div><div> </div><div>This year the Durham D
 uck Hunt will be June 7-9th. We are aiming to reach 2000 ducks across the r
 egion which we can get to with 400 donated prizes (so the ratio is 1 in 5 b
 eing a winner). We are off to a great start so far with businesses wanting 
 to participate but we still have a huge goal ahead!</div><div> </div><div>B
 e on the look out for clues and ducks starting June 7th!</div>
CONTACT:Katie - This email address is being protected from spambots. You need JavaScript enabled to view it.
X-EXTRAINFO:Instagram @funfromamombun
DTSTAMP:20260422T070822
DTSTART;TZID=America/Toronto:20240607T100000
DTEND;TZID=America/Toronto:20240607T170000
SEQUENCE:0
TRANSP:OPAQUE
END:VEVENT
END:VCALENDAR