BEGIN:VCALENDAR
VERSION:2.0
PRODID:-//jEvents 2.0 for Joomla//EN
CALSCALE:GREGORIAN
METHOD:PUBLISH
BEGIN:VTIMEZONE
TZID:America/Toronto
BEGIN:STANDARD
DTSTART:20231105T010000
RDATE:20240310T030000
TZOFFSETFROM:-0400
TZOFFSETTO:-0500
TZNAME:America/Toronto EST
END:STANDARD
BEGIN:STANDARD
DTSTART:20241103T010000
RDATE:20250309T030000
TZOFFSETFROM:-0400
TZOFFSETTO:-0500
TZNAME:America/Toronto EST
END:STANDARD
BEGIN:STANDARD
DTSTART:20251102T010000
RDATE:20260308T030000
TZOFFSETFROM:-0400
TZOFFSETTO:-0500
TZNAME:America/Toronto EST
END:STANDARD
BEGIN:STANDARD
DTSTART:20261101T010000
RDATE:20270314T030000
TZOFFSETFROM:-0400
TZOFFSETTO:-0500
TZNAME:America/Toronto EST
END:STANDARD
BEGIN:STANDARD
DTSTART:20271107T010000
RDATE:20280312T030000
TZOFFSETFROM:-0400
TZOFFSETTO:-0500
TZNAME:America/Toronto EST
END:STANDARD
BEGIN:STANDARD
DTSTART:20281105T010000
RDATE:20290311T030000
TZOFFSETFROM:-0400
TZOFFSETTO:-0500
TZNAME:America/Toronto EST
END:STANDARD
BEGIN:STANDARD
DTSTART:20291104T010000
RDATE:20300310T030000
TZOFFSETFROM:-0400
TZOFFSETTO:-0500
TZNAME:America/Toronto EST
END:STANDARD
BEGIN:STANDARD
DTSTART:20301103T010000
RDATE:20310309T030000
TZOFFSETFROM:-0400
TZOFFSETTO:-0500
TZNAME:America/Toronto EST
END:STANDARD
BEGIN:STANDARD
DTSTART:20311102T010000
RDATE:20320314T030000
TZOFFSETFROM:-0400
TZOFFSETTO:-0500
TZNAME:America/Toronto EST
END:STANDARD
BEGIN:DAYLIGHT
DTSTART:20230621T140000
RDATE:20231105T010000
TZOFFSETFROM:-0500
TZOFFSETTO:-0400
TZNAME:America/Toronto EDT
END:DAYLIGHT
BEGIN:DAYLIGHT
DTSTART:20240310T030000
RDATE:20241103T010000
TZOFFSETFROM:-0500
TZOFFSETTO:-0400
TZNAME:America/Toronto EDT
END:DAYLIGHT
BEGIN:DAYLIGHT
DTSTART:20250309T030000
RDATE:20251102T010000
TZOFFSETFROM:-0500
TZOFFSETTO:-0400
TZNAME:America/Toronto EDT
END:DAYLIGHT
BEGIN:DAYLIGHT
DTSTART:20260308T030000
RDATE:20261101T010000
TZOFFSETFROM:-0500
TZOFFSETTO:-0400
TZNAME:America/Toronto EDT
END:DAYLIGHT
BEGIN:DAYLIGHT
DTSTART:20270314T030000
RDATE:20271107T010000
TZOFFSETFROM:-0500
TZOFFSETTO:-0400
TZNAME:America/Toronto EDT
END:DAYLIGHT
BEGIN:DAYLIGHT
DTSTART:20280312T030000
RDATE:20281105T010000
TZOFFSETFROM:-0500
TZOFFSETTO:-0400
TZNAME:America/Toronto EDT
END:DAYLIGHT
BEGIN:DAYLIGHT
DTSTART:20290311T030000
RDATE:20291104T010000
TZOFFSETFROM:-0500
TZOFFSETTO:-0400
TZNAME:America/Toronto EDT
END:DAYLIGHT
BEGIN:DAYLIGHT
DTSTART:20300310T030000
RDATE:20301103T010000
TZOFFSETFROM:-0500
TZOFFSETTO:-0400
TZNAME:America/Toronto EDT
END:DAYLIGHT
BEGIN:DAYLIGHT
DTSTART:20310309T030000
RDATE:20311102T010000
TZOFFSETFROM:-0500
TZOFFSETTO:-0400
TZNAME:America/Toronto EDT
END:DAYLIGHT
END:VTIMEZONE
BEGIN:VEVENT
UID:2e1bead7cc3074fdbf4881cecde4b8d5
CATEGORIES:Durham Events
CREATED:20240602T153737
SUMMARY:Orono Farmers Market  
LOCATION:Orono fairgrounds
DESCRIPTION:The Orono Farmers Market is back!  Opening day is Friday June 14th from 2-6
 pm.  We are located at the north end of the Orono Fairgrounds at the end of
  Centreview Street.  Come visit our truly local farmers market for the best
  produce, baked goods, handmade items and much more.  We will also have spe
 cial events including; food trucks, entertainment and kid approved fun.  Se
 e you then.\nWe plan to have weekly feature &amp; events for your enjoyment
 .  Here is Junes Events.\nFriday June 14th - Opening Day - Diana Stephenson
  will be serving up Pulled Pork Sandwiches and you get to make your own sau
 ce!\nFriday June 21st - Strawberry season kick off!  Make your own strawber
 ry jam.\nFriday June 28th - Kids Market - Kids marketplace, crafts, animal 
 visitors and much more!\nSee you there!\n
X-ALT-DESC;FMTTYPE=text/html:<p>The Orono Farmers Market is back!  Opening day is Friday June 14th from 
 2-6pm.  We are located at the north end of the Orono Fairgrounds at the end
  of Centreview Street.  Come visit our truly local farmers market for the b
 est produce, baked goods, handmade items and much more.  We will also have 
 special events including; food trucks, entertainment and kid approved fun. 
  See you then.</p><p>We plan to have weekly feature &amp; events for your e
 njoyment.  Here is Junes Events.</p><p>Friday June 14th - Opening Day - Dia
 na Stephenson will be serving up Pulled Pork Sandwiches and you get to make
  your own sauce!</p><p>Friday June 21st - Strawberry season kick off!  Make
  your own strawberry jam.</p><p>Friday June 28th - Kids Market - Kids marke
 tplace, crafts, animal visitors and much more!</p><p>See you there!</p>
CONTACT:Sam Kent
X-EXTRAINFO:Email: This email address is being protected from spambots. You need JavaSc
 ript enabled to view it.\n\nFor more details or if you would like to be a v
 endor.
DTSTAMP:20260422T090450
DTSTART;TZID=America/Toronto:20240621T140000
DTEND;TZID=America/Toronto:20240621T180000
SEQUENCE:0
TRANSP:OPAQUE
END:VEVENT
END:VCALENDAR