BEGIN:VCALENDAR
VERSION:2.0
PRODID:-//jEvents 2.0 for Joomla//EN
CALSCALE:GREGORIAN
METHOD:PUBLISH
BEGIN:VTIMEZONE
TZID:America/Toronto
BEGIN:STANDARD
DTSTART:20231105T010000
RDATE:20240310T030000
TZOFFSETFROM:-0400
TZOFFSETTO:-0500
TZNAME:America/Toronto EST
END:STANDARD
BEGIN:STANDARD
DTSTART:20241103T010000
RDATE:20250309T030000
TZOFFSETFROM:-0400
TZOFFSETTO:-0500
TZNAME:America/Toronto EST
END:STANDARD
BEGIN:STANDARD
DTSTART:20251102T010000
RDATE:20260308T030000
TZOFFSETFROM:-0400
TZOFFSETTO:-0500
TZNAME:America/Toronto EST
END:STANDARD
BEGIN:STANDARD
DTSTART:20261101T010000
RDATE:20270314T030000
TZOFFSETFROM:-0400
TZOFFSETTO:-0500
TZNAME:America/Toronto EST
END:STANDARD
BEGIN:STANDARD
DTSTART:20271107T010000
RDATE:20280312T030000
TZOFFSETFROM:-0400
TZOFFSETTO:-0500
TZNAME:America/Toronto EST
END:STANDARD
BEGIN:STANDARD
DTSTART:20281105T010000
RDATE:20290311T030000
TZOFFSETFROM:-0400
TZOFFSETTO:-0500
TZNAME:America/Toronto EST
END:STANDARD
BEGIN:STANDARD
DTSTART:20291104T010000
RDATE:20300310T030000
TZOFFSETFROM:-0400
TZOFFSETTO:-0500
TZNAME:America/Toronto EST
END:STANDARD
BEGIN:STANDARD
DTSTART:20301103T010000
RDATE:20310309T030000
TZOFFSETFROM:-0400
TZOFFSETTO:-0500
TZNAME:America/Toronto EST
END:STANDARD
BEGIN:STANDARD
DTSTART:20311102T010000
RDATE:20320314T030000
TZOFFSETFROM:-0400
TZOFFSETTO:-0500
TZNAME:America/Toronto EST
END:STANDARD
BEGIN:DAYLIGHT
DTSTART:20231026T190000
RDATE:20231105T010000
TZOFFSETFROM:-0500
TZOFFSETTO:-0400
TZNAME:America/Toronto EDT
END:DAYLIGHT
BEGIN:DAYLIGHT
DTSTART:20240310T030000
RDATE:20241103T010000
TZOFFSETFROM:-0500
TZOFFSETTO:-0400
TZNAME:America/Toronto EDT
END:DAYLIGHT
BEGIN:DAYLIGHT
DTSTART:20250309T030000
RDATE:20251102T010000
TZOFFSETFROM:-0500
TZOFFSETTO:-0400
TZNAME:America/Toronto EDT
END:DAYLIGHT
BEGIN:DAYLIGHT
DTSTART:20260308T030000
RDATE:20261101T010000
TZOFFSETFROM:-0500
TZOFFSETTO:-0400
TZNAME:America/Toronto EDT
END:DAYLIGHT
BEGIN:DAYLIGHT
DTSTART:20270314T030000
RDATE:20271107T010000
TZOFFSETFROM:-0500
TZOFFSETTO:-0400
TZNAME:America/Toronto EDT
END:DAYLIGHT
BEGIN:DAYLIGHT
DTSTART:20280312T030000
RDATE:20281105T010000
TZOFFSETFROM:-0500
TZOFFSETTO:-0400
TZNAME:America/Toronto EDT
END:DAYLIGHT
BEGIN:DAYLIGHT
DTSTART:20290311T030000
RDATE:20291104T010000
TZOFFSETFROM:-0500
TZOFFSETTO:-0400
TZNAME:America/Toronto EDT
END:DAYLIGHT
BEGIN:DAYLIGHT
DTSTART:20300310T030000
RDATE:20301103T010000
TZOFFSETFROM:-0500
TZOFFSETTO:-0400
TZNAME:America/Toronto EDT
END:DAYLIGHT
BEGIN:DAYLIGHT
DTSTART:20310309T030000
RDATE:20311102T010000
TZOFFSETFROM:-0500
TZOFFSETTO:-0400
TZNAME:America/Toronto EDT
END:DAYLIGHT
END:VTIMEZONE
BEGIN:VEVENT
UID:3ddac3073e1b4094bc408eeb14ad7166
CATEGORIES:Durham Events
CREATED:20241015T114026
SUMMARY:Scary Stories at the Museum
LOCATION:16210 island Rd\, Port Perry
DESCRIPTION:Come enjoy a little fright and a lot of fun as our guides escort you around
  the Scugog Shore Museum Village to hear humorous and scary tales of the su
 pernatural and macabre, including true stories of paranormal activities wit
 hin some of the museum’s own buildings. Walks are approximately 85 minutes 
 in length. There are 4 performances each evening with a maximum of 15 perso
 ns/group. Tours start at 7pm, 7:20pm, 7:40pm, and 8pm each night. Tickets a
 re $25/person and are available in advance only. Performances are recommend
 ed for ages 12 and up. *Please note – walks take place over uneven ground i
 n low lighting conditions.
X-ALT-DESC;FMTTYPE=text/html:<div class="xdj266r x11i5rnm xat24cr x1mh8g0r x1vvkbs">Come enjoy a little 
 fright and a lot of fun as our guides escort you around the Scugog Shore Mu
 seum Village to hear humorous and scary tales of the supernatural and macab
 re, including true stories of paranormal activities within some of the muse
 um’s own buildings.</div><div class="xdj266r x11i5rnm xat24cr x1mh8g0r x1vv
 kbs"> </div><div class="x11i5rnm xat24cr x1mh8g0r x1vvkbs xtlvy1s">Walks ar
 e approximately 85 minutes in length. There are 4 performances each evening
  with a maximum of 15 persons/group. Tours start at 7pm, 7:20pm, 7:40pm, an
 d 8pm each night.</div><div class="x11i5rnm xat24cr x1mh8g0r x1vvkbs xtlvy1
 s"> </div><div class="x11i5rnm xat24cr x1mh8g0r x1vvkbs xtlvy1s">Tickets ar
 e $25/person and are available in advance only.</div><div class="x11i5rnm x
 at24cr x1mh8g0r x1vvkbs xtlvy1s"> </div><div class="x11i5rnm xat24cr x1mh8g
 0r x1vvkbs xtlvy1s">Performances are recommended for ages 12 and up. *Pleas
 e note – walks take place over uneven ground in low lighting conditions.</d
 iv>
CONTACT:This email address is being protected from spambots. You need JavaScript enabled to view it.
X-EXTRAINFO:Tickets are through Theatre on the Ridge https://theatreontheridge.ca/scary
 -stories-2024/
DTSTAMP:20260422T172332
DTSTART;TZID=America/Toronto:20241026T190000
DTEND;TZID=America/Toronto:20241026T210000
SEQUENCE:0
TRANSP:OPAQUE
END:VEVENT
END:VCALENDAR