BEGIN:VCALENDAR
VERSION:2.0
PRODID:-//jEvents 2.0 for Joomla//EN
CALSCALE:GREGORIAN
METHOD:PUBLISH
BEGIN:VTIMEZONE
TZID:America/Toronto
BEGIN:STANDARD
DTSTART:20241103T010000
RDATE:20250309T030000
TZOFFSETFROM:-0400
TZOFFSETTO:-0500
TZNAME:America/Toronto EST
END:STANDARD
BEGIN:STANDARD
DTSTART:20251102T010000
RDATE:20260308T030000
TZOFFSETFROM:-0400
TZOFFSETTO:-0500
TZNAME:America/Toronto EST
END:STANDARD
BEGIN:STANDARD
DTSTART:20261101T010000
RDATE:20270314T030000
TZOFFSETFROM:-0400
TZOFFSETTO:-0500
TZNAME:America/Toronto EST
END:STANDARD
BEGIN:STANDARD
DTSTART:20271107T010000
RDATE:20280312T030000
TZOFFSETFROM:-0400
TZOFFSETTO:-0500
TZNAME:America/Toronto EST
END:STANDARD
BEGIN:STANDARD
DTSTART:20281105T010000
RDATE:20290311T030000
TZOFFSETFROM:-0400
TZOFFSETTO:-0500
TZNAME:America/Toronto EST
END:STANDARD
BEGIN:STANDARD
DTSTART:20291104T010000
RDATE:20300310T030000
TZOFFSETFROM:-0400
TZOFFSETTO:-0500
TZNAME:America/Toronto EST
END:STANDARD
BEGIN:STANDARD
DTSTART:20301103T010000
RDATE:20310309T030000
TZOFFSETFROM:-0400
TZOFFSETTO:-0500
TZNAME:America/Toronto EST
END:STANDARD
BEGIN:STANDARD
DTSTART:20311102T010000
RDATE:20320314T030000
TZOFFSETFROM:-0400
TZOFFSETTO:-0500
TZNAME:America/Toronto EST
END:STANDARD
BEGIN:DAYLIGHT
DTSTART:20240417T080000
RDATE:20241103T010000
TZOFFSETFROM:-0500
TZOFFSETTO:-0400
TZNAME:America/Toronto EDT
END:DAYLIGHT
BEGIN:DAYLIGHT
DTSTART:20250309T030000
RDATE:20251102T010000
TZOFFSETFROM:-0500
TZOFFSETTO:-0400
TZNAME:America/Toronto EDT
END:DAYLIGHT
BEGIN:DAYLIGHT
DTSTART:20260308T030000
RDATE:20261101T010000
TZOFFSETFROM:-0500
TZOFFSETTO:-0400
TZNAME:America/Toronto EDT
END:DAYLIGHT
BEGIN:DAYLIGHT
DTSTART:20270314T030000
RDATE:20271107T010000
TZOFFSETFROM:-0500
TZOFFSETTO:-0400
TZNAME:America/Toronto EDT
END:DAYLIGHT
BEGIN:DAYLIGHT
DTSTART:20280312T030000
RDATE:20281105T010000
TZOFFSETFROM:-0500
TZOFFSETTO:-0400
TZNAME:America/Toronto EDT
END:DAYLIGHT
BEGIN:DAYLIGHT
DTSTART:20290311T030000
RDATE:20291104T010000
TZOFFSETFROM:-0500
TZOFFSETTO:-0400
TZNAME:America/Toronto EDT
END:DAYLIGHT
BEGIN:DAYLIGHT
DTSTART:20300310T030000
RDATE:20301103T010000
TZOFFSETFROM:-0500
TZOFFSETTO:-0400
TZNAME:America/Toronto EDT
END:DAYLIGHT
BEGIN:DAYLIGHT
DTSTART:20310309T030000
RDATE:20311102T010000
TZOFFSETFROM:-0500
TZOFFSETTO:-0400
TZNAME:America/Toronto EDT
END:DAYLIGHT
END:VTIMEZONE
BEGIN:VEVENT
UID:78cc338534ccf3bd6a5023faf3490165
CATEGORIES:Durham Events
CREATED:20250417T203925
SUMMARY:Skae’s Corner - Mural of the Week
LOCATION:14 Simcoe Street S\, Oshawa
DESCRIPTION:The Mural of the Week is Skae’s CornerApril 17-April 24JR Hunter, Matt Whel
 an, Erin Hackney, Ian Mitchell and Mile Wystoski ~ Artists14 Simcoe Street 
 S. (Carriageway), Oshawa, ON L1H 4G2
X-ALT-DESC;FMTTYPE=text/html:<div class="xdj266r x11i5rnm xat24cr x1mh8g0r x1vvkbs x126k92a"><div dir="a
 uto">The Mural of the Week is Skae’s Corner</div></div><div class="x11i5rnm
  xat24cr x1mh8g0r x1vvkbs xtlvy1s x126k92a"><div dir="auto">April 17-April 
 24</div></div><div class="x11i5rnm xat24cr x1mh8g0r x1vvkbs xtlvy1s x126k92
 a"><div dir="auto">JR Hunter, Matt Whelan, Erin Hackney, Ian Mitchell and M
 ile Wystoski ~ Artists</div></div><div class="x11i5rnm xat24cr x1mh8g0r x1v
 vkbs xtlvy1s x126k92a"><div dir="auto">14 Simcoe Street S. (Carriageway), O
 shawa, ON L1H 4G2</div></div>
CONTACT:Oshawa Art Association 
X-EXTRAINFO:To learn more about this and other downtown murals \nhttps://www.oshawaarta
 ssociation.com/murals\nonline map: https://tinyurl.com/3ktkvbzu 
DTSTAMP:20260421T142229
DTSTART;TZID=America/Toronto:20250418T080000
DTEND;TZID=America/Toronto:20250418T200000
SEQUENCE:0
TRANSP:OPAQUE
END:VEVENT
END:VCALENDAR