BEGIN:VCALENDAR
VERSION:2.0
PRODID:-//jEvents 2.0 for Joomla//EN
CALSCALE:GREGORIAN
METHOD:PUBLISH
BEGIN:VTIMEZONE
TZID:America/Toronto
BEGIN:STANDARD
DTSTART:20241103T010000
RDATE:20250309T030000
TZOFFSETFROM:-0400
TZOFFSETTO:-0500
TZNAME:America/Toronto EST
END:STANDARD
BEGIN:STANDARD
DTSTART:20251102T010000
RDATE:20260308T030000
TZOFFSETFROM:-0400
TZOFFSETTO:-0500
TZNAME:America/Toronto EST
END:STANDARD
BEGIN:STANDARD
DTSTART:20261101T010000
RDATE:20270314T030000
TZOFFSETFROM:-0400
TZOFFSETTO:-0500
TZNAME:America/Toronto EST
END:STANDARD
BEGIN:STANDARD
DTSTART:20271107T010000
RDATE:20280312T030000
TZOFFSETFROM:-0400
TZOFFSETTO:-0500
TZNAME:America/Toronto EST
END:STANDARD
BEGIN:STANDARD
DTSTART:20281105T010000
RDATE:20290311T030000
TZOFFSETFROM:-0400
TZOFFSETTO:-0500
TZNAME:America/Toronto EST
END:STANDARD
BEGIN:STANDARD
DTSTART:20291104T010000
RDATE:20300310T030000
TZOFFSETFROM:-0400
TZOFFSETTO:-0500
TZNAME:America/Toronto EST
END:STANDARD
BEGIN:STANDARD
DTSTART:20301103T010000
RDATE:20310309T030000
TZOFFSETFROM:-0400
TZOFFSETTO:-0500
TZNAME:America/Toronto EST
END:STANDARD
BEGIN:STANDARD
DTSTART:20311102T010000
RDATE:20320314T030000
TZOFFSETFROM:-0400
TZOFFSETTO:-0500
TZNAME:America/Toronto EST
END:STANDARD
BEGIN:DAYLIGHT
DTSTART:20240430T080000
RDATE:20241103T010000
TZOFFSETFROM:-0500
TZOFFSETTO:-0400
TZNAME:America/Toronto EDT
END:DAYLIGHT
BEGIN:DAYLIGHT
DTSTART:20250309T030000
RDATE:20251102T010000
TZOFFSETFROM:-0500
TZOFFSETTO:-0400
TZNAME:America/Toronto EDT
END:DAYLIGHT
BEGIN:DAYLIGHT
DTSTART:20260308T030000
RDATE:20261101T010000
TZOFFSETFROM:-0500
TZOFFSETTO:-0400
TZNAME:America/Toronto EDT
END:DAYLIGHT
BEGIN:DAYLIGHT
DTSTART:20270314T030000
RDATE:20271107T010000
TZOFFSETFROM:-0500
TZOFFSETTO:-0400
TZNAME:America/Toronto EDT
END:DAYLIGHT
BEGIN:DAYLIGHT
DTSTART:20280312T030000
RDATE:20281105T010000
TZOFFSETFROM:-0500
TZOFFSETTO:-0400
TZNAME:America/Toronto EDT
END:DAYLIGHT
BEGIN:DAYLIGHT
DTSTART:20290311T030000
RDATE:20291104T010000
TZOFFSETFROM:-0500
TZOFFSETTO:-0400
TZNAME:America/Toronto EDT
END:DAYLIGHT
BEGIN:DAYLIGHT
DTSTART:20300310T030000
RDATE:20301103T010000
TZOFFSETFROM:-0500
TZOFFSETTO:-0400
TZNAME:America/Toronto EDT
END:DAYLIGHT
BEGIN:DAYLIGHT
DTSTART:20310309T030000
RDATE:20311102T010000
TZOFFSETFROM:-0500
TZOFFSETTO:-0400
TZNAME:America/Toronto EDT
END:DAYLIGHT
END:VTIMEZONE
BEGIN:VEVENT
UID:f8b86858e0aec37c0c01775c6284ccdf
CATEGORIES:Durham Events
CREATED:20250422T153630
SUMMARY:Group Portrait ~ Oshawa Mural Walk
LOCATION:The Robert McLaughlin Gallery
DESCRIPTION:The Artform of the Week is Group Portrait by Douglas Coupland ~ Sculptor\nA
 pril 24 to May 1\nThe Robert McLaughlin Gallery72 Queen Street, Oshawa, ON\
 nCoupland took Peter Croydon’s 1957 group portrait of The Painters Eleven, 
 and used it as a framework to place abstract forms that represent each memb
 er. These forms and their colours are derived from a key piece of each of t
 he eleven members’ works in the Gallery’s collection. \nBe sure to allow ti
 me to visit the gallery to see current exhibitions: Painters Eleven: Abstra
 ct Bonds continuing at the RMG until August 24 and Oshawa Art Association's
  57th Juried Art Exhibition ~ May 1 to 18\nWe are sure that as you wander a
 round downtown Oshawa's Heritage District, you will find some tasty spots f
 or a coffee or lunch, tell them you found them while on the walk.\nShare yo
 ur photo with this artform on your social media and tag us @OshawaArtAssoci
 ation | @rmgoshawa for a chance to win a copy of HAROLD TOWN by Iris Nowell
  and a complimentary RMG membership  Random draw May 2, 2025.The RMG is ope
 n Tuesday to Sunday, from 10 am to 4 pm (free parking on the weekends). Fro
 m the Durham College Oshawa GO Station, take bus 56 to Simcoe S &amp; Athol
  E (return Centre S &amp; Athol W to Durham College Oshawa GO Station. http
 s://www.durhamregiontransit.com/\nTo learn more about this and other downto
 wn murals and art formshttps://www.oshawaartassociation.com/muralshttps://w
 ww.instagram.com/oshawa.art.association/online map: https://tinyurl.com/3kt
 kvbzu\n
X-ALT-DESC;FMTTYPE=text/html:<p>The Artform of the Week is Group Portrait by Douglas Coupland ~ Sculptor
 <br />April 24 to May 1<br />The Robert McLaughlin Gallery72 Queen Street, 
 Oshawa, ON</p><p>Coupland took Peter Croydon’s 1957 group portrait of The P
 ainters Eleven, and used it as a framework to place abstract forms that rep
 resent each member. These forms and their colours are derived from a key pi
 ece of each of the eleven members’ works in the Gallery’s collection. </p><
 p>Be sure to allow time to visit the gallery to see current exhibitions: Pa
 inters Eleven: Abstract Bonds continuing at the RMG until August 24 and Osh
 awa Art Association's 57th Juried Art Exhibition ~ May 1 to 18</p><p>We are
  sure that as you wander around downtown Oshawa's Heritage District, you wi
 ll find some tasty spots for a coffee or lunch, tell them you found them wh
 ile on the walk.</p><p>Share your photo with this artform on your social me
 dia and tag us @OshawaArtAssociation | @rmgoshawa for a chance to win a cop
 y of HAROLD TOWN by Iris Nowell and a complimentary RMG membership  Random 
 draw May 2, 2025.The RMG is open Tuesday to Sunday, from 10 am to 4 pm (fre
 e parking on the weekends). From the Durham College Oshawa GO Station, take
  bus 56 to Simcoe S &amp; Athol E (return Centre S &amp; Athol W to Durham 
 College Oshawa GO Station. https://www.durhamregiontransit.com/</p><p>To le
 arn more about this and other downtown murals and art formshttps://www.osha
 waartassociation.com/muralshttps://www.instagram.com/oshawa.art.association
 /online map: https://tinyurl.com/3ktkvbzu</p>
CONTACT:This email address is being protected from spambots. You need JavaScript enabled to view it.
DTSTAMP:20260421T155831
DTSTART;TZID=America/Toronto:20250501T080000
DTEND;TZID=America/Toronto:20250501T170000
SEQUENCE:0
TRANSP:OPAQUE
END:VEVENT
END:VCALENDAR