BEGIN:VCALENDAR
VERSION:2.0
PRODID:-//jEvents 2.0 for Joomla//EN
CALSCALE:GREGORIAN
METHOD:PUBLISH
BEGIN:VTIMEZONE
TZID:America/Toronto
BEGIN:STANDARD
DTSTART:20241103T010000
RDATE:20250309T030000
TZOFFSETFROM:-0400
TZOFFSETTO:-0500
TZNAME:America/Toronto EST
END:STANDARD
BEGIN:STANDARD
DTSTART:20251102T010000
RDATE:20260308T030000
TZOFFSETFROM:-0400
TZOFFSETTO:-0500
TZNAME:America/Toronto EST
END:STANDARD
BEGIN:STANDARD
DTSTART:20261101T010000
RDATE:20270314T030000
TZOFFSETFROM:-0400
TZOFFSETTO:-0500
TZNAME:America/Toronto EST
END:STANDARD
BEGIN:STANDARD
DTSTART:20271107T010000
RDATE:20280312T030000
TZOFFSETFROM:-0400
TZOFFSETTO:-0500
TZNAME:America/Toronto EST
END:STANDARD
BEGIN:STANDARD
DTSTART:20281105T010000
RDATE:20290311T030000
TZOFFSETFROM:-0400
TZOFFSETTO:-0500
TZNAME:America/Toronto EST
END:STANDARD
BEGIN:STANDARD
DTSTART:20291104T010000
RDATE:20300310T030000
TZOFFSETFROM:-0400
TZOFFSETTO:-0500
TZNAME:America/Toronto EST
END:STANDARD
BEGIN:STANDARD
DTSTART:20301103T010000
RDATE:20310309T030000
TZOFFSETFROM:-0400
TZOFFSETTO:-0500
TZNAME:America/Toronto EST
END:STANDARD
BEGIN:STANDARD
DTSTART:20311102T010000
RDATE:20320314T030000
TZOFFSETFROM:-0400
TZOFFSETTO:-0500
TZNAME:America/Toronto EST
END:STANDARD
BEGIN:DAYLIGHT
DTSTART:20240502T080000
RDATE:20241103T010000
TZOFFSETFROM:-0500
TZOFFSETTO:-0400
TZNAME:America/Toronto EDT
END:DAYLIGHT
BEGIN:DAYLIGHT
DTSTART:20250309T030000
RDATE:20251102T010000
TZOFFSETFROM:-0500
TZOFFSETTO:-0400
TZNAME:America/Toronto EDT
END:DAYLIGHT
BEGIN:DAYLIGHT
DTSTART:20260308T030000
RDATE:20261101T010000
TZOFFSETFROM:-0500
TZOFFSETTO:-0400
TZNAME:America/Toronto EDT
END:DAYLIGHT
BEGIN:DAYLIGHT
DTSTART:20270314T030000
RDATE:20271107T010000
TZOFFSETFROM:-0500
TZOFFSETTO:-0400
TZNAME:America/Toronto EDT
END:DAYLIGHT
BEGIN:DAYLIGHT
DTSTART:20280312T030000
RDATE:20281105T010000
TZOFFSETFROM:-0500
TZOFFSETTO:-0400
TZNAME:America/Toronto EDT
END:DAYLIGHT
BEGIN:DAYLIGHT
DTSTART:20290311T030000
RDATE:20291104T010000
TZOFFSETFROM:-0500
TZOFFSETTO:-0400
TZNAME:America/Toronto EDT
END:DAYLIGHT
BEGIN:DAYLIGHT
DTSTART:20300310T030000
RDATE:20301103T010000
TZOFFSETFROM:-0500
TZOFFSETTO:-0400
TZNAME:America/Toronto EDT
END:DAYLIGHT
BEGIN:DAYLIGHT
DTSTART:20310309T030000
RDATE:20311102T010000
TZOFFSETFROM:-0500
TZOFFSETTO:-0400
TZNAME:America/Toronto EDT
END:DAYLIGHT
END:VTIMEZONE
BEGIN:VEVENT
UID:606c2b293477c1abee383664e8b2ec72
CATEGORIES:Durham Events
CREATED:20250430T135853
SUMMARY:WIN a $50 Gift Certificate with the The Human Rights Mural
LOCATION:Civic Square\, 50 Centre St.\, Oshawa
DESCRIPTION:WIN a $50 Gift Certificate \nJust share your photo with the The Human Right
 s Mural\nCivic Square, 50 Centre St., Oshawa\nIn 2017, the City of Oshawa a
 nd Teaching City partner, Durham College, asked the Oshawa community to des
 cribe what human rights meant to them. The result is this collaborative pie
 ce, designed by 16 Fine Art students.\nShare your photo with this art on yo
 ur social media and tag us @OshawaArtAssociation or @Oshawa.Art.Association
  for a chance to win a $50 Gift Certificate towards the purchase of an artw
 ork of your choice at the OAA 2025 Spring Art Festival ~ May 10 &amp; 11 at
  Camp Samac (275 Conlin Rd E, Oshawa). \nRandom draw to be held May 9 (no c
 ash value).\nTo learn more about this and other downtown murals check out h
 ttps://www.oshawaartassociation.com/murals and our online map https://tinyu
 rl.com/3ktkvbzu\n
X-ALT-DESC;FMTTYPE=text/html:<h2>WIN a $50 Gift Certificate&nbsp;</h2><p><br />Just share your photo wit
 h the <em>The Human Rights</em> Mural<br />Civic Square, 50 Centre St., Osh
 awa</p><p>In 2017, the City of Oshawa and Teaching City partner, Durham Col
 lege, asked the Oshawa community to describe what human rights meant to the
 m. The result is this collaborative piece, designed by 16 Fine Art students
 .</p><p>Share your photo with this art on your social media and tag us @Osh
 awaArtAssociation or @Oshawa.Art.Association for a chance to win a $50 Gift
  Certificate towards the purchase of an artwork of your choice at the OAA 2
 025 Spring Art Festival ~ May 10 &amp; 11 at Camp Samac (275 Conlin Rd E, O
 shawa).&nbsp;</p><p>Random draw to be held May 9 (no cash value).<br />To l
 earn more about this and other downtown murals check out https://www.oshawa
 artassociation.com/murals and our online map https://tinyurl.com/3ktkvbzu</
 p>
CONTACT:This email address is being protected from spambots. You need JavaScript enabled to view it.
X-EXTRAINFO:Map to murals https://tinyurl.com/3ktkvbzu
DTSTAMP:20260421T155845
DTSTART;TZID=America/Toronto:20250503T080000
DTEND;TZID=America/Toronto:20250503T200000
SEQUENCE:0
TRANSP:OPAQUE
END:VEVENT
END:VCALENDAR